Workbook
Name F_statistic: '38. Compare Models'!$F$8
Name k__Unrestricted: '38. Compare Models'!$F$7
Name N__Unrestricted: '38. Compare Models'!$F$6
Name NIR: '38. Compare Models'!$F$5
Name SSResidual__Restricted: '38. Compare Models'!$F$3
Name SSResidual__Unrestricted: '38. Compare Models'!$F$4

Sheet Intro

Sheet A. Linear Equation Definitions

Sheet B. Graphing Lines
I1: Hours Studied | J1: Test Score
I2: 0 | J2: =50+10*I2 -> 50 | K2: =50+10*Hours Studied
I3: 1 | J3: =50+10*I3 -> 60
I4: 2 | J4: =50+10*I4 -> 70
I5: 3 | J5: =50+10*I5 -> 80
I6: 4 | J6: =50+10*I6 -> 90
I7: 5 | J7: =50+10*I7 -> 100

Sheet Quiz 1

Sheet 1. Linear Demand Concept
A1: Date | B1: Quantity | C1: Price
A2: 40179 | B2: 17 | C2: 11
A3: 40210 | B3: 18 | C3: 9
A4: 40238 | B4: 20 | C4: 6
A5: 40269 | B5: 16 | C5: 13
A6: 40299 | B6: 12 | C6: 17
A7: 40330 | B7: 20 | C7: 9
A8: 40360 | B8: 18 | C8: 9
A9: 40391 | B9: 18 | C9: 7
A10: 40422 | B10: 17 | C10: 11
A11: 40452 | B11: 12 | C11: 16
A12: 40483 | B12: 11 | C12: 15
A13: 40513 | B13: 13 | C13: 14
... A32: 41091 | B32: 18 | C32: 9

Sheet 2. Linear Demand Regression
A1: Date | B1: Quantity | C1: Price
A2: 40179 | B2: 17 | C2: 11
A3: 40210 | B3: 18 | C3: 9
A4: 40238 | B4: 20 | C4: 6
A5: 40269 | B5: 16 | C5: 13
A6: 40299 | B6: 12 | C6: 17
A7: 40330 | B7: 20 | C7: 9
A8: 40360 | B8: 18 | C8: 9
A9: 40391 | B9: 18 | C9: 7
A10: 40422 | B10: 17 | C10: 11
A11: 40452 | B11: 12 | C11: 16
A12: 40483 | B12: 11 | C12: 15
A13: 40513 | B13: 13 | C13: 14
... A32: 41091 | B32: 18 | C32: 9

Sheet 3. Regression Report
A1: SUMMARY OUTPUT
A3: Regression Statistics
A4: Multiple R | B4: 0.95330213
A5: R Square | B5: 0.90878494
A6: Adjusted R Square | B6: 0.9056396
A7: Standard Error | B7: 1.0460281
A8: Observations | B8: 31
A10: ANOVA
B11: df | C11: SS | D11: MS | E11: F | F11: Significance F
A12: Regression | B12: 1 | C12: 316.1399 | D12: 316.1399 | E12: 288.92997 | F12: 1.2803722e-16
A13: Residual | B13: 29 | C13: 31.73107 | D13: 1.0941748
A14: Total | B14: 30 | C14: 347.87097
B16: Coefficients | C16: Standard Error | D16: t Stat | E16: P-value | F16: Lower 95% | G16: Upper 95% | H16: Lower 95.0% | I16: Upper 95.0%
A17: Intercept | B17: 25.554537 | C17: 0.64509796 | D17: 39.613421 | E17: 8.370359e-27 | F17: 24.235164 | G17: 26.873911 | H17: 24.235164 | I17: 26.873911
A18: Price | B18: -0.85802284 | C18: 0.050478048 | D18: -16.99794 | E18: 1.2803722e-16 | F18: -0.96126204 | G18: -0.75478364 | H18: -0.96126204 | I18: -0.75478364
A22: RESIDUAL OUTPUT
A24: Observation | B24: Predicted Quantity | C24: Residuals | D24: Standard Residuals
A25: 1 | B25: 16.116286 | C25: 0.88371394 | D25: 0.85927065
A26: 2 | B26: 17.832332 | C26: 0.16766827 | D26: 0.16303061
A27: 3 | B27: 20.4064 | C27: -0.40640024 | D27: -0.39515932
A28: 4 | B28: 14.40024 | C28: 1.5997596 | D28: 1.5555107
A29: 5 | B29: 10.968149 | C29: 1.031851 | D29: 1.0033102
A30: 6 | B30: 17.832332 | C30: 2.1676683 | D30: 2.1077111
A31: 7 | B31: 17.832332 | C31: 0.16766827 | D31: 0.16303061
A32: 8 | B32: 19.548377 | C32: -1.5483774 | D32: -1.5055497
A33: 9 | B33: 16.116286 | C33: 0.88371394 | D33: 0.85927065
A34: 10 | B34: 11.826172 | C34: 0.17382812 | D34: 0.16902009
A35: 11 | B35: 12.684195 | C35: -1.6841947 | D35: -1.6376103
A36: 12 | B36: 13.542218 | C36: -0.54221755 | D36: -0.52721995
... A55: 31 | B55: 17.832332 | C55: 0.16766827 | D55: 0.16303061

Sheet 4. Visual
A1: Date | B1: Quantity | C1: Price | D1: Predicted Quantity
A2: 40179 | B2: 17 | C2: 11 | D2: 16.116286
A3: 40210 | B3: 18 | C3: 9 | D3: 17.832332
A4: 40238 | B4: 20 | C4: 6 | D4: 20.4064
A5: 40269 | B5: 16 | C5: 13 | D5: 14.40024
A6: 40299 | B6: 12 | C6: 17 | D6: 10.968149
A7: 40330 | B7: 20 | C7: 9 | D7: 17.832332
A8: 40360 | B8: 18 | C8: 9 | D8: 17.832332
A9: 40391 | B9: 18 | C9: 7 | D9: 19.548377
A10: 40422 | B10: 17 | C10: 11 | D10: 16.116286
A11: 40452 | B11: 12 | C11: 16 | D11: 11.826172
A12: 40483 | B12: 11 | C12: 15 | D12: 12.684195
A13: 40513 | B13: 13 | C13: 14 | D13: 13.542218
... A32: 41091 | B32: 18 | C32: 9 | D32: 17.832332

Sheet Quiz 2
A1: Date | B1: P_Yours | C1: P_Competitor | D1: Quantity
A2: 40179 | B2: 22 | C2: 14 | D2: 79
A3: 40210 | B3: 17 | C3: 17 | D3: 95
A4: 40238 | B4: 13 | C4: 13 | D4: 94
A5: 40269 | B5: 13 | C5: 13 | D5: 94
A6: 40299 | B6: 21 | C6: 14 | D6: 79
A7: 40330 | B7: 17 | C7: 20 | D7: 96
A8: 40360 | B8: 14 | C8: 14 | D8: 96
A9: 40391 | B9: 15 | C9: 17 | D9: 97
A10: 40422 | B10: 18 | C10: 16 | D10: 91
A11: 40452 | B11: 13 | C11: 12 | D11: 97
A12: 40483 | B12: 17 | C12: 18 | D12: 92
A13: 40513 | B13: 15 | C13: 12 | D13: 92
... A37: 41244 | B37: 12 | C37: 10 | D37: 95

Sheet 5. Nonlinear Demand
A1: Date | B1: Quantity | C1: Price
A2: 40179 | B2: 49 | C2: 15
A3: 40210 | B3: 55 | C3: 14
A4: 40238 | B4: 17 | C4: 25
A5: 40269 | B5: 14 | C5: 27
A6: 40299 | B6: 13 | C6: 28
A7: 40330 | B7: 15 | C7: 26
A8: 40360 | B8: 21 | C8: 22
A9: 40391 | B9: 71 | C9: 12
A10: 40422 | B10: 30 | C10: 19
A11: 40452 | B11: 32 | C11: 18
A12: 40483 | B12: 12 | C12: 29
A13: 40513 | B13: 85 | C13: 11
... A37: 41244 | B37: 108 | C37: 10

Sheet 6. Straight Up Regression
A1: SUMMARY OUTPUT
A3: Regression Statistics
A4: Multiple R | B4: 0.9079643
A5: R Square | B5: 0.82439918
A6: Adjusted R Square | B6: 0.81923445
A7: Standard Error | B7: 13.527813
A8: Observations | B8: 36
A10: ANOVA
B11: df | C11: SS | D11: MS | E11: F | F11: Significance F
A12: Regression | B12: 1 | C12: 29210.913 | D12: 29210.913 | E12: 159.62096 | F12: 2.1347909e-14
A13: Residual | B13: 34 | C13: 6222.0591 | D13: 183.00174
A14: Total | B14: 35 | C14: 35432.972
B16: Coefficients | C16: Standard Error | D16: t Stat | E16: P-value | F16: Lower 95% | G16: Upper 95% | H16: Lower 95.0% | I16: Upper 95.0%
A17: Intercept | B17: 128.6801 | C17: 7.2196761 | D17: 17.823528 | E17: 8.0255481e-19 | F17: 114.00795 | G17: 143.35224 | H17: 114.00795 | I17: 143.35224
A18: Price | B18: -4.5407329 | C18: 0.35940242 | D18: -12.634119 | E18: 2.1347909e-14 | F18: -5.2711265 | G18: -3.8103393 | H18: -5.2711265 | I18: -3.8103393
A22: RESIDUAL OUTPUT
A24: Observation | B24: Predicted Quantity | C24: Residuals | D24: Standard Residuals
A25: 1 | B25: 60.569104 | C25: -11.569104 | D25: -0.86769416
A26: 2 | B26: 65.109837 | C26: -10.109837 | D26: -0.75824769
A27: 3 | B27: 15.161775 | C27: 1.8382252 | D27: 0.1378687
A28: 4 | B28: 6.080309 | C28: 7.919691 | D28: 0.59398461
A29: 5 | B29: 1.5395761 | C29: 11.460424 | D29: 0.85954306
A30: 6 | B30: 10.621042 | C30: 4.3789581 | D30: 0.32842616
A31: 7 | B31: 28.783973 | C31: -7.7839735 | D31: -0.58380566
A32: 8 | B32: 74.191302 | C32: -3.1913025 | D32: -0.23935082
A33: 9 | B33: 42.406172 | C33: -12.406172 | D33: -0.93047511
A34: 10 | B34: 46.946905 | C34: -14.946905 | D34: -1.1210326
A35: 11 | B35: -3.0011568 | C35: 15.001157 | D35: 1.1251015
A36: 12 | B36: 78.732035 | C36: 6.2679646 | D36: 0.47010351
... A60: 36 | B60: 83.272768 | C60: 24.727232 | D60: 1.8545667

Sheet 7. SUR Results
A1: Date | B1: Quantity | C1: Price | D1: Predicted Quantity
A2: 40179 | B2: 49 | C2: 15 | D2: 60.569104
A3: 40210 | B3: 55 | C3: 14 | D3: 65.109837
A4: 40238 | B4: 17 | C4: 25 | D4: 15.161775
A5: 40269 | B5: 14 | C5: 27 | D5: 6.080309
A6: 40299 | B6: 13 | C6: 28 | D6: 1.5395761
A7: 40330 | B7: 15 | C7: 26 | D7: 10.621042
A8: 40360 | B8: 21 | C8: 22 | D8: 28.783973
A9: 40391 | B9: 71 | C9: 12 | D9: 74.191302
A10: 40422 | B10: 30 | C10: 19 | D10: 42.406172
A11: 40452 | B11: 32 | C11: 18 | D11: 46.946905
A12: 40483 | B12: 12 | C12: 29 | D12: -3.0011568
A13: 40513 | B13: 85 | C13: 11 | D13: 78.732035
... A37: 41244 | B37: 108 | C37: 10 | D37: 83.272768

Sheet 8. Transform the Variables
A1: Date | B1: Quantity | C1: Price | E1: Ln(Quantity) | F1: Ln(Price)
A2: 40179 | B2: 49 | C2: 15 | E2: =LN(B2) -> 3.8918203 | F2: =LN(C2) -> 2.7080502
A3: 40210 | B3: 55 | C3: 14 | E3: =LN(B3) -> 4.0073332 | F3: =LN(C3) -> 2.6390573
A4: 40238 | B4: 17 | C4: 25 | E4: =LN(B4) -> 2.8332133 | F4: =LN(C4) -> 3.2188758
A5: 40269 | B5: 14 | C5: 27 | E5: =LN(B5) -> 2.6390573 | F5: =LN(C5) -> 3.2958369
A6: 40299 | B6: 13 | C6: 28 | E6: =LN(B6) -> 2.5649494 | F6: =LN(C6) -> 3.3322045
A7: 40330 | B7: 15 | C7: 26 | E7: =LN(B7) -> 2.7080502 | F7: =LN(C7) -> 3.2580965
A8: 40360 | B8: 21 | C8: 22 | E8: =LN(B8) -> 3.0445224 | F8: =LN(C8) -> 3.0910425
A9: 40391 | B9: 71 | C9: 12 | E9: =LN(B9) -> 4.2626799 | F9: =LN(C9) -> 2.4849066
A10: 40422 | B10: 30 | C10: 19 | E10: =LN(B10) -> 3.4011974 | F10: =LN(C10) -> 2.944439
A11: 40452 | B11: 32 | C11: 18 | E11: =LN(B11) -> 3.4657359 | F11: =LN(C11) -> 2.8903718
A12: 40483 | B12: 12 | C12: 29 | E12: =LN(B12) -> 2.4849066 | F12: =LN(C12) -> 3.3672958
A13: 40513 | B13: 85 | C13: 11 | E13: =LN(B13) -> 4.4426513 | F13: =LN(C13) -> 2.3978953
... A37: 41244 | B37: 108 | C37: 10 | E37: =LN(B37) -> 4.6821312 | F37: =LN(C37) -> 2.3025851

Sheet 9. Ln Regression Report
A1: SUMMARY OUTPUT
A3: Regression Statistics
A4: Multiple R | B4: 0.99911973
A5: R Square | B5: 0.99824023
A6: Adjusted R Square | B6: 0.99818847
A7: Standard Error | B7: 0.030660992
A8: Observations | B8: 36
A10: ANOVA
B11: df | C11: SS | D11: MS | E11: F | F11: Significance F
A12: Regression | B12: 1 | C12: 18.131337 | D12: 18.131337 | E12: 19286.678 | F12: 2.023627e-48
A13: Residual | B13: 34 | C13: 0.031963279 | D13: 0.00094009645 | P13: =LN(20) -> 2.9957323 | Q13: Ln (Price)
A14: Total | B14: 35 | C14: 18.1633
P15: =B17+B18*P13 -> 3.2667631 | Q15: Ln (Q)
B16: Coefficients | C16: Standard Error | D16: t Stat | E16: P-value | F16: Lower 95% | G16: Upper 95% | H16: Lower 95.0% | I16: Upper 95.0%
A17: Intercept | B17: 9.2813572 | C17: 0.042084476 | D17: 220.54112 | E17: 3.0513225e-55 | F17: 9.1958313 | G17: 9.3668832 | H17: 9.1958313 | I17: 9.3668832 | P17: =EXP(P15) -> 26.226309 | Q17: Q
A18: Ln(Price) | B18: -2.0077209 | C18: 0.014456881 | D18: -138.87648 | E18: 2.023627e-48 | F18: -2.0371008 | G18: -1.9783409 | H18: -2.0371008 | I18: -1.9783409
A22: RESIDUAL OUTPUT
A24: Observation | B24: Predicted Ln(Quantity) | C24: Residuals | D24: Standard Residuals
A25: 1 | B25: 3.8443484 | C25: 0.047471938 | D25: 1.5708884
A26: 2 | B26: 3.9828668 | C26: 0.024466398 | D26: 0.80961473
A27: 3 | B27: 2.8187531 | C27: 0.014460241 | D27: 0.47850214
A28: 4 | B28: 2.6642368 | C28: -0.025179486 | D28: -0.83321144
A29: 5 | B29: 2.5912207 | C29: -0.026271381 | D29: -0.8693432
A30: 6 | B30: 2.7400089 | C30: -0.031958658 | D30: -1.0575402
A31: 7 | B31: 3.0754068 | C31: -0.030884391 | D31: -1.0219918
A32: 8 | B32: 4.2923583 | C32: -0.029678444 | D32: -0.98208593
A33: 9 | B33: 3.3697457 | C33: 0.031451701 | D33: 1.0407645
A34: 10 | B34: 3.4782976 | C34: -0.012561666 | D34: -0.41567662
A35: 11 | B35: 2.5207672 | C35: -0.035860514 | D35: -1.1866561
A36: 12 | B36: 4.4670529 | C36: -0.024401621 | D36: -0.80747118
... A60: 36 | B60: 4.6584091 | C60: 0.023722114 | D60: 0.78498572

Sheet 10. Comparison
A1: Date | B1: Quantity | C1: Price | D1: Predicted Quantity (Linear) | E1: Predicted Quantity (Log)
A2: 40179 | B2: 49 | C2: 15 | D2: 60.569104 | E2: =EXP('9. Ln Regression Report'!B25) -> 46.728224
A3: 40210 | B3: 55 | C3: 14 | D3: 65.109837 | E3: =EXP('9. Ln Regression Report'!B26) -> 53.670676
A4: 40238 | B4: 17 | C4: 25 | D4: 15.161775 | E4: =EXP('9. Ln Regression Report'!B27) -> 16.755945
A5: 40269 | B5: 14 | C5: 27 | D5: 6.080309 | E5: =EXP('9. Ln Regression Report'!B28) -> 14.356988
A6: 40299 | B6: 13 | C6: 28 | D6: 1.5395761 | E6: =EXP('9. Ln Regression Report'!B29) -> 13.346054
A7: 40330 | B7: 15 | C7: 26 | D7: 10.621042 | E7: =EXP('9. Ln Regression Report'!B30) -> 15.487122
A8: 40360 | B8: 21 | C8: 22 | D8: 28.783973 | E8: =EXP('9. Ln Regression Report'!B31) -> 21.658692
A9: 40391 | B9: 71 | C9: 12 | D9: 74.191302 | E9: =EXP('9. Ln Regression Report'!B32) -> 73.13875
A10: 40422 | B10: 30 | C10: 19 | D10: 42.406172 | E10: =EXP('9. Ln Regression Report'!B33) -> 29.071133
A11: 40452 | B11: 32 | C11: 18 | D11: 46.946905 | E11: =EXP('9. Ln Regression Report'!B34) -> 32.404509
A12: 40483 | B12: 12 | C12: 29 | D12: -3.0011568 | E12: =EXP('9. Ln Regression Report'!B35) -> 12.438135
A13: 40513 | B13: 85 | C13: 11 | D13: 78.732035 | E13: =EXP('9. Ln Regression Report'!B36) -> 87.099651
... A37: 41244 | B37: 108 | C37: 10 | D37: 83.272768 | E37: =EXP('9. Ln Regression Report'!B60) -> 105.46816

Sheet Quiz 3
A1: Date | B1: Quantity | C1: Price | D1: Instructor's Console--> | E1: Quantity | F1: Price
A2: 40179 | B2: 71 | C2: 45 | E2: =100000*(1+RAND())*F2^-2 -> 61.49116 | F2: =40+RANDBETWEEN(0,10) -> 50
A3: 40210 | B3: 111 | C3: 40 | E3: =100000*(1+RAND())*F3^-2 -> 80.694014 | F3: =40+RANDBETWEEN(0,10) -> 45
A4: 40238 | B4: 67 | C4: 44 | E4: =100000*(1+RAND())*F4^-2 -> 77.577841 | F4: =40+RANDBETWEEN(0,10) -> 50
A5: 40269 | B5: 86 | C5: 43 | E5: =100000*(1+RAND())*F5^-2 -> 61.596929 | F5: =40+RANDBETWEEN(0,10) -> 50
A6: 40299 | B6: 70 | C6: 44 | E6: =100000*(1+RAND())*F6^-2 -> 81.85165 | F6: =40+RANDBETWEEN(0,10) -> 41
A7: 40330 | B7: 59 | C7: 47 | E7: =100000*(1+RAND())*F7^-2 -> 67.076587 | F7: =40+RANDBETWEEN(0,10) -> 41
A8: 40360 | B8: 49 | C8: 49 | E8: =100000*(1+RAND())*F8^-2 -> 74.120406 | F8: =40+RANDBETWEEN(0,10) -> 45
A9: 40391 | B9: 84 | C9: 43 | E9: =100000*(1+RAND())*F9^-2 -> 58.202154 | F9: =40+RANDBETWEEN(0,10) -> 47
A10: 40422 | B10: 62 | C10: 47 | E10: =100000*(1+RAND())*F10^-2 -> 88.890404 | F10: =40+RANDBETWEEN(0,10) -> 46
A11: 40452 | B11: 106 | C11: 43 | E11: =100000*(1+RAND())*F11^-2 -> 66.036116 | F11: =40+RANDBETWEEN(0,10) -> 47
A12: 40483 | B12: 113 | C12: 41 | E12: =100000*(1+RAND())*F12^-2 -> 46.27528 | F12: =40+RANDBETWEEN(0,10) -> 48
A13: 40513 | B13: 57 | C13: 47 | E13: =100000*(1+RAND())*F13^-2 -> 57.81834 | F13: =40+RANDBETWEEN(0,10) -> 44
... A37: 41244 | B37: 63 | C37: 48 | E37: =100000*(1+RAND())*F37^-2 -> 66.816782 | F37: =40+RANDBETWEEN(0,10) -> 43

Sheet 11. Dummy Variables
A1: Date | B1: Quantity | C1: Price | D1: End of Quarter | E1: Quantity | F1: Price | G1: End of Trimester
A2: 40179 | B2: =100-C2+10*D2-RANDBETWEEN(-5,5) -> 52 | C2: =50+RANDBETWEEN(0,10) -> 52 | D2: 0 | E2: 45 | F2: 59 | G2: 0
A3: 40210 | B3: =100-C3+10*D3-RANDBETWEEN(-5,5) -> 44 | C3: =50+RANDBETWEEN(0,10) -> 52 | D3: 0 | E3: 41 | F3: 57 | G3: 0
A4: 40238 | B4: =100-C4+10*D4-RANDBETWEEN(-5,5) -> 38 | C4: =50+RANDBETWEEN(0,10) -> 58 | D4: 0 | E4: 45 | F4: 53 | G4: 0
A5: 40269 | B5: =100-C5+10*D5-RANDBETWEEN(-5,5) -> 49 | C5: =50+RANDBETWEEN(0,10) -> 60 | D5: 1 | E5: 56 | F5: 55 | G5: 1
A6: 40299 | B6: =100-C6+10*D6-RANDBETWEEN(-5,5) -> 43 | C6: =50+RANDBETWEEN(0,10) -> 57 | D6: 0 | E6: 40 | F6: 56 | G6: 0
A7: 40330 | B7: =100-C7+10*D7-RANDBETWEEN(-5,5) -> 47 | C7: =50+RANDBETWEEN(0,10) -> 54 | D7: 0 | E7: 47 | F7: 55 | G7: 0
A8: 40360 | B8: =100-C8+10*D8-RANDBETWEEN(-5,5) -> 50 | C8: =50+RANDBETWEEN(0,10) -> 50 | D8: 0 | E8: 45 | F8: 51 | G8: 0
A9: 40391 | B9: =100-C9+10*D9-RANDBETWEEN(-5,5) -> 60 | C9: =50+RANDBETWEEN(0,10) -> 52 | D9: 1 | E9: 62 | F9: 53 | G9: 1
A10: 40422 | B10: =100-C10+10*D10-RANDBETWEEN(-5,5) -> 46 | C10: =50+RANDBETWEEN(0,10) -> 52 | D10: 0 | E10: 43 | F10: 59 | G10: 0
A11: 40452 | B11: =100-C11+10*D11-RANDBETWEEN(-5,5) -> 42 | C11: =50+RANDBETWEEN(0,10) -> 53 | D11: 0 | E11: 40 | F11: 58 | G11: 0
A12: 40483 | B12: =100-C12+10*D12-RANDBETWEEN(-5,5) -> 46 | C12: =50+RANDBETWEEN(0,10) -> 58 | D12: 0 | E12: 47 | F12: 57 | G12: 0
A13: 40513 | B13: =100-C13+10*D13-RANDBETWEEN(-5,5) -> 50 | C13: =50+RANDBETWEEN(0,10) -> 59 | D13: 1 | E13: 48 | F13: 60 | G13: 1
... A37: 41244 | B37: =100-C37+10*D37-RANDBETWEEN(-5,5) -> 50 | C37: =50+RANDBETWEEN(0,10) -> 60 | D37: 1 | E37: 47 | F37: 59 | G37: 1

Sheet 12. Without Dummy
A1: SUMMARY OUTPUT | J1: Date | K1: Quantity | L1: Predicted Quantity
J2: 40179 | K2: 45 | L2: 42.946196
A3: Regression Statistics | J3: 40210 | K3: 41 | L3: 45.565798
A4: Multiple R | B4: 0.57454868 | J4: 40238 | K4: 45 | L4: 50.805003
A5: R Square | B5: 0.33010619 | C5: <--We'll discuss this later, but academics don't like low R^2 scores. | J5: 40269 | K5: 56 | L5: 48.185401
A6: Adjusted R Square | B6: 0.31040343 | J6: 40299 | K6: 40 | L6: 46.8756
A7: Standard Error | B7: 5.7618703 | J7: 40330 | K7: 47 | L7: 48.185401
A8: Observations | B8: 36 | J8: 40360 | K8: 45 | L8: 53.424606
J9: 40391 | K9: 62 | L9: 50.805003
A10: ANOVA | J10: 40422 | K10: 43 | L10: 42.946196
B11: df | C11: SS | D11: MS | E11: F | F11: Significance F | J11: 40452 | K11: 40 | L11: 44.255997
A12: Regression | B12: 1 | C12: 556.22892 | D12: 556.22892 | E12: 16.754313 | F12: 0.00024770154 | J12: 40483 | K12: 47 | L12: 45.565798
A13: Residual | B13: 34 | C13: 1128.7711 | D13: 33.199149 | J13: 40513 | K13: 48 | L13: 41.636395
A14: Total | B14: 35 | C14: 1685 | J14: 40544 | K14: 42 | L14: 49.495202
J15: 40575 | K15: 36 | L15: 42.946196
B16: Coefficients | C16: Standard Error | D16: t Stat | E16: P-value | F16: Lower 95% | G16: Upper 95% | H16: Lower 95.0% | I16: Upper 95.0% | J16: 40603 | K16: 48 | L16: 52.114805
A17: Intercept | B17: 120.22447 | C17: 17.87438 | D17: 6.7260777 | E17: 9.9800664e-08 | F17: 83.899358 | G17: 156.54958 | H17: 83.899358 | I17: 156.54958 | J17: 40634 | K17: 61 | L17: 50.805003
A18: Price | B18: -1.3098012 | C18: 0.31999419 | D18: -4.0932032 | E18: 0.00024770154 | F18: -1.9601077 | G18: -0.6594948 | H18: -1.9601077 | I18: -0.6594948 | J18: 40664 | K18: 51 | L18: 54.734407
J19: 40695 | K19: 50 | L19: 49.495202
J20: 40725 | K20: 47 | L20: 45.565798
J21: 40756 | K21: 58 | L21: 48.185401
A22: RESIDUAL OUTPUT | J22: 40787 | K22: 41 | L22: 44.255997
J23: 40817 | K23: 45 | L23: 48.185401
A24: Observation | B24: Predicted Quantity | C24: Residuals | D24: Standard Residuals | J24: 40848 | K24: 53 | L24: 54.734407
A25: 1 | B25: 42.946196 | C25: 2.053804 | D25: 0.36165134 | J25: 40878 | K25: 62 | L25: 52.114805
A26: 2 | B26: 45.565798 | C26: -4.5657985 | D26: -0.80398478 | J26: 40909 | K26: 39 | L26: 41.636395
A27: 3 | B27: 50.805003 | C27: -5.8050034 | D27: -1.0221946 | J27: 40940 | K27: 45 | L27: 41.636395
A28: 4 | B28: 48.185401 | C28: 7.814599 | D28: 1.3760613 | J28: 40969 | K28: 40 | L28: 44.255997
A29: 5 | B29: 46.8756 | C29: -6.8755997 | D29: -1.2107143 | J29: 41000 | K29: 53 | L29: 46.8756
A30: 6 | B30: 48.185401 | C30: -1.185401 | D30: -0.20873552 | J30: 41030 | K30: 41 | L30: 42.946196
A31: 7 | B31: 53.424606 | C31: -8.4246059 | D31: -1.4834765 | J31: 41061 | K31: 42 | L31: 44.255997
A32: 8 | B32: 50.805003 | C32: 11.194997 | D32: 1.9713106 | J32: 41091 | K32: 40 | L32: 46.8756
A33: 9 | B33: 42.946196 | C33: 0.053803975 | D33: 0.0094742633 | J33: 41122 | K33: 58 | L33: 49.495202
A34: 10 | B34: 44.255997 | C34: -4.2559973 | D34: -0.74943233 | J34: 41153 | K34: 44 | L34: 48.185401
A35: 11 | B35: 45.565798 | C35: 1.4342015 | D35: 0.25254645 | J35: 41183 | K35: 44 | L35: 41.636395
A36: 12 | B36: 41.636395 | C36: 6.3636052 | D36: 1.1205579 | J36: 41214 | K36: 52 | L36: 53.424606
A37: 13 | B37: 49.495202 | C37: -7.4952022 | D37: -1.3198192 | J37: 41244 | K37: 47 | L37: 42.946196
A38: 14 | B38: 42.946196 | C38: -6.946196 | D38: -1.2231455
A39: 15 | B39: 52.114805 | C39: -4.1148047 | D39: -0.72456993
A40: 16 | B40: 50.805003 | C40: 10.194997 | D40: 1.795222
A41: 17 | B41: 54.734407 | C41: -3.7344071 | D41: -0.65758629
A42: 18 | B42: 49.495202 | C42: 0.50479781 | D42: 0.088889107
A43: 19 | B43: 45.565798 | C43: 1.4342015 | D43: 0.25254645
A44: 20 | B44: 48.185401 | C44: 9.814599 | D44: 1.7282384
A45: 21 | B45: 44.255997 | C45: -3.2559973 | D45: -0.57334379
A46: 22 | B46: 48.185401 | C46: -3.185401 | D46: -0.5609126
A47: 23 | B47: 54.734407 | C47: -1.7344071 | D47: -0.30540921
A48: 24 | B48: 52.114805 | C48: 9.8851953 | D48: 1.7406696
A49: 25 | B49: 41.636395 | C49: -2.6363948 | D49: -0.4642389
... A60: 36 | B60: 42.946196 | C60: 4.053804 | D60: 0.71382841

Sheet 13. With Dummy
A1: SUMMARY OUTPUT | J1: Date | K1: Quantity | L1: Predicted Quantity
J2: 40179 | K2: 45 | L2: 40.726318
A3: Regression Statistics | J3: 40210 | K3: 41 | L3: 43.004109
A4: Multiple R | B4: 0.9035952 | J4: 40238 | K4: 45 | L4: 47.55969
A5: R Square | B5: 0.81648428 | J5: 40269 | K5: 56 | L5: 56.364199
A6: Adjusted R Square | B6: 0.80536211 | J6: 40299 | K6: 40 | L6: 44.143004
A7: Standard Error | B7: 3.0611148 | J7: 40330 | K7: 47 | L7: 45.281899
A8: Observations | B8: 36 | J8: 40360 | K8: 45 | L8: 49.83748
J9: 40391 | K9: 62 | L9: 58.64199
A10: ANOVA | J10: 40422 | K10: 43 | L10: 40.726318
B11: df | C11: SS | D11: MS | E11: F | F11: Significance F | J11: 40452 | K11: 40 | L11: 41.865213
A12: Regression | B12: 2 | C12: 1375.776 | D12: 687.888 | E12: 73.410552 | F12: 7.0893942e-13 | J12: 40483 | K12: 47 | L12: 43.004109
A13: Residual | B13: 33 | C13: 309.22399 | D13: 9.3704241 | J13: 40513 | K13: 48 | L13: 50.669722
A14: Total | B14: 35 | C14: 1685 | J14: 40544 | K14: 42 | L14: 46.420794
J15: 40575 | K15: 36 | L15: 40.726318
B16: Coefficients | C16: Standard Error | D16: t Stat | E16: P-value | F16: Lower 95% | G16: Upper 95% | H16: Lower 95.0% | I16: Upper 95.0% | J16: 40603 | K16: 48 | L16: 48.698585
A17: Intercept | B17: 107.92114 | C17: 9.5868357 | D17: 11.257222 | E17: 7.6965609e-13 | F17: 88.416577 | G17: 127.42571 | H17: 88.416577 | I17: 127.42571 | J17: 40634 | K17: 61 | L17: 58.64199
A18: Price | B18: -1.1388953 | C18: 0.17098305 | D18: -6.6608667 | E18: 1.3983919e-07 | F18: -1.4867629 | G18: -0.79102768 | H18: -1.4867629 | I18: -0.79102768 | J18: 40664 | K18: 51 | L18: 50.976376
A19: End of Trimester | B19: 11.0823 | C19: 1.1850115 | D19: 9.352061 | E19: 8.430456e-11 | F19: 8.6713758 | G19: 13.493224 | H19: 8.6713758 | I19: 13.493224 | J19: 40695 | K19: 50 | L19: 46.420794
J20: 40725 | K20: 47 | L20: 43.004109
J21: 40756 | K21: 58 | L21: 56.364199
J22: 40787 | K22: 41 | L22: 41.865213
A23: RESIDUAL OUTPUT | J23: 40817 | K23: 45 | L23: 45.281899
J24: 40848 | K24: 53 | L24: 50.976376
A25: Observation | B25: Predicted Quantity | C25: Residuals | D25: Standard Residuals | J25: 40878 | K25: 62 | L25: 59.780885
A26: 1 | B26: 40.726318 | C26: 4.273682 | D26: 1.4378038 | J26: 40909 | K26: 39 | L26: 39.587423
A27: 2 | B27: 43.004109 | C27: -2.0041086 | D27: -0.67424646 | J27: 40940 | K27: 45 | L27: 39.587423
A28: 3 | B28: 47.55969 | C28: -2.5596898 | D28: -0.86116182 | J28: 40969 | K28: 40 | L28: 41.865213
A29: 4 | B29: 56.364199 | C29: -0.36419896 | D29: -0.12252822 | J29: 41000 | K29: 53 | L29: 55.225304
A30: 5 | B30: 44.143004 | C30: -4.1430039 | D30: -1.3938395 | J30: 41030 | K30: 41 | L30: 40.726318
A31: 6 | B31: 45.281899 | C31: 1.7181008 | D31: 0.57802427 | J31: 41061 | K31: 42 | L31: 41.865213
A32: 7 | B32: 49.83748 | C32: -4.8374804 | D32: -1.6274837 | J32: 41091 | K32: 40 | L32: 44.143004
A33: 8 | B33: 58.64199 | C33: 3.3580104 | D33: 1.1297425 | J33: 41122 | K33: 58 | L33: 57.503094
A34: 9 | B34: 40.726318 | C34: 2.273682 | D34: 0.76493963 | J34: 41153 | K34: 44 | L34: 45.281899
A35: 10 | B35: 41.865213 | C35: -1.8652133 | D35: -0.62751762 | J35: 41183 | K35: 44 | L35: 39.587423
A36: 11 | B36: 43.004109 | C36: 3.9958914 | D36: 1.3443462 | J36: 41214 | K36: 52 | L36: 49.83748
A37: 12 | B37: 50.669722 | C37: -2.6697224 | D37: -0.89818032 | J37: 41244 | K37: 47 | L37: 51.808618
A38: 13 | B38: 46.420794 | C38: -4.4207945 | D38: -1.4872972
A39: 14 | B39: 40.726318 | C39: -4.726318 | D39: -1.5900851
A40: 15 | B40: 48.698585 | C40: -0.69858511 | D40: -0.23502646
A41: 16 | B41: 58.64199 | C41: 2.3580104 | D41: 0.7933104
A42: 17 | B42: 50.976376 | C42: 0.023624271 | D42: 0.0079479633
A43: 18 | B43: 46.420794 | C43: 3.5792055 | D43: 1.2041596
A44: 19 | B44: 43.004109 | C44: 3.9958914 | D44: 1.3443462
A45: 20 | B45: 56.364199 | C45: 1.635801 | D45: 0.55033598
A46: 21 | B46: 41.865213 | C46: -0.86521326 | D46: -0.29108552
A47: 22 | B47: 45.281899 | C47: -0.28189919 | D47: -0.094839936
A48: 23 | B48: 50.976376 | C48: 2.0236243 | D48: 0.68081217
A49: 24 | B49: 59.780885 | C49: 2.2191151 | D49: 0.74658156
... A61: 36 | B61: 51.808618 | C61: -4.8086177 | D61: -1.6177734

Sheet Quiz 4
A1: Annual Salary ($1000s) | B1: Hours/week | C1: Female | D1: Annual Salary ($1000s) | E1: Hours/week | F1: Gender
A2: =ROUND((B2-RAND()*4*C2)*1000+RANDBETWEEN(-500,500),0) -> 33758 | B2: 34 | C2: =RANDBETWEEN(0,1) -> 0 | D2: 31325 | E2: 34 | F2: Female
A3: =ROUND((B3-RAND()*4*C3)*1000+RANDBETWEEN(-500,500),0) -> 50170 | B3: 50 | C3: =RANDBETWEEN(0,1) -> 0 | D3: 49577 | E3: 50 | F3: Male
A4: =ROUND((B4-RAND()*4*C4)*1000+RANDBETWEEN(-500,500),0) -> 49155 | B4: 49 | C4: =RANDBETWEEN(0,1) -> 0 | D4: 47766 | E4: 49 | F4: Female
A5: =ROUND((B5-RAND()*4*C5)*1000+RANDBETWEEN(-500,500),0) -> 35182 | B5: 39 | C5: =RANDBETWEEN(0,1) -> 1 | D5: 38579 | E5: 39 | F5: Female
A6: =ROUND((B6-RAND()*4*C6)*1000+RANDBETWEEN(-500,500),0) -> 39200 | B6: 39 | C6: =RANDBETWEEN(0,1) -> 0 | D6: 39275 | E6: 39 | F6: Male
A7: =ROUND((B7-RAND()*4*C7)*1000+RANDBETWEEN(-500,500),0) -> 50800 | B7: 53 | C7: =RANDBETWEEN(0,1) -> 1 | D7: 53011 | E7: 53 | F7: Male
A8: =ROUND((B8-RAND()*4*C8)*1000+RANDBETWEEN(-500,500),0) -> 52430 | B8: 52 | C8: =RANDBETWEEN(0,1) -> 0 | D8: 49560 | E8: 52 | F8: Female
A9: =ROUND((B9-RAND()*4*C9)*1000+RANDBETWEEN(-500,500),0) -> 20635 | B9: 21 | C9: =RANDBETWEEN(0,1) -> 0 | D9: 20648 | E9: 21 | F9: Male
A10: =ROUND((B10-RAND()*4*C10)*1000+RANDBETWEEN(-500,500),0) -> 54074 | B10: 57 | C10: =RANDBETWEEN(0,1) -> 1 | D10: 53595 | E10: 57 | F10: Female
A11: =ROUND((B11-RAND()*4*C11)*1000+RANDBETWEEN(-500,500),0) -> 53847 | B11: 54 | C11: =RANDBETWEEN(0,1) -> 0 | D11: 53349 | E11: 54 | F11: Female
A12: =ROUND((B12-RAND()*4*C12)*1000+RANDBETWEEN(-500,500),0) -> 38241 | B12: 41 | C12: =RANDBETWEEN(0,1) -> 1 | D12: 41021 | E12: 41 | F12: Male
A13: =ROUND((B13-RAND()*4*C13)*1000+RANDBETWEEN(-500,500),0) -> 34042 | B13: 36 | C13: =RANDBETWEEN(0,1) -> 1 | D13: 34340 | E13: 36 | F13: Female
... A31: =ROUND((B31-RAND()*4*C31)*1000+RANDBETWEEN(-500,500),0) -> 42107 | B31: 42 | C31: =RANDBETWEEN(0,1) -> 1 | D31: 41946 | E31: 42 | F31: Male

Sheet 14. Dummy with Log-Log
A1: Date | B1: Quantity | C1: Price | D1: End of Trimester | E1: Instructor's Console--> | F1: Quantity | G1: Price | H1: End of Trimester | J1: LnQ | K1: LnP | L1: End of Trimester
A2: 40179 | B2: 104 | C2: 43 | D2: 0 | F2: =ROUND(EXP(1.1*H2)*100000*(1+RAND())*G2^-2,0) -> 85 | G2: =40+RANDBETWEEN(0,10) -> 45 | H2: 0 | J2: =LN(B2) -> 4.6443909 | K2: =LN(C2) -> 3.7612001 | L2: 0
A3: 40210 | B3: 56 | C3: 43 | D3: 0 | F3: =ROUND(EXP(1.1*H3)*100000*(1+RAND())*G3^-2,0) -> 59 | G3: =40+RANDBETWEEN(0,10) -> 42 | H3: 0 | J3: =LN(B3) -> 4.0253517 | K3: =LN(C3) -> 3.7612001 | L3: 0
A4: 40238 | B4: 65 | C4: 46 | D4: 0 | F4: =ROUND(EXP(1.1*H4)*100000*(1+RAND())*G4^-2,0) -> 117 | G4: =40+RANDBETWEEN(0,10) -> 41 | H4: 0 | J4: =LN(B4) -> 4.1743873 | K4: =LN(C4) -> 3.8286414 | L4: 0
A5: 40269 | B5: 251 | C5: 40 | D5: 1 | F5: =ROUND(EXP(1.1*H5)*100000*(1+RAND())*G5^-2,0) -> 196 | G5: =40+RANDBETWEEN(0,10) -> 50 | H5: 1 | J5: =LN(B5) -> 5.5254529 | K5: =LN(C5) -> 3.6888795 | L5: 1
A6: 40299 | B6: 56 | C6: 50 | D6: 0 | F6: =ROUND(EXP(1.1*H6)*100000*(1+RAND())*G6^-2,0) -> 67 | G6: =40+RANDBETWEEN(0,10) -> 42 | H6: 0 | J6: =LN(B6) -> 4.0253517 | K6: =LN(C6) -> 3.912023 | L6: 0
A7: 40330 | B7: 68 | C7: 44 | D7: 0 | F7: =ROUND(EXP(1.1*H7)*100000*(1+RAND())*G7^-2,0) -> 89 | G7: =40+RANDBETWEEN(0,10) -> 44 | H7: 0 | J7: =LN(B7) -> 4.2195077 | K7: =LN(C7) -> 3.7841896 | L7: 0
A8: 40360 | B8: 73 | C8: 49 | D8: 0 | F8: =ROUND(EXP(1.1*H8)*100000*(1+RAND())*G8^-2,0) -> 49 | G8: =40+RANDBETWEEN(0,10) -> 48 | H8: 0 | J8: =LN(B8) -> 4.2904594 | K8: =LN(C8) -> 3.8918203 | L8: 0
A9: 40391 | B9: 196 | C9: 49 | D9: 1 | F9: =ROUND(EXP(1.1*H9)*100000*(1+RAND())*G9^-2,0) -> 310 | G9: =40+RANDBETWEEN(0,10) -> 44 | H9: 1 | J9: =LN(B9) -> 5.2781147 | K9: =LN(C9) -> 3.8918203 | L9: 1
A10: 40422 | B10: 89 | C10: 45 | D10: 0 | F10: =ROUND(EXP(1.1*H10)*100000*(1+RAND())*G10^-2,0) -> 88 | G10: =40+RANDBETWEEN(0,10) -> 45 | H10: 0 | J10: =LN(B10) -> 4.4886364 | K10: =LN(C10) -> 3.8066625 | L10: 0
A11: 40452 | B11: 111 | C11: 42 | D11: 0 | F11: =ROUND(EXP(1.1*H11)*100000*(1+RAND())*G11^-2,0) -> 71 | G11: =40+RANDBETWEEN(0,10) -> 50 | H11: 0 | J11: =LN(B11) -> 4.7095302 | K11: =LN(C11) -> 3.7376696 | L11: 0
A12: 40483 | B12: 84 | C12: 42 | D12: 0 | F12: =ROUND(EXP(1.1*H12)*100000*(1+RAND())*G12^-2,0) -> 62 | G12: =40+RANDBETWEEN(0,10) -> 49 | H12: 0 | J12: =LN(B12) -> 4.4308168 | K12: =LN(C12) -> 3.7376696 | L12: 0
A13: 40513 | B13: 214 | C13: 42 | D13: 1 | F13: =ROUND(EXP(1.1*H13)*100000*(1+RAND())*G13^-2,0) -> 279 | G13: =40+RANDBETWEEN(0,10) -> 44 | H13: 1 | J13: =LN(B13) -> 5.365976 | K13: =LN(C13) -> 3.7376696 | L13: 1
... A37: 41244 | B37: 216 | C37: 43 | D37: 1 | F37: =ROUND(EXP(1.1*H37)*100000*(1+RAND())*G37^-2,0) -> 245 | G37: =40+RANDBETWEEN(0,10) -> 44 | H37: 1 | J37: =LN(B37) -> 5.3752784 | K37: =LN(C37) -> 3.7612001 | L37: 1

Sheet 15. Dummy with Log-Log Results
A1: SUMMARY OUTPUT | J1: Date | K1: Quantity | L1: Predicted
J2: 40179 | K2: 104 | L2: =EXP(B26) -> 81.924529
A3: Regression Statistics | J3: 40210 | K3: 56 | L3: =EXP(B27) -> 81.924529
A4: Multiple R | B4: 0.93985546 | J4: 40238 | K4: 65 | L4: =EXP(B28) -> 71.897862
A5: R Square | B5: 0.88332829 | J5: 40269 | K5: 251 | L5: =EXP(B29) -> 270.50289
A6: Adjusted R Square | B6: 0.87625727 | J6: 40299 | K6: 56 | L6: =EXP(B30) -> 61.181052
A7: Standard Error | B7: 0.18834937 | J7: 40330 | K7: 68 | L7: =EXP(B31) -> 78.358594
A8: Observations | B8: 36 | J8: 40360 | K8: 73 | L8: =EXP(B32) -> 63.621131
J9: 40391 | K9: 196 | L9: =EXP(B33) -> 182.62459
A10: ANOVA | J10: 40422 | K10: 89 | L10: =EXP(B34) -> 75.02287
B11: df | C11: SS | D11: MS | E11: F | F11: Significance F | J11: 40452 | K11: 111 | L11: =EXP(B35) -> 85.742487
A12: Regression | B12: 2 | C12: 8.8633696 | D12: 4.4316848 | E12: 124.92245 | F12: 4.0265395e-16 | J12: 40483 | K12: 84 | L12: =EXP(B36) -> 85.742487
A13: Residual | B13: 33 | C13: 1.170691 | D13: 0.035475486 | J13: 40513 | K13: 214 | L13: =EXP(B37) -> 246.12399
A14: Total | B14: 35 | C14: 10.034061 | J14: 40544 | K14: 72 | L14: =EXP(B38) -> 68.966102
J15: 40575 | K15: 100 | L15: =EXP(B39) -> 81.924529
B16: Coefficients | C16: Standard Error | D16: t Stat | E16: P-value | F16: Lower 95% | G16: Upper 95% | H16: Lower 95.0% | I16: Upper 95.0% | J16: 40603 | K16: 44 | L16: =EXP(B40) -> 66.2119
A17: Intercept | B17: 11.686679 | C17: 1.6913739 | D17: 6.9095774 | E17: 6.8170443e-08 | F17: 8.2455528 | G17: 15.127805 | H17: 8.2455528 | I17: 15.127805 | J17: 40634 | K17: 268 | L17: =EXP(B41) -> 206.38297
A18: lnp | B18: -1.9357865 | C18: 0.44288176 | D18: -4.3708878 | E18: 0.0001161187 | F18: -2.8368362 | G18: -1.0347368 | H18: -2.8368362 | I18: -1.0347368 | J18: 40664 | K18: 85 | L18: =EXP(B42) -> 66.2119
A19: End of Trimester | B19: 1.054487 | C19: 0.073279891 | D19: 14.389855 | E19: 8.9025451e-16 | F19: 0.90539793 | G19: 1.203576 | H19: 0.90539793 | I19: 1.203576 | J19: 40695 | K19: 68 | L19: =EXP(B43) -> 66.2119
J20: 40725 | K20: 67 | L20: =EXP(B44) -> 66.2119
J21: 40756 | K21: 138 | L21: =EXP(B45) -> 182.62459
J22: 40787 | K22: 61 | L22: =EXP(B46) -> 63.621131
A23: RESIDUAL OUTPUT | J23: 40817 | K23: 86 | L23: =EXP(B47) -> 68.966102
J24: 40848 | K24: 62 | L24: =EXP(B48) -> 66.2119
A25: Observation | B25: Predicted lnq | C25: Residuals | D25: Standard Residuals | J25: 40878 | K25: 296 | L25: =EXP(B49) -> 257.87711
A26: 1 | B26: 4.4057984 | C26: 0.23859245 | D26: 1.3045766 | J26: 40909 | K26: 43 | L26: =EXP(B50) -> 61.181052
A27: 2 | B27: 4.4057984 | C27: -0.38044675 | D27: -2.080208 | J27: 40940 | K27: 73 | L27: =EXP(B51) -> 94.23539
A28: 3 | B28: 4.2752465 | C28: -0.10085925 | D28: -0.55147855 | J28: 40969 | K28: 77 | L28: =EXP(B52) -> 66.2119
A29: 4 | B29: 5.6002828 | C29: -0.074829852 | D29: -0.4091549 | J29: 41000 | K29: 216 | L29: =EXP(B53) -> 190.0614
A30: 5 | B30: 4.1138375 | C30: -0.088485842 | D30: -0.48382317 | J30: 41030 | K30: 81 | L30: =EXP(B54) -> 66.2119
A31: 6 | B31: 4.3612956 | C31: -0.14178794 | D31: -0.77526855 | J31: 41061 | K31: 83 | L31: =EXP(B55) -> 89.836934
A32: 7 | B32: 4.1529457 | C32: 0.13751378 | D32: 0.75189829 | J32: 41091 | K32: 85 | L32: =EXP(B56) -> 85.742487
A33: 8 | B33: 5.2074326 | C33: 0.070682012 | D33: 0.38647533 | J33: 41122 | K33: 231 | L33: =EXP(B57) -> 235.16454
A34: 9 | B34: 4.317793 | C34: 0.17084337 | D34: 0.93413795 | J34: 41153 | K34: 103 | L34: =EXP(B58) -> 94.23539
A35: 10 | B35: 4.4513485 | C35: 0.25818174 | D35: 1.4116869 | J35: 41183 | K35: 75 | L35: =EXP(B59) -> 78.358594
A36: 11 | B36: 4.4513485 | C36: -0.020531665 | D36: -0.1122631 | J36: 41214 | K36: 63 | L36: =EXP(B60) -> 63.621131
A37: 12 | B37: 5.5058355 | C37: -0.13985944 | D37: -0.76472387 | J37: 41244 | K37: 216 | L37: =EXP(B61) -> 235.16454
A38: 13 | B38: 4.2336151 | C38: 0.043051016 | D38: 0.23539448
A39: 14 | B39: 4.4057984 | C39: 0.19937174 | D39: 1.0901254
A40: 15 | B40: 4.1928602 | C40: -0.40867056 | D40: -2.2345302
A41: 16 | B41: 5.3297335 | C41: 0.26125347 | D41: 1.4284826
A42: 17 | B42: 4.1928602 | C42: 0.24979106 | D42: 1.3658083
A43: 18 | B43: 4.1928602 | C43: 0.026647507 | D43: 0.14570333
A44: 19 | B44: 4.1928602 | C44: 0.011832422 | D44: 0.064697352
A45: 20 | B45: 5.2074326 | C45: -0.28017896 | D45: -1.5319634
A46: 21 | B46: 4.1529457 | C46: -0.042071796 | D46: -0.2300403
A47: 22 | B47: 4.2336151 | C47: 0.22073219 | D47: 1.2069202
A48: 23 | B48: 4.1928602 | C48: -0.065725813 | D48: -0.35937581
A49: 24 | B49: 5.5524832 | C49: 0.13787629 | D49: 0.75388041
... A61: 36 | B61: 5.4602854 | C61: -0.085007024 | D61: -0.46480167

Sheet Quiz 5
A1: LnP | B1: Lnalpha | C1: LnSpeed | D1: LnCapacity | E1: LnDurability | F1: 2010 | G1: 2011 | H1: 2012 | I1: Speed | J1: Capacity | K1: Durability | L1: 2011 | M1: 2012 | N1: LnP | O1: LnSpeed | P1: LnCapacity | Q1: LnDurability | R1: Year
A2: =B2+0.5*C2+0.1*D2+0.2*E2-0.1*F2-0.5*G2-1*H2 -> 5.4724958 | B2: =RANDBETWEEN(-1,1)/10 -> 0 | C2: =LN(I2) -> 7.6857031 | D2: =LN(J2) -> 8.1886891 | E2: =LN(K2) -> 4.5538769 | F2: 1 | G2: 0 | H2: 0 | I2: =RANDBETWEEN(1800,2200) -> 2177 | J2: =RANDBETWEEN(3000,6000) -> 3600 | K2: =RANDBETWEEN(80,100) -> 95 | L2: 0 | M2: 0 | N2: 5.3657345 | O2: 7.5326236 | P2: 8.1089242 | Q2: 4.4426513 | R2: 2010
A3: =B3+0.5*C3+0.1*D3+0.2*E3-0.1*F3-0.5*G3-1*H3 -> 5.0505243 | B3: =RANDBETWEEN(-1,1)/10 -> 0 | C3: =LN(I3) -> 7.6033993 | D3: =LN(J3) -> 8.6993481 | E3: =LN(K3) -> 4.3944492 | F3: 0 | G3: 1 | H3: 0 | I3: =RANDBETWEEN(1800,2200) -> 2005 | J3: =RANDBETWEEN(3000,6000) -> 5999 | K3: =RANDBETWEEN(80,100) -> 81 | L3: 1 | M3: 0 | N3: 5.0779551 | O3: 7.678789 | P3: 8.6215532 | Q3: 4.3820266 | R3: 2011
A4: =B4+0.5*C4+0.1*D4+0.2*E4-0.1*F4-0.5*G4-1*H4 -> 4.4539058 | B4: =RANDBETWEEN(-1,1)/10 -> -0.1 | C4: =LN(I4) -> 7.6406038 | D4: =LN(J4) -> 8.5471403 | E4: =LN(K4) -> 4.3944492 | F4: 0 | G4: 0 | H4: 1 | I4: =RANDBETWEEN(1800,2200) -> 2081 | J4: =RANDBETWEEN(3000,6000) -> 5152 | K4: =RANDBETWEEN(80,100) -> 81 | L4: 0 | M4: 1 | N4: 4.6983692 | O4: 7.6764736 | P4: 8.5796045 | Q4: 4.5108595 | R4: 2012
A5: =B5+0.5*C5+0.1*D5+0.2*E5-0.1*F5-0.5*G5-1*H5 -> 5.3757957 | B5: =RANDBETWEEN(-1,1)/10 -> 0 | C5: =LN(I5) -> 7.5109778 | D5: =LN(J5) -> 8.3177662 | E5: =LN(K5) -> 4.4426513 | F5: 1 | G5: 0 | H5: 0 | I5: =RANDBETWEEN(1800,2200) -> 1828 | J5: =RANDBETWEEN(3000,6000) -> 4096 | K5: =RANDBETWEEN(80,100) -> 85 | L5: 0 | M5: 0 | N5: 5.2656874 | O5: 7.52564 | P5: 8.2646208 | Q5: 4.3820266 | R5: 2010
A6: =B6+0.5*C6+0.1*D6+0.2*E6-0.1*F6-0.5*G6-1*H6 -> 5.0037483 | B6: =RANDBETWEEN(-1,1)/10 -> 0 | C6: =LN(I6) -> 7.613325 | D6: =LN(J6) -> 8.109225 | E6: =LN(K6) -> 4.4308168 | F6: 0 | G6: 1 | H6: 0 | I6: =RANDBETWEEN(1800,2200) -> 2025 | J6: =RANDBETWEEN(3000,6000) -> 3325 | K6: =RANDBETWEEN(80,100) -> 84 | L6: 1 | M6: 0 | N6: 5.1664523 | O6: 7.6893711 | P6: 8.4536142 | Q6: 4.3820266 | R6: 2011
A7: =B7+0.5*C7+0.1*D7+0.2*E7-0.1*F7-0.5*G7-1*H7 -> 4.4712835 | B7: =RANDBETWEEN(-1,1)/10 -> -0.1 | C7: =LN(I7) -> 7.6372344 | D7: =LN(J7) -> 8.3772412 | E7: =LN(K7) -> 4.574711 | F7: 0 | G7: 0 | H7: 1 | I7: =RANDBETWEEN(1800,2200) -> 2074 | J7: =RANDBETWEEN(3000,6000) -> 4347 | K7: =RANDBETWEEN(80,100) -> 97 | L7: 0 | M7: 1 | N7: 4.6543227 | O7: 7.6511202 | P7: 8.5235728 | Q7: 4.3820266 | R7: 2012
A8: =B8+0.5*C8+0.1*D8+0.2*E8-0.1*F8-0.5*G8-1*H8 -> 5.4442987 | B8: =RANDBETWEEN(-1,1)/10 -> 0 | C8: =LN(I8) -> 7.6925696 | D8: =LN(J8) -> 8.1185051 | E8: =LN(K8) -> 4.4308168 | F8: 1 | G8: 0 | H8: 0 | I8: =RANDBETWEEN(1800,2200) -> 2192 | J8: =RANDBETWEEN(3000,6000) -> 3356 | K8: =RANDBETWEEN(80,100) -> 84 | L8: 0 | M8: 0 | N8: 5.3507593 | O8: 7.556428 | P8: 8.660254 | Q8: 4.5325995 | R8: 2010
A9: =B9+0.5*C9+0.1*D9+0.2*E9-0.1*F9-0.5*G9-1*H9 -> 4.9173805 | B9: =RANDBETWEEN(-1,1)/10 -> -0.1 | C9: =LN(I9) -> 7.5395588 | D9: =LN(J9) -> 8.5673158 | E9: =LN(K9) -> 4.4543473 | F9: 0 | G9: 1 | H9: 0 | I9: =RANDBETWEEN(1800,2200) -> 1881 | J9: =RANDBETWEEN(3000,6000) -> 5257 | K9: =RANDBETWEEN(80,100) -> 86 | L9: 1 | M9: 0 | N9: 4.9718849 | O9: 7.5267176 | P9: 8.2236272 | Q9: 4.4308168 | R9: 2011
A10: =B10+0.5*C10+0.1*D10+0.2*E10-0.1*F10-0.5*G10-1*H10 -> 4.3780096 | B10: =RANDBETWEEN(-1,1)/10 -> -0.1 | C10: =LN(I10) -> 7.5595595 | D10: =LN(J10) -> 8.1934002 | E10: =LN(K10) -> 4.3944492 | F10: 0 | G10: 0 | H10: 1 | I10: =RANDBETWEEN(1800,2200) -> 1919 | J10: =RANDBETWEEN(3000,6000) -> 3617 | K10: =RANDBETWEEN(80,100) -> 81 | L10: 0 | M10: 1 | N10: 4.5197524 | O10: 7.5299434 | P10: 8.6625049 | Q10: 4.4426513 | R10: 2012
A11: =B11+0.5*C11+0.1*D11+0.2*E11-0.1*F11-0.5*G11-1*H11 -> 4.4499923 | B11: =RANDBETWEEN(-1,1)/10 -> -0.1 | C11: =LN(I11) -> 7.6386798 | D11: =LN(J11) -> 8.542471 | E11: =LN(K11) -> 4.3820266 | F11: 0 | G11: 0 | H11: 1 | I11: =RANDBETWEEN(1800,2200) -> 2077 | J11: =RANDBETWEEN(3000,6000) -> 5128 | K11: =RANDBETWEEN(80,100) -> 80 | L11: 0 | M11: 1 | N11: 4.4690146 | O11: 7.5766098 | P11: 8.6168575 | Q11: 4.5951199 | R11: 2012
A12: =B12+0.5*C12+0.1*D12+0.2*E12-0.1*F12-0.5*G12-1*H12 -> 5.1236533 | B12: =RANDBETWEEN(-1,1)/10 -> 0 | C12: =LN(I12) -> 7.6943928 | D12: =LN(J12) -> 8.5743294 | E12: =LN(K12) -> 4.5951199 | F12: 0 | G12: 1 | H12: 0 | I12: =RANDBETWEEN(1800,2200) -> 2196 | J12: =RANDBETWEEN(3000,6000) -> 5294 | K12: =RANDBETWEEN(80,100) -> 99 | L12: 1 | M12: 0 | N12: 4.916256 | O12: 7.6143121 | P12: 8.1137261 | Q12: 4.4886364 | R12: 2011
A13: =B13+0.5*C13+0.1*D13+0.2*E13-0.1*F13-0.5*G13-1*H13 -> 5.3069504 | B13: =RANDBETWEEN(-1,1)/10 -> -0.1 | C13: =LN(I13) -> 7.5548585 | D13: =LN(J13) -> 8.4817732 | E13: =LN(K13) -> 4.4067192 | F13: 1 | G13: 0 | H13: 0 | I13: =RANDBETWEEN(1800,2200) -> 1910 | J13: =RANDBETWEEN(3000,6000) -> 4826 | K13: =RANDBETWEEN(80,100) -> 82 | L13: 0 | M13: 0 | N13: 5.421455 | O13: 7.5082388 | P13: 8.5656023 | Q13: 4.5538769 | R13: 2010
... A25: =B25+0.5*C25+0.1*D25+0.2*E25-0.1*F25-0.5*G25-1*H25 -> 5.5928843 | B25: =RANDBETWEEN(-1,1)/10 -> 0.1 | C25: =LN(I25) -> 7.6792514 | D25: =LN(J25) -> 8.5779119 | E25: =LN(K25) -> 4.4773368 | F25: 1 | G25: 0 | H25: 0 | I25: =RANDBETWEEN(1800,2200) -> 2163 | J25: =RANDBETWEEN(3000,6000) -> 5313 | K25: =RANDBETWEEN(80,100) -> 88 | L25: 0 | M25: 0 | N25: 5.4510036 | O25: 7.5688957 | P25: 8.6882853 | Q25: 4.4886364 | R25: 2010

Sheet 16.  Statistics Testing
A1: Quantity (units) | B1: Price ($) | C1: Income (1000s) | D1: Internet Advertising ($) | F1: Quantity (units) | G1: Price ($) | H1: Income (1000s) | I1: Internet Advertising ($)
A2: =ROUND(RANDBETWEEN(-10,10)+1000-2*B2+1.5*C2,0) -> 1003 | B2: =10+RANDBETWEEN(0,10) -> 18 | C2: =10+RANDBETWEEN(0,60) -> 21 | D2: =100+10*RANDBETWEEN(0,30) -> 200 | F2: 1065 | G2: 20 | H2: 68 | I2: 290
A3: =ROUND(RANDBETWEEN(-10,10)+1000-2*B3+1.5*C3,0) -> 1062 | B3: =10+RANDBETWEEN(0,10) -> 11 | C3: =10+RANDBETWEEN(0,60) -> 60 | D3: =100+10*RANDBETWEEN(0,30) -> 320 | F3: 991 | G3: 18 | H3: 15 | I3: 190
A4: =ROUND(RANDBETWEEN(-10,10)+1000-2*B4+1.5*C4,0) -> 1017 | B4: =10+RANDBETWEEN(0,10) -> 11 | C4: =10+RANDBETWEEN(0,60) -> 26 | D4: =100+10*RANDBETWEEN(0,30) -> 380 | F4: 997 | G4: 16 | H4: 19 | I4: 310
A5: =ROUND(RANDBETWEEN(-10,10)+1000-2*B5+1.5*C5,0) -> 1054 | B5: =10+RANDBETWEEN(0,10) -> 12 | C5: =10+RANDBETWEEN(0,60) -> 53 | D5: =100+10*RANDBETWEEN(0,30) -> 370 | F5: 1003 | G5: 16 | H5: 22 | I5: 130
A6: =ROUND(RANDBETWEEN(-10,10)+1000-2*B6+1.5*C6,0) -> 1056 | B6: =10+RANDBETWEEN(0,10) -> 19 | C6: =10+RANDBETWEEN(0,60) -> 64 | D6: =100+10*RANDBETWEEN(0,30) -> 320 | F6: 1036 | G6: 16 | H6: 44 | I6: 190
A7: =ROUND(RANDBETWEEN(-10,10)+1000-2*B7+1.5*C7,0) -> 1036 | B7: =10+RANDBETWEEN(0,10) -> 13 | C7: =10+RANDBETWEEN(0,60) -> 41 | D7: =100+10*RANDBETWEEN(0,30) -> 390 | F7: 1048 | G7: 19 | H7: 58 | I7: 330
A8: =ROUND(RANDBETWEEN(-10,10)+1000-2*B8+1.5*C8,0) -> 1049 | B8: =10+RANDBETWEEN(0,10) -> 10 | C8: =10+RANDBETWEEN(0,60) -> 42 | D8: =100+10*RANDBETWEEN(0,30) -> 210 | F8: 1012 | G8: 10 | H8: 18 | I8: 120
A9: =ROUND(RANDBETWEEN(-10,10)+1000-2*B9+1.5*C9,0) -> 1044 | B9: =10+RANDBETWEEN(0,10) -> 15 | C9: =10+RANDBETWEEN(0,60) -> 56 | D9: =100+10*RANDBETWEEN(0,30) -> 400 | F9: 990 | G9: 15 | H9: 15 | I9: 370
A10: =ROUND(RANDBETWEEN(-10,10)+1000-2*B10+1.5*C10,0) -> 1026 | B10: =10+RANDBETWEEN(0,10) -> 13 | C10: =10+RANDBETWEEN(0,60) -> 33 | D10: =100+10*RANDBETWEEN(0,30) -> 140 | F10: 1032 | G10: 11 | H10: 37 | I10: 250
A11: =ROUND(RANDBETWEEN(-10,10)+1000-2*B11+1.5*C11,0) -> 1023 | B11: =10+RANDBETWEEN(0,10) -> 16 | C11: =10+RANDBETWEEN(0,60) -> 41 | D11: =100+10*RANDBETWEEN(0,30) -> 300 | F11: 1015 | G11: 13 | H11: 33 | I11: 340
A12: =ROUND(RANDBETWEEN(-10,10)+1000-2*B12+1.5*C12,0) -> 981 | B12: =10+RANDBETWEEN(0,10) -> 19 | C12: =10+RANDBETWEEN(0,60) -> 11 | D12: =100+10*RANDBETWEEN(0,30) -> 200 | F12: 1061 | G12: 12 | H12: 57 | I12: 340
A13: =ROUND(RANDBETWEEN(-10,10)+1000-2*B13+1.5*C13,0) -> 979 | B13: =10+RANDBETWEEN(0,10) -> 18 | C13: =10+RANDBETWEEN(0,60) -> 14 | D13: =100+10*RANDBETWEEN(0,30) -> 120 | F13: 1083 | G13: 14 | H13: 67 | I13: 340
... A31: =ROUND(RANDBETWEEN(-10,10)+1000-2*B31+1.5*C31,0) -> 1020 | B31: =10+RANDBETWEEN(0,10) -> 19 | C31: =10+RANDBETWEEN(0,60) -> 40 | D31: =100+10*RANDBETWEEN(0,30) -> 310 | F31: 1050 | G31: 17 | H31: 50 | I31: 310

Sheet 17. Regression Results
A1: SUMMARY OUTPUT
A3: Regression Statistics
A4: Multiple R | B4: 0.98513237
A5: R Square | B5: 0.97048578
A6: Adjusted R Square | B6: 0.96708029
A7: Standard Error | B7: 5.590278
A8: Observations | B8: 30
A10: ANOVA
B11: df | C11: SS | D11: MS | E11: F | F11: Significance F
A12: Regression | B12: 3 | C12: 26717.635 | D12: 8905.8784 | E12: 284.9771 | F12: 5.3212649e-20
A13: Residual | B13: 26 | C13: 812.5314 | D13: 31.251208
A14: Total | B14: 29 | C14: 27530.167
B16: Coefficients | C16: Standard Error | D16: t Stat | E16: P-value | F16: Lower 95% | G16: Upper 95% | H16: Lower 95.0% | I16: Upper 95.0%
A17: Intercept | B17: 1004.1966 | C17: 5.5670506 | D17: 180.38215 | E17: 8.3090431e-42 | F17: 992.75332 | G17: 1015.6398 | H17: 992.75332 | I17: 1015.6398
A18: Price ($) | B18: -2.3451386 | C18: 0.33891777 | D18: -6.9194913 | E18: 2.4001804e-07 | F18: -3.041794 | G18: -1.6484831 | H18: -3.041794 | I18: -1.6484831
A19: Income (1000s) | B19: 1.5739578 | C19: 0.056646748 | D19: 27.785493 | E19: 7.3337851e-21 | F19: 1.4575188 | G19: 1.6903969 | H19: 1.4575188 | I19: 1.6903969
A20: Internet Advertising ($) | B20: -0.0057233959 | C20: 0.012034641 | D20: -0.4755768 | E20: 0.63834735 | F20: -0.030460954 | G20: 0.019014162 | H20: -0.030460954 | I20: 0.019014162
A24: RESIDUAL OUTPUT
A26: Observation | B26: Predicted Quantity (units) | C26: Residuals | D26: Standard Residuals
A27: 1 | B27: 1062.6631 | C27: 2.3368699 | D27: 0.44148246
A28: 2 | B28: 984.50598 | C28: 6.4940171 | D28: 1.2268525
A29: 3 | B29: 994.80528 | C29: 2.1947163 | D29: 0.41462674
A30: 4 | B30: 1000.5574 | C30: 2.4426316 | D30: 0.461463
A31: 5 | B31: 1034.841 | C31: 1.1589635 | D31: 0.21895188
A32: 6 | B32: 1049.0398 | C32: -1.0397547 | D32: -0.19643091
A33: 7 | B33: 1008.3896 | C33: 3.6103974 | D33: 0.68207783
A34: 8 | B34: 990.51119 | C34: -0.51118732 | D34: -0.096573728
A35: 9 | B35: 1035.2056 | C35: -3.205621 | D35: -0.60560729
A36: 10 | B36: 1023.7044 | C36: -8.7044069 | D36: -1.6444403
A37: 11 | B37: 1063.8245 | C37: -2.824533 | D37: -0.53361198
A38: 12 | B38: 1074.8738 | C38: 8.1261661 | D38: 1.5351988
... A56: 30 | B56: 1041.2528 | C56: 8.7471627 | D56: 1.6525177

Sheet 18. R^2
A1: SUMMARY OUTPUT
A3: Regression Statistics
A4: Multiple R | B4: 0.98513237
A5: R Square | B5: 0.97048578
A6: Adjusted R Square | B6: 0.96708029
A7: Standard Error | B7: 5.590278
A8: Observations | B8: 30
A10: ANOVA
B11: df | C11: SS | D11: MS | E11: F | F11: Significance F
A12: Regression | B12: 3 | C12: 26717.635 | D12: 8905.8784 | E12: 284.9771 | F12: 5.3212649e-20
A13: Residual | B13: 26 | C13: 812.5314 | D13: 31.251208
A14: Total | B14: 29 | C14: 27530.167
B16: Coefficients | C16: Standard Error | D16: t Stat | E16: P-value | F16: Lower 95% | G16: Upper 95% | H16: Lower 95.0% | I16: Upper 95.0%
A17: Intercept | B17: 1004.1966 | C17: 5.5670506 | D17: 180.38215 | E17: 8.3090431e-42 | F17: 992.75332 | G17: 1015.6398 | H17: 992.75332 | I17: 1015.6398
A18: Price ($) | B18: -2.3451386 | C18: 0.33891777 | D18: -6.9194913 | E18: 2.4001804e-07 | F18: -3.041794 | G18: -1.6484831 | H18: -3.041794 | I18: -1.6484831
A19: Income (1000s) | B19: 1.5739578 | C19: 0.056646748 | D19: 27.785493 | E19: 7.3337851e-21 | F19: 1.4575188 | G19: 1.6903969 | H19: 1.4575188 | I19: 1.6903969
A20: Internet Advertising ($) | B20: -0.0057233959 | C20: 0.012034641 | D20: -0.4755768 | E20: 0.63834735 | F20: -0.030460954 | G20: 0.019014162 | H20: -0.030460954 | I20: 0.019014162
A24: RESIDUAL OUTPUT
A26: Observation | B26: Predicted Quantity (units) | C26: Residuals | D26: Standard Residuals
A27: 1 | B27: 1062.6631 | C27: 2.3368699 | D27: 0.44148246
A28: 2 | B28: 984.50598 | C28: 6.4940171 | D28: 1.2268525
A29: 3 | B29: 994.80528 | C29: 2.1947163 | D29: 0.41462674
A30: 4 | B30: 1000.5574 | C30: 2.4426316 | D30: 0.461463
A31: 5 | B31: 1034.841 | C31: 1.1589635 | D31: 0.21895188
A32: 6 | B32: 1049.0398 | C32: -1.0397547 | D32: -0.19643091
A33: 7 | B33: 1008.3896 | C33: 3.6103974 | D33: 0.68207783
A34: 8 | B34: 990.51119 | C34: -0.51118732 | D34: -0.096573728
A35: 9 | B35: 1035.2056 | C35: -3.205621 | D35: -0.60560729
A36: 10 | B36: 1023.7044 | C36: -8.7044069 | D36: -1.6444403
A37: 11 | B37: 1063.8245 | C37: -2.824533 | D37: -0.53361198
A38: 12 | B38: 1074.8738 | C38: 8.1261661 | D38: 1.5351988
... A56: 30 | B56: 1041.2528 | C56: 8.7471627 | D56: 1.6525177

Sheet 19. Standard Error
A1: SUMMARY OUTPUT
A3: Regression Statistics
A4: Multiple R | B4: 0.98513237
A5: R Square | B5: 0.97048578
A6: Adjusted R Square | B6: 0.96708029
A7: Standard Error | B7: 5.590278
A8: Observations | B8: 30
A10: ANOVA
B11: df | C11: SS | D11: MS | E11: F | F11: Significance F
A12: Regression | B12: 3 | C12: 26717.635 | D12: 8905.8784 | E12: 284.9771 | F12: 5.3212649e-20
A13: Residual | B13: 26 | C13: 812.5314 | D13: 31.251208
A14: Total | B14: 29 | C14: 27530.167
B16: Coefficients | C16: Standard Error | D16: t Stat | E16: P-value | F16: Lower 95% | G16: Upper 95% | H16: Lower 95.0% | I16: Upper 95.0%
A17: Intercept | B17: 1004.1966 | C17: 5.5670506 | D17: 180.38215 | E17: 8.3090431e-42 | F17: 992.75332 | G17: 1015.6398 | H17: 992.75332 | I17: 1015.6398
A18: Price ($) | B18: -2.3451386 | C18: 0.33891777 | D18: -6.9194913 | E18: 2.4001804e-07 | F18: -3.041794 | G18: -1.6484831 | H18: -3.041794 | I18: -1.6484831
A19: Income (1000s) | B19: 1.5739578 | C19: 0.056646748 | D19: 27.785493 | E19: 7.3337851e-21 | F19: 1.4575188 | G19: 1.6903969 | H19: 1.4575188 | I19: 1.6903969
A20: Internet Advertising ($) | B20: -0.0057233959 | C20: 0.012034641 | D20: -0.4755768 | E20: 0.63834735 | F20: -0.030460954 | G20: 0.019014162 | H20: -0.030460954 | I20: 0.019014162
A24: RESIDUAL OUTPUT
A26: Observation | B26: Predicted Quantity (units) | C26: Residuals | D26: Standard Residuals
A27: 1 | B27: 1062.6631 | C27: 2.3368699 | D27: 0.44148246
A28: 2 | B28: 984.50598 | C28: 6.4940171 | D28: 1.2268525
A29: 3 | B29: 994.80528 | C29: 2.1947163 | D29: 0.41462674
A30: 4 | B30: 1000.5574 | C30: 2.4426316 | D30: 0.461463
A31: 5 | B31: 1034.841 | C31: 1.1589635 | D31: 0.21895188
A32: 6 | B32: 1049.0398 | C32: -1.0397547 | D32: -0.19643091
A33: 7 | B33: 1008.3896 | C33: 3.6103974 | D33: 0.68207783
A34: 8 | B34: 990.51119 | C34: -0.51118732 | D34: -0.096573728
A35: 9 | B35: 1035.2056 | C35: -3.205621 | D35: -0.60560729
A36: 10 | B36: 1023.7044 | C36: -8.7044069 | D36: -1.6444403
A37: 11 | B37: 1063.8245 | C37: -2.824533 | D37: -0.53361198
A38: 12 | B38: 1074.8738 | C38: 8.1261661 | D38: 1.5351988
... A56: 30 | B56: 1041.2528 | C56: 8.7471627 | D56: 1.6525177

Sheet 20.  F-Test
A1: SUMMARY OUTPUT
A3: Regression Statistics
A4: Multiple R | B4: 0.98513237
A5: R Square | B5: 0.97048578
A6: Adjusted R Square | B6: 0.96708029
A7: Standard Error | B7: 5.590278
A8: Observations | B8: 30
A10: ANOVA
B11: df | C11: SS | D11: MS | E11: F | F11: Significance F
A12: Regression | B12: 3 | C12: 26717.635 | D12: 8905.8784 | E12: 284.9771 | F12: 5.3212649e-20
A13: Residual | B13: 26 | C13: 812.5314 | D13: 31.251208
A14: Total | B14: 29 | C14: 27530.167
B16: Coefficients | C16: Standard Error | D16: t Stat | E16: P-value | F16: Lower 95% | G16: Upper 95% | H16: Lower 95.0% | I16: Upper 95.0%
A17: Intercept | B17: 1004.1966 | C17: 5.5670506 | D17: 180.38215 | E17: 8.3090431e-42 | F17: 992.75332 | G17: 1015.6398 | H17: 992.75332 | I17: 1015.6398
A18: Price ($) | B18: -2.3451386 | C18: 0.33891777 | D18: -6.9194913 | E18: 2.4001804e-07 | F18: -3.041794 | G18: -1.6484831 | H18: -3.041794 | I18: -1.6484831
A19: Income (1000s) | B19: 1.5739578 | C19: 0.056646748 | D19: 27.785493 | E19: 7.3337851e-21 | F19: 1.4575188 | G19: 1.6903969 | H19: 1.4575188 | I19: 1.6903969
A20: Internet Advertising ($) | B20: -0.0057233959 | C20: 0.012034641 | D20: -0.4755768 | E20: 0.63834735 | F20: -0.030460954 | G20: 0.019014162 | H20: -0.030460954 | I20: 0.019014162
F22: F-Crit
F23: =FINV(0.05,B12,B13) -> 2.975154
A24: RESIDUAL OUTPUT | F24: Significance F
F25: =_xlfn.F.DIST.RT(E12,B12,B13) -> 5.3212649e-20
A26: Observation | B26: Predicted Quantity (units) | C26: Residuals | D26: Standard Residuals
A27: 1 | B27: 1062.6631 | C27: 2.3368699 | D27: 0.44148246
A28: 2 | B28: 984.50598 | C28: 6.4940171 | D28: 1.2268525
A29: 3 | B29: 994.80528 | C29: 2.1947163 | D29: 0.41462674
A30: 4 | B30: 1000.5574 | C30: 2.4426316 | D30: 0.461463
A31: 5 | B31: 1034.841 | C31: 1.1589635 | D31: 0.21895188
A32: 6 | B32: 1049.0398 | C32: -1.0397547 | D32: -0.19643091
A33: 7 | B33: 1008.3896 | C33: 3.6103974 | D33: 0.68207783
A34: 8 | B34: 990.51119 | C34: -0.51118732 | D34: -0.096573728
A35: 9 | B35: 1035.2056 | C35: -3.205621 | D35: -0.60560729
A36: 10 | B36: 1023.7044 | C36: -8.7044069 | D36: -1.6444403
A37: 11 | B37: 1063.8245 | C37: -2.824533 | D37: -0.53361198
A38: 12 | B38: 1074.8738 | C38: 8.1261661 | D38: 1.5351988
... A56: 30 | B56: 1041.2528 | C56: 8.7471627 | D56: 1.6525177

Sheet 21.  T-Test
A1: SUMMARY OUTPUT
A3: Regression Statistics
A4: Multiple R | B4: 0.98513237
A5: R Square | B5: 0.97048578
A6: Adjusted R Square | B6: 0.96708029
A7: Standard Error | B7: 5.590278
A8: Observations | B8: 30
A10: ANOVA
B11: df | C11: SS | D11: MS | E11: F | F11: Significance F
A12: Regression | B12: 3 | C12: 26717.635 | D12: 8905.8784 | E12: 284.9771 | F12: 5.3212649e-20
A13: Residual | B13: 26 | C13: 812.5314 | D13: 31.251208
A14: Total | B14: 29 | C14: 27530.167
B16: Coefficients | C16: Standard Error | D16: t Stat | E16: P-value | F16: Lower 95% | G16: Upper 95% | H16: Lower 95.0% | I16: Upper 95.0%
A17: Intercept | B17: 1004.1966 | C17: 5.5670506 | D17: 180.38215 | E17: 8.3090431e-42 | F17: 992.75332 | G17: 1015.6398 | H17: 992.75332 | I17: 1015.6398
A18: Price ($) | B18: -2.3451386 | C18: 0.33891777 | D18: -6.9194913 | E18: 2.4001804e-07 | F18: -3.041794 | G18: -1.6484831 | H18: -3.041794 | I18: -1.6484831
A19: Income (1000s) | B19: 1.5739578 | C19: 0.056646748 | D19: 27.785493 | E19: 7.3337851e-21 | F19: 1.4575188 | G19: 1.6903969 | H19: 1.4575188 | I19: 1.6903969
A20: Internet Advertising ($) | B20: -0.0057233959 | C20: 0.012034641 | D20: -0.4755768 | E20: 0.63834735 | F20: -0.030460954 | G20: 0.019014162 | H20: -0.030460954 | I20: 0.019014162
F22: T_Critical
F23: 2-Tailed | G23: 1-Tailed (Left)
A24: RESIDUAL OUTPUT | F24: =_xlfn.T.INV.2T(0.05,B13) -> 2.0555294 | G24: =_xlfn.T.INV(0.025,B13) -> -2.0555294
A26: Observation | B26: Predicted Quantity (units) | C26: Residuals | D26: Standard Residuals
A27: 1 | B27: 1062.6631 | C27: 2.3368699 | D27: 0.44148246 | F27: =_xlfn.T.DIST(D18,B13,TRUE) -> 1.2000902e-07
A28: 2 | B28: 984.50598 | C28: 6.4940171 | D28: 1.2268525
A29: 3 | B29: 994.80528 | C29: 2.1947163 | D29: 0.41462674
A30: 4 | B30: 1000.5574 | C30: 2.4426316 | D30: 0.461463
A31: 5 | B31: 1034.841 | C31: 1.1589635 | D31: 0.21895188
A32: 6 | B32: 1049.0398 | C32: -1.0397547 | D32: -0.19643091
A33: 7 | B33: 1008.3896 | C33: 3.6103974 | D33: 0.68207783
A34: 8 | B34: 990.51119 | C34: -0.51118732 | D34: -0.096573728
A35: 9 | B35: 1035.2056 | C35: -3.205621 | D35: -0.60560729
A36: 10 | B36: 1023.7044 | C36: -8.7044069 | D36: -1.6444403
A37: 11 | B37: 1063.8245 | C37: -2.824533 | D37: -0.53361198
A38: 12 | B38: 1074.8738 | C38: 8.1261661 | D38: 1.5351988
A39: 13 | B39: 1030.7261 | C39: -2.7261022 | D39: -0.5150164
... A56: 30 | B56: 1041.2528 | C56: 8.7471627 | D56: 1.6525177

Sheet 22.  DW-Test
A1: SUMMARY OUTPUT
A3: Regression Statistics
A4: Multiple R | B4: 0.98513237
A5: R Square | B5: 0.97048578
A6: Adjusted R Square | B6: 0.96708029
A7: Standard Error | B7: 5.590278
A8: Observations | B8: 30
A10: ANOVA
B11: df | C11: SS | D11: MS | E11: F | F11: Significance F
A12: Regression | B12: 3 | C12: 26717.635 | D12: 8905.8784 | E12: 284.9771 | F12: 5.3212649e-20
A13: Residual | B13: 26 | C13: 812.5314 | D13: 31.251208
A14: Total | B14: 29 | C14: 27530.167
B16: Coefficients | C16: Standard Error | D16: t Stat | E16: P-value | F16: Lower 95% | G16: Upper 95% | H16: Lower 95.0% | I16: Upper 95.0%
A17: Intercept | B17: 1004.1966 | C17: 5.5670506 | D17: 180.38215 | E17: 8.3090431e-42 | F17: 992.75332 | G17: 1015.6398 | H17: 992.75332 | I17: 1015.6398
A18: Price ($) | B18: -2.3451386 | C18: 0.33891777 | D18: -6.9194913 | E18: 2.4001804e-07 | F18: -3.041794 | G18: -1.6484831 | H18: -3.041794 | I18: -1.6484831
A19: Income (1000s) | B19: 1.5739578 | C19: 0.056646748 | D19: 27.785493 | E19: 7.3337851e-21 | F19: 1.4575188 | G19: 1.6903969 | H19: 1.4575188 | I19: 1.6903969
A20: Internet Advertising ($) | B20: -0.0057233959 | C20: 0.012034641 | D20: -0.4755768 | E20: 0.63834735 | F20: -0.030460954 | G20: 0.019014162 | H20: -0.030460954 | I20: 0.019014162
A24: RESIDUAL OUTPUT
A26: Observation | B26: Predicted Quantity (units) | C26: Residuals | D26: Standard Residuals | E26: DW
A27: 1 | B27: 1062.6631 | C27: 2.3368699 | D27: 0.44148246 | E27: =SUMXMY2(D27:D55,D28:D56)/SUMSQ(D27:D56) -> 2.2487557
A28: 2 | B28: 984.50598 | C28: 6.4940171 | D28: 1.2268525
A29: 3 | B29: 994.80528 | C29: 2.1947163 | D29: 0.41462674
A30: 4 | B30: 1000.5574 | C30: 2.4426316 | D30: 0.461463
A31: 5 | B31: 1034.841 | C31: 1.1589635 | D31: 0.21895188
A32: 6 | B32: 1049.0398 | C32: -1.0397547 | D32: -0.19643091
A33: 7 | B33: 1008.3896 | C33: 3.6103974 | D33: 0.68207783
A34: 8 | B34: 990.51119 | C34: -0.51118732 | D34: -0.096573728
A35: 9 | B35: 1035.2056 | C35: -3.205621 | D35: -0.60560729
A36: 10 | B36: 1023.7044 | C36: -8.7044069 | D36: -1.6444403
A37: 11 | B37: 1063.8245 | C37: -2.824533 | D37: -0.53361198
A38: 12 | B38: 1074.8738 | C38: 8.1261661 | D38: 1.5351988
A39: 13 | B39: 1030.7261 | C39: -2.7261022 | D39: -0.5150164
... A56: 30 | B56: 1041.2528 | C56: 8.7471627 | D56: 1.6525177

Sheet 23. Tests Summary (Future Ref.)
A1: SUMMARY OUTPUT
A3: Regression Statistics
A4: Multiple R | B4: 0.98513237
A5: R Square | B5: 0.97048578
A6: Adjusted R Square | B6: 0.96708029
A7: Standard Error | B7: 5.590278
A8: Observations | B8: 30
A10: ANOVA
B11: df | C11: SS | D11: MS | E11: F | F11: Significance F
A12: Regression | B12: 3 | C12: 26717.635 | D12: 8905.8784 | E12: 284.9771 | F12: 5.3212649e-20
A13: Residual | B13: 26 | C13: 812.5314 | D13: 31.251208
A14: Total | B14: 29 | C14: 27530.167
B16: Coefficients | C16: Standard Error | D16: t Stat | E16: P-value | F16: Lower 95% | G16: Upper 95% | H16: Lower 95.0% | I16: Upper 95.0%
A17: Intercept | B17: 1004.1966 | C17: 5.5670506 | D17: 180.38215 | E17: 8.3090431e-42 | F17: 992.75332 | G17: 1015.6398 | H17: 992.75332 | I17: 1015.6398 | J17: alpha | K17: Reject H0?
A18: Price ($) | B18: -2.3451386 | C18: 0.33891777 | D18: -6.9194913 | E18: 2.4001804e-07 | F18: -3.041794 | G18: -1.6484831 | H18: -3.041794 | I18: -1.6484831 | J18: 0.05 | K18: =IF(E18<$J$18,"Yes","No") -> Yes
A19: Income (1000s) | B19: 1.5739578 | C19: 0.056646748 | D19: 27.785493 | E19: 7.3337851e-21 | F19: 1.4575188 | G19: 1.6903969 | H19: 1.4575188 | I19: 1.6903969 | K19: =IF(E19<$J$18,"Yes","No") -> Yes
A20: Internet Advertising ($) | B20: -0.0057233959 | C20: 0.012034641 | D20: -0.4755768 | E20: 0.63834735 | F20: -0.030460954 | G20: 0.019014162 | H20: -0.030460954 | I20: 0.019014162 | K20: =IF(E20<$J$18,"Yes","No") -> No
A24: RESIDUAL OUTPUT
A26: Observation | B26: Predicted Quantity (units) | C26: Residuals | D26: Standard Residuals | F26: DW
A27: 1 | B27: 1062.6631 | C27: 2.3368699 | D27: 0.44148246 | F27: =SUMXMY2(D27:D55,D28:D56)/SUMSQ(D27:D56) -> 2.2487557
A28: 2 | B28: 984.50598 | C28: 6.4940171 | D28: 1.2268525
A29: 3 | B29: 994.80528 | C29: 2.1947163 | D29: 0.41462674
A30: 4 | B30: 1000.5574 | C30: 2.4426316 | D30: 0.461463
A31: 5 | B31: 1034.841 | C31: 1.1589635 | D31: 0.21895188
A32: 6 | B32: 1049.0398 | C32: -1.0397547 | D32: -0.19643091
A33: 7 | B33: 1008.3896 | C33: 3.6103974 | D33: 0.68207783
A34: 8 | B34: 990.51119 | C34: -0.51118732 | D34: -0.096573728
A35: 9 | B35: 1035.2056 | C35: -3.205621 | D35: -0.60560729
A36: 10 | B36: 1023.7044 | C36: -8.7044069 | D36: -1.6444403
A37: 11 | B37: 1063.8245 | C37: -2.824533 | D37: -0.53361198
A38: 12 | B38: 1074.8738 | C38: 8.1261661 | D38: 1.5351988
A39: 13 | B39: 1030.7261 | C39: -2.7261022 | D39: -0.5150164
... A56: 30 | B56: 1041.2528 | C56: 8.7471627 | D56: 1.6525177

Sheet Quiz 6
A1: Year | B1: LnP | C1: LnSpeed | D1: LnCapacity | E1: LnDurability | F1: Year 2011 | G1: Year 2012
A2: 2010 | B2: 5.3657345 | C2: 7.5326236 | D2: 8.1089242 | E2: 4.4426513 | F2: =IF(A2=2011,1,0) -> 0 | G2: =IF(A2=2012,1,0) -> 0
A3: 2011 | B3: 5.0779551 | C3: 7.678789 | D3: 8.6215532 | E3: 4.3820266 | F3: =IF(A3=2011,1,0) -> 1 | G3: =IF(A3=2012,1,0) -> 0
A4: 2012 | B4: 4.6983692 | C4: 7.6764736 | D4: 8.5796045 | E4: 4.5108595 | F4: =IF(A4=2011,1,0) -> 0 | G4: =IF(A4=2012,1,0) -> 1
A5: 2010 | B5: 5.2656874 | C5: 7.52564 | D5: 8.2646208 | E5: 4.3820266 | F5: =IF(A5=2011,1,0) -> 0 | G5: =IF(A5=2012,1,0) -> 0
A6: 2011 | B6: 5.1664523 | C6: 7.6893711 | D6: 8.4536142 | E6: 4.3820266 | F6: =IF(A6=2011,1,0) -> 1 | G6: =IF(A6=2012,1,0) -> 0
A7: 2012 | B7: 4.6543227 | C7: 7.6511202 | D7: 8.5235728 | E7: 4.3820266 | F7: =IF(A7=2011,1,0) -> 0 | G7: =IF(A7=2012,1,0) -> 1
A8: 2010 | B8: 5.3507593 | C8: 7.556428 | D8: 8.660254 | E8: 4.5325995 | F8: =IF(A8=2011,1,0) -> 0 | G8: =IF(A8=2012,1,0) -> 0
A9: 2011 | B9: 4.9718849 | C9: 7.5267176 | D9: 8.2236272 | E9: 4.4308168 | F9: =IF(A9=2011,1,0) -> 1 | G9: =IF(A9=2012,1,0) -> 0
A10: 2012 | B10: 4.5197524 | C10: 7.5299434 | D10: 8.6625049 | E10: 4.4426513 | F10: =IF(A10=2011,1,0) -> 0 | G10: =IF(A10=2012,1,0) -> 1
A11: 2012 | B11: 4.4690146 | C11: 7.5766098 | D11: 8.6168575 | E11: 4.5951199 | F11: =IF(A11=2011,1,0) -> 0 | G11: =IF(A11=2012,1,0) -> 1
A12: 2011 | B12: 4.916256 | C12: 7.6143121 | D12: 8.1137261 | E12: 4.4886364 | F12: =IF(A12=2011,1,0) -> 1 | G12: =IF(A12=2012,1,0) -> 0
A13: 2010 | B13: 5.421455 | C13: 7.5082388 | D13: 8.5656023 | E13: 4.5538769 | F13: =IF(A13=2011,1,0) -> 0 | G13: =IF(A13=2012,1,0) -> 0
... A25: 2010 | B25: 5.4510036 | C25: 7.5688957 | D25: 8.6882853 | E25: 4.4886364 | F25: =IF(A25=2011,1,0) -> 0 | G25: =IF(A25=2012,1,0) -> 0

Sheet 24. Normal Residuals
A1: SUMMARY OUTPUT
A3: Regression Statistics
A4: Multiple R | B4: 0.98513237
A5: R Square | B5: 0.97048578
A6: Adjusted R Square | B6: 0.96708029
A7: Standard Error | B7: 5.590278
A8: Observations | B8: 30
A10: ANOVA
B11: df | C11: SS | D11: MS | E11: F | F11: Significance F
A12: Regression | B12: 3 | C12: 26717.635 | D12: 8905.8784 | E12: 284.9771 | F12: 5.3212649e-20
A13: Residual | B13: 26 | C13: 812.5314 | D13: 31.251208
A14: Total | B14: 29 | C14: 27530.167
B16: Coefficients | C16: Standard Error | D16: t Stat | E16: P-value | F16: Lower 95% | G16: Upper 95% | H16: Lower 95.0%
A17: Intercept | B17: 1004.1966 | C17: 5.5670506 | D17: 180.38215 | E17: 8.3090431e-42 | F17: 992.75332 | G17: 1015.6398 | H17: 992.75332 | I17: 1015.6398
A18: Price ($) | B18: -2.3451386 | C18: 0.33891777 | D18: -6.9194913 | E18: 2.4001804e-07 | F18: -3.041794 | G18: -1.6484831 | H18: -3.041794 | I18: -1.6484831
A19: Income (1000s) | B19: 1.5739578 | C19: 0.056646748 | D19: 27.785493 | E19: 7.3337851e-21 | F19: 1.4575188 | G19: 1.6903969 | H19: 1.4575188 | I19: 1.6903969
A20: Internet Advertising ($) | B20: -0.0057233959 | C20: 0.012034641 | D20: -0.4755768 | E20: 0.63834735 | F20: -0.030460954 | G20: 0.019014162 | H20: -0.030460954 | I20: 0.019014162
A24: RESIDUAL OUTPUT
A26: Observation | B26: Predicted Quantity (units) | C26: Residuals | D26: Standard Residuals
A27: 1 | B27: 1062.6631 | C27: 2.3368699 | D27: 0.44148246
A28: 2 | B28: 984.50598 | C28: 6.4940171 | D28: 1.2268525
A29: 3 | B29: 994.80528 | C29: 2.1947163 | D29: 0.41462674
A30: 4 | B30: 1000.5574 | C30: 2.4426316 | D30: 0.461463
A31: 5 | B31: 1034.841 | C31: 1.1589635 | D31: 0.21895188
A32: 6 | B32: 1049.0398 | C32: -1.0397547 | D32: -0.19643091
A33: 7 | B33: 1008.3896 | C33: 3.6103974 | D33: 0.68207783
A34: 8 | B34: 990.51119 | C34: -0.51118732 | D34: -0.096573728
A35: 9 | B35: 1035.2056 | C35: -3.205621 | D35: -0.60560729
A36: 10 | B36: 1023.7044 | C36: -8.7044069 | D36: -1.6444403 | F36: Bins | H36: Bin | I36: Frequency
A37: 11 | B37: 1063.8245 | C37: -2.824533 | D37: -0.53361198 | F37: -3 | H37: -3 | I37: 0
A38: 12 | B38: 1074.8738 | C38: 8.1261661 | D38: 1.5351988 | F38: -2.5 | H38: -2.5 | I38: 0
A39: 13 | B39: 1030.7261 | C39: -2.7261022 | D39: -0.5150164 | F39: -2 | H39: -2 | I39: 1
A40: 14 | B40: 1043.0739 | C40: 4.9260916 | D40: 0.93063934 | F40: -1.5 | H40: -1.5 | I40: 1
A41: 15 | B41: 1072.4399 | C41: -3.4398651 | D41: -0.64986079 | F41: -1 | H41: -1 | I41: 2
A42: 16 | B42: 1021.9888 | C42: -3.9888419 | D42: -0.75357373 | F42: -0.5 | H42: -0.5 | I42: 7
A43: 17 | B43: 1048.5231 | C43: 8.4768525 | D43: 1.6014506 | F43: 0 | H43: 0 | I43: 6
A44: 18 | B44: 1062.0005 | C44: -3.0004586 | D44: -0.56684793 | F44: 0.5 | H44: 0.5 | I44: 5
A45: 19 | B45: 1043.2215 | C45: -11.221474 | D45: -2.1199657 | F45: 1 | H45: 1 | I45: 2
A46: 20 | B46: 1052.4604 | C46: 5.5395787 | D46: 1.0465396 | F46: 1.5 | H46: 1.5 | I46: 2
A47: 21 | B47: 1064.7793 | C47: -3.7793328 | D47: -0.71399318 | F47: 2 | H47: 2 | I47: 4
A48: 22 | B48: 972.94753 | C48: 0.052465107 | D48: 0.0099117305 | F48: 2.5 | H48: 2.5 | I48: 0
A49: 23 | B49: 1020.8111 | C49: -0.81106482 | D49: -0.15322671 | F49: 3 | H49: 3 | I49: 0
A50: 24 | B50: 994.29313 | C50: -6.2931335 | D50: -1.1889015 | H50: More | I50: 0
A51: 25 | B51: 1018.4131 | C51: -2.4131493 | D51: -0.4558932
A52: 26 | B52: 1058.851 | C52: -0.8510414 | D52: -0.16077911
A53: 27 | B53: 983.55864 | C53: 9.4413568 | D53: 1.7836652
A54: 28 | B54: 980.24198 | C54: -7.2419811 | D54: -1.3681582
A55: 29 | B55: 1012.4953 | C55: -1.4953213 | D55: -0.28249675
A56: 30 | B56: 1041.2528 | C56: 8.7471627 | D56: 1.6525177

Sheet 25. Homoskedasticity
A1: SUMMARY OUTPUT
A3: Regression Statistics
A4: Multiple R | B4: 0.98513237
A5: R Square | B5: 0.97048578
A6: Adjusted R Square | B6: 0.96708029
A7: Standard Error | B7: 5.590278
A8: Observations | B8: 30
A10: ANOVA
B11: df | C11: SS | D11: MS | E11: F | F11: Significance F
A12: Regression | B12: 3 | C12: 26717.635 | D12: 8905.8784 | E12: 284.9771 | F12: 5.3212649e-20
A13: Residual | B13: 26 | C13: 812.5314 | D13: 31.251208
A14: Total | B14: 29 | C14: 27530.167
B16: Coefficients | C16: Standard Error | D16: t Stat | E16: P-value | F16: Lower 95% | G16: Upper 95% | H16: Lower 95.0%
A17: Intercept | B17: 1004.1966 | C17: 5.5670506 | D17: 180.38215 | E17: 8.3090431e-42 | F17: 992.75332 | G17: 1015.6398 | H17: 992.75332 | I17: 1015.6398
A18: Price ($) | B18: -2.3451386 | C18: 0.33891777 | D18: -6.9194913 | E18: 2.4001804e-07 | F18: -3.041794 | G18: -1.6484831 | H18: -3.041794 | I18: -1.6484831
A19: Income (1000s) | B19: 1.5739578 | C19: 0.056646748 | D19: 27.785493 | E19: 7.3337851e-21 | F19: 1.4575188 | G19: 1.6903969 | H19: 1.4575188 | I19: 1.6903969
A20: Internet Advertising ($) | B20: -0.0057233959 | C20: 0.012034641 | D20: -0.4755768 | E20: 0.63834735 | F20: -0.030460954 | G20: 0.019014162 | H20: -0.030460954 | I20: 0.019014162
A24: RESIDUAL OUTPUT
A26: Observation | B26: Predicted Quantity (units) | C26: Residuals | D26: Standard Residuals
A27: 1 | B27: 1062.6631 | C27: 2.3368699 | D27: 0.44148246
A28: 2 | B28: 984.50598 | C28: 6.4940171 | D28: 1.2268525
A29: 3 | B29: 994.80528 | C29: 2.1947163 | D29: 0.41462674
A30: 4 | B30: 1000.5574 | C30: 2.4426316 | D30: 0.461463
A31: 5 | B31: 1034.841 | C31: 1.1589635 | D31: 0.21895188
A32: 6 | B32: 1049.0398 | C32: -1.0397547 | D32: -0.19643091
A33: 7 | B33: 1008.3896 | C33: 3.6103974 | D33: 0.68207783
A34: 8 | B34: 990.51119 | C34: -0.51118732 | D34: -0.096573728
A35: 9 | B35: 1035.2056 | C35: -3.205621 | D35: -0.60560729
A36: 10 | B36: 1023.7044 | C36: -8.7044069 | D36: -1.6444403
A37: 11 | B37: 1063.8245 | C37: -2.824533 | D37: -0.53361198
A38: 12 | B38: 1074.8738 | C38: 8.1261661 | D38: 1.5351988
... A56: 30 | B56: 1041.2528 | C56: 8.7471627 | D56: 1.6525177

Sheet 26. Independent Inputs
B1: Price ($) | C1: Income (1000s) | D1: Internet Advertising ($)
A2: Price ($) | B2: 1
A3: Income (1000s) | B3: 0.050732545 | C3: 1
A4: Internet Advertising ($) | B4: 0.28042209 | C4: 0.26194044 | D4: 1

Sheet 27. Endogeneity

Sheet Quiz 7

Sheet 28. Holdout Samples
A1: Period | B1: Quantity (units) | C1: Price ($) | D1: Income (1000s)
A2: 1 | B2: 1065 | C2: 20 | D2: 68
A3: 2 | B3: 991 | C3: 18 | D3: 15
A4: 3 | B4: 997 | C4: 16 | D4: 19
A5: 4 | B5: 1003 | C5: 16 | D5: 22
A6: 5 | B6: 1036 | C6: 16 | D6: 44
A7: 6 | B7: 1048 | C7: 19 | D7: 58
A8: 7 | B8: 1012 | C8: 10 | D8: 18
A9: 8 | B9: 990 | C9: 15 | D9: 15
A10: 9 | B10: 1032 | C10: 11 | D10: 37
A11: 10 | B11: 1015 | C11: 13 | D11: 33
A12: 11 | B12: 1061 | C12: 12 | D12: 57
A13: 12 | B13: 1083 | C13: 14 | D13: 67
... A31: 30 | B31: 1050 | C31: 17 | D31: 50

Sheet 29. Holdout Regression
A1: SUMMARY OUTPUT
A3: Regression Statistics
A4: Multiple R | B4: 0.98061171
A5: R Square | B5: 0.96159933
A6: Adjusted R Square | B6: 0.95708161
A7: Standard Error | B7: 5.7580497
A8: Observations | B8: 20
A10: ANOVA
B11: df | C11: SS | D11: MS | E11: F | F11: Significance F
A12: Regression | B12: 2 | C12: 14114.163 | D12: 7057.0813 | E12: 212.85032 | F12: 9.2657292e-13
A13: Residual | B13: 17 | C13: 563.63732 | D13: 33.155137
A14: Total | B14: 19 | C14: 14677.8
B16: Coefficients | C16: Standard Error | D16: t Stat | E16: P-value | F16: Lower 95% | G16: Upper 95% | H16: Lower 95.0% | I16: Upper 95.0%
A17: Intercept | B17: 1002.1797 | C17: 6.3962004 | D17: 156.6836 | E17: 2.6383183e-28 | F17: 988.68492 | G17: 1015.6745 | H17: 988.68492 | I17: 1015.6745
A18: Price ($) | B18: -2.2170881 | C18: 0.41183982 | D18: -5.3833747 | E18: 4.9533452e-05 | F18: -3.0859941 | G18: -1.348182 | H18: -3.0859941 | I18: -1.348182
A19: Income (1000s) | B19: 1.5476964 | C19: 0.075152601 | D19: 20.59405 | E19: 1.853877e-13 | F19: 1.3891383 | G19: 1.7062545 | H19: 1.3891383 | I19: 1.7062545
A23: RESIDUAL OUTPUT
A25: Observation | B25: Predicted Quantity (units) | C25: Residuals | D25: Standard Residuals
A26: 1 | B26: 1063.0813 | C26: 1.9186842 | D26: 0.35227386
A27: 2 | B27: 985.48758 | C27: 5.5124179 | D27: 1.0120898
A28: 3 | B28: 996.11254 | C28: 0.88745615 | D28: 0.16293855
A29: 4 | B29: 1000.7556 | C29: 2.2443669 | D29: 0.4120698
A30: 5 | B30: 1034.805 | C30: 1.1950458 | D30: 0.21941256
A31: 6 | B31: 1049.8214 | C31: -1.8214398 | D31: -0.33441962
A32: 7 | B32: 1007.8674 | C32: 4.1326242 | D32: 0.75875723
A33: 8 | B33: 992.13885 | C33: -2.1388463 | D33: -0.39269602
A34: 9 | B34: 1035.0565 | C34: -3.0565196 | D34: -0.56118249
A35: 10 | B35: 1024.4316 | C35: -9.4315578 | D35: -1.731651
A36: 11 | B36: 1063.7934 | C36: -2.7933598 | D36: -0.51286588
A37: 12 | B37: 1074.8361 | C37: 8.1638522 | D37: 1.4988979
... A45: 20 | B45: 1051.2029 | C45: 6.7971246 | D45: 1.2479643

Sheet 30. Excel Tricks
F1: Model
A2: Actual Data | F2: Intercept | G2: Price ($) | H2: Income (1000s) | I2: Predicted Quantity
A3: Period | B3: Quantity (units) | C3: Price ($) | D3: Income (1000s) | F3: 1002.1797 | G3: -2.2170881 | H3: 1.5476964
A4: 21 | B4: 1061 | C4: 19 | D4: 68 | I4: =$F$3+SUMPRODUCT($G$3:$H$3,C4:D4) -> 1065.2984
A5: 22 | B5: 973 | C5: 20 | D5: 11 | I5: =$F$3+SUMPRODUCT($G$3:$H$3,C5:D5) -> 974.86262
A6: 23 | B6: 1020 | C6: 11 | D6: 28 | I6: =$F$3+SUMPRODUCT($G$3:$H$3,C6:D6) -> 1021.1273
A7: 24 | B7: 988 | C7: 18 | D7: 21 | I7: =$F$3+SUMPRODUCT($G$3:$H$3,C7:D7) -> 994.77376
A8: 25 | B8: 1016 | C8: 15 | D8: 32 | I8: =$F$3+SUMPRODUCT($G$3:$H$3,C8:D8) -> 1018.4497
A9: 26 | B9: 1058 | C9: 16 | D9: 59 | I9: =$F$3+SUMPRODUCT($G$3:$H$3,C9:D9) -> 1058.0204
A10: 27 | B10: 993 | C10: 16 | D10: 12 | I10: =$F$3+SUMPRODUCT($G$3:$H$3,C10:D10) -> 985.27867
A11: 28 | B11: 973 | C11: 18 | D11: 12 | I11: =$F$3+SUMPRODUCT($G$3:$H$3,C11:D11) -> 980.84449
A12: 29 | B12: 1011 | C12: 19 | D12: 35 | I12: =$F$3+SUMPRODUCT($G$3:$H$3,C12:D12) -> 1014.2244
A13: 30 | B13: 1050 | C13: 17 | D13: 50 | I13: =$F$3+SUMPRODUCT($G$3:$H$3,C13:D13) -> 1041.874

Sheet 31. RMSE
F1: Model
A2: Actual Data | F2: Intercept | G2: Price ($) | H2: Income (1000s) | I2: Predicted Quantity | K2: Step 1 | L2: Step 2 | M2: Step 3 | N2: Step 4
A3: Period | B3: Quantity (units) | C3: Price ($) | D3: Income (1000s) | F3: 1002.1797 | G3: -2.2170881 | H3: 1.5476964 | K3: Error | L3: Error^2 | M3: E(Error^2) | N3: RMSE
A4: 21 | B4: 1061 | C4: 19 | D4: 68 | I4: =$F$3+SUMPRODUCT($G$3:$H$3,C4:D4) -> 1065.2984 | K4: =I4-B4 -> 4.2984039 | L4: =K4^2 -> 18.476276 | M4: =AVERAGE(L4:L13) -> 27.26846 | N4: =SQRT(M4) -> 5.2219211
A5: 22 | B5: 973 | C5: 20 | D5: 11 | I5: =$F$3+SUMPRODUCT($G$3:$H$3,C5:D5) -> 974.86262 | K5: =I5-B5 -> 1.8626203 | L5: =K5^2 -> 3.4693543
A6: 23 | B6: 1020 | C6: 11 | D6: 28 | I6: =$F$3+SUMPRODUCT($G$3:$H$3,C6:D6) -> 1021.1273 | K6: =I6-B6 -> 1.1272519 | L6: =K6^2 -> 1.2706968
A7: 24 | B7: 988 | C7: 18 | D7: 21 | I7: =$F$3+SUMPRODUCT($G$3:$H$3,C7:D7) -> 994.77376 | K7: =I7-B7 -> 6.7737605 | L7: =K7^2 -> 45.883832
A8: 25 | B8: 1016 | C8: 15 | D8: 32 | I8: =$F$3+SUMPRODUCT($G$3:$H$3,C8:D8) -> 1018.4497 | K8: =I8-B8 -> 2.4496853 | L8: =K8^2 -> 6.000958
A9: 26 | B9: 1058 | C9: 16 | D9: 59 | I9: =$F$3+SUMPRODUCT($G$3:$H$3,C9:D9) -> 1058.0204 | K9: =I9-B9 -> 0.020400383 | L9: =K9^2 -> 0.00041617562
A10: 27 | B10: 993 | C10: 16 | D10: 12 | I10: =$F$3+SUMPRODUCT($G$3:$H$3,C10:D10) -> 985.27867 | K10: =I10-B10 -> -7.721331 | L10: =K10^2 -> 59.618953
A11: 28 | B11: 973 | C11: 18 | D11: 12 | I11: =$F$3+SUMPRODUCT($G$3:$H$3,C11:D11) -> 980.84449 | K11: =I11-B11 -> 7.8444928 | L11: =K11^2 -> 61.536068
A12: 29 | B12: 1011 | C12: 19 | D12: 35 | I12: =$F$3+SUMPRODUCT($G$3:$H$3,C12:D12) -> 1014.2244 | K12: =I12-B12 -> 3.2244223 | L12: =K12^2 -> 10.396899
A13: 30 | B13: 1050 | C13: 17 | D13: 50 | I13: =$F$3+SUMPRODUCT($G$3:$H$3,C13:D13) -> 1041.874 | K13: =I13-B13 -> -8.1259554 | L13: =K13^2 -> 66.031151

Sheet 32. MAPE
F1: Model
A2: Actual Data | F2: Intercept | G2: Price ($) | H2: Income (1000s) | I2: Predicted Quantity | K2: Step 1 | L2: Step 2 | M2: Step 3 | N2: Step 4
A3: Period | B3: Quantity (units) | C3: Price ($) | D3: Income (1000s) | F3: 1002.1797 | G3: -2.2170881 | H3: 1.5476964 | K3: Error | L3: % Error | M3: Abs(%Error) | N3: MAPE
A4: 21 | B4: 1061 | C4: 19 | D4: 68 | I4: =$F$3+SUMPRODUCT($G$3:$H$3,C4:D4) -> 1065.2984 | K4: =I4-B4 -> 4.2984039 | L4: =K4/B4*100 -> 0.40512761 | M4: =ABS(L4) -> 0.40512761 | N4: =AVERAGE(M4:M13) -> 0.43123432
A5: 22 | B5: 973 | C5: 20 | D5: 11 | I5: =$F$3+SUMPRODUCT($G$3:$H$3,C5:D5) -> 974.86262 | K5: =I5-B5 -> 1.8626203 | L5: =K5/B5*100 -> 0.19143066 | M5: =ABS(L5) -> 0.19143066
A6: 23 | B6: 1020 | C6: 11 | D6: 28 | I6: =$F$3+SUMPRODUCT($G$3:$H$3,C6:D6) -> 1021.1273 | K6: =I6-B6 -> 1.1272519 | L6: =K6/B6*100 -> 0.11051489 | M6: =ABS(L6) -> 0.11051489
A7: 24 | B7: 988 | C7: 18 | D7: 21 | I7: =$F$3+SUMPRODUCT($G$3:$H$3,C7:D7) -> 994.77376 | K7: =I7-B7 -> 6.7737605 | L7: =K7/B7*100 -> 0.68560329 | M7: =ABS(L7) -> 0.68560329
A8: 25 | B8: 1016 | C8: 15 | D8: 32 | I8: =$F$3+SUMPRODUCT($G$3:$H$3,C8:D8) -> 1018.4497 | K8: =I8-B8 -> 2.4496853 | L8: =K8/B8*100 -> 0.24111076 | M8: =ABS(L8) -> 0.24111076
A9: 26 | B9: 1058 | C9: 16 | D9: 59 | I9: =$F$3+SUMPRODUCT($G$3:$H$3,C9:D9) -> 1058.0204 | K9: =I9-B9 -> 0.020400383 | L9: =K9/B9*100 -> 0.0019282025 | M9: =ABS(L9) -> 0.0019282025
A10: 27 | B10: 993 | C10: 16 | D10: 12 | I10: =$F$3+SUMPRODUCT($G$3:$H$3,C10:D10) -> 985.27867 | K10: =I10-B10 -> -7.721331 | L10: =K10/B10*100 -> -0.77757614 | M10: =ABS(L10) -> 0.77757614
A11: 28 | B11: 973 | C11: 18 | D11: 12 | I11: =$F$3+SUMPRODUCT($G$3:$H$3,C11:D11) -> 980.84449 | K11: =I11-B11 -> 7.8444928 | L11: =K11/B11*100 -> 0.80621715 | M11: =ABS(L11) -> 0.80621715
A12: 29 | B12: 1011 | C12: 19 | D12: 35 | I12: =$F$3+SUMPRODUCT($G$3:$H$3,C12:D12) -> 1014.2244 | K12: =I12-B12 -> 3.2244223 | L12: =K12/B12*100 -> 0.31893395 | M12: =ABS(L12) -> 0.31893395
A13: 30 | B13: 1050 | C13: 17 | D13: 50 | I13: =$F$3+SUMPRODUCT($G$3:$H$3,C13:D13) -> 1041.874 | K13: =I13-B13 -> -8.1259554 | L13: =K13/B13*100 -> -0.77390051 | M13: =ABS(L13) -> 0.77390051

Sheet Quiz 8
A1: Date | B1: Quantity | C1: Price | D1: Price of Competitor | E1: End of Trimester
A2: 40179 | B2: 45 | C2: 59 | D2: 47 | E2: 0
A3: 40210 | B3: 41 | C3: 57 | D3: 50 | E3: 0
A4: 40238 | B4: 45 | C4: 53 | D4: 42 | E4: 0
A5: 40269 | B5: 56 | C5: 55 | D5: 44 | E5: 1
A6: 40299 | B6: 40 | C6: 56 | D6: 42 | E6: 0
A7: 40330 | B7: 47 | C7: 55 | D7: 44 | E7: 0
A8: 40360 | B8: 45 | C8: 51 | D8: 44 | E8: 0
A9: 40391 | B9: 62 | C9: 53 | D9: 47 | E9: 1
A10: 40422 | B10: 43 | C10: 59 | D10: 46 | E10: 0
A11: 40452 | B11: 40 | C11: 58 | D11: 46 | E11: 0
A12: 40483 | B12: 47 | C12: 57 | D12: 46 | E12: 0
A13: 40513 | B13: 48 | C13: 60 | D13: 50 | E13: 1
... A37: 41244 | B37: 47 | C37: 59 | D37: 44 | E37: 1

Sheet 33. Hedonic Pricing
A1: Price | B1: Wit | C1: Rhythm | D1: Bass | E1: Criority Records | F1: West Side | G1: 2011 | H1: 2012 | I1: 2013 | J1: Price | K1: Wit | L1: Rhythm | M1: Bass | N1: Criority Records | O1: West Side | P1: 2011 | Q1: 2012 | R1: 2013
A2: =RANDBETWEEN(-5,5)/10+1*B2+0.5*C2+0.05*D2+1.5*E2+2*F2-1*G2-2*H2-3*I2 -> 10.4 | B2: =RANDBETWEEN(1,10) -> 9 | C2: =RANDBETWEEN(1,10) -> 3 | D2: =RANDBETWEEN(1,10) -> 4 | E2: 0 | F2: =RANDBETWEEN(0,1) -> 0 | G2: 0 | H2: 0 | I2: 0 | J2: 11.2 | K2: 9 | L2: 3 | M2: 4 | N2: 0 | O2: 0 | P2: 0 | Q2: 0 | R2: 0
A3: =RANDBETWEEN(-5,5)/10+1*B3+0.5*C3+0.05*D3+1.5*E3+2*F3-1*G3-2*H3-3*I3 -> 11.15 | B3: =RANDBETWEEN(1,10) -> 5 | C3: =RANDBETWEEN(1,10) -> 7 | D3: =RANDBETWEEN(1,10) -> 9 | E3: 0 | F3: =RANDBETWEEN(0,1) -> 1 | G3: 0 | H3: 0 | I3: 0 | J3: 7.15 | K3: 2 | L3: 5 | M3: 5 | N3: 0 | O3: 1 | P3: 0 | Q3: 0 | R3: 0
A4: =RANDBETWEEN(-5,5)/10+1*B4+0.5*C4+0.05*D4+1.5*E4+2*F4-1*G4-2*H4-3*I4 -> 7.4 | B4: =RANDBETWEEN(1,10) -> 5 | C4: =RANDBETWEEN(1,10) -> 1 | D4: =RANDBETWEEN(1,10) -> 4 | E4: 0 | F4: =RANDBETWEEN(0,1) -> 1 | G4: 0 | H4: 0 | I4: 0 | J4: 11.7 | K4: 9 | L4: 5 | M4: 2 | N4: 0 | O4: 0 | P4: 0 | Q4: 0 | R4: 0
A5: =RANDBETWEEN(-5,5)/10+1*B5+0.5*C5+0.05*D5+1.5*E5+2*F5-1*G5-2*H5-3*I5 -> 7.8 | B5: =RANDBETWEEN(1,10) -> 3 | C5: =RANDBETWEEN(1,10) -> 6 | D5: =RANDBETWEEN(1,10) -> 2 | E5: 0 | F5: =RANDBETWEEN(0,1) -> 1 | G5: 0 | H5: 0 | I5: 0 | J5: 7.8 | K5: 7 | L5: 1 | M5: 8 | N5: 0 | O5: 0 | P5: 0 | Q5: 0 | R5: 0
A6: =RANDBETWEEN(-5,5)/10+1*B6+0.5*C6+0.05*D6+1.5*E6+2*F6-1*G6-2*H6-3*I6 -> 10 | B6: =RANDBETWEEN(1,10) -> 6 | C6: =RANDBETWEEN(1,10) -> 7 | D6: =RANDBETWEEN(1,10) -> 4 | E6: 0 | F6: =RANDBETWEEN(0,1) -> 0 | G6: 0 | H6: 0 | I6: 0 | J6: 12.55 | K6: 9 | L6: 2 | M6: 1 | N6: 0 | O6: 1 | P6: 0 | Q6: 0 | R6: 0
A7: =RANDBETWEEN(-5,5)/10+1*B7+0.5*C7+0.05*D7+1.5*E7+2*F7-1*G7-2*H7-3*I7 -> 9.25 | B7: =RANDBETWEEN(1,10) -> 9 | C7: =RANDBETWEEN(1,10) -> 2 | D7: =RANDBETWEEN(1,10) -> 5 | E7: 0 | F7: =RANDBETWEEN(0,1) -> 0 | G7: 1 | H7: 0 | I7: 0 | J7: 2.6 | K7: 3 | L7: 1 | M7: 10 | N7: 0 | O7: 0 | P7: 1 | Q7: 0 | R7: 0
A8: =RANDBETWEEN(-5,5)/10+1*B8+0.5*C8+0.05*D8+1.5*E8+2*F8-1*G8-2*H8-3*I8 -> 6.75 | B8: =RANDBETWEEN(1,10) -> 4 | C8: =RANDBETWEEN(1,10) -> 8 | D8: =RANDBETWEEN(1,10) -> 5 | E8: 0 | F8: =RANDBETWEEN(0,1) -> 0 | G8: 1 | H8: 0 | I8: 0 | J8: 3.85 | K8: 4 | L8: 1 | M8: 1 | N8: 0 | O8: 0 | P8: 1 | Q8: 0 | R8: 0
A9: =RANDBETWEEN(-5,5)/10+1*B9+0.5*C9+0.05*D9+1.5*E9+2*F9-1*G9-2*H9-3*I9 -> 11.05 | B9: =RANDBETWEEN(1,10) -> 8 | C9: =RANDBETWEEN(1,10) -> 4 | D9: =RANDBETWEEN(1,10) -> 3 | E9: 1 | F9: =RANDBETWEEN(0,1) -> 0 | G9: 1 | H9: 0 | I9: 0 | J9: 10.5 | K9: 6 | L9: 2 | M9: 10 | N9: 1 | O9: 1 | P9: 1 | Q9: 0 | R9: 0
A10: =RANDBETWEEN(-5,5)/10+1*B10+0.5*C10+0.05*D10+1.5*E10+2*F10-1*G10-2*H10-3*I10 -> 5 | B10: =RANDBETWEEN(1,10) -> 4 | C10: =RANDBETWEEN(1,10) -> 1 | D10: =RANDBETWEEN(1,10) -> 2 | E10: 1 | F10: =RANDBETWEEN(0,1) -> 0 | G10: 1 | H10: 0 | I10: 0 | J10: 9.7 | K10: 5 | L10: 8 | M10: 10 | N10: 1 | O10: 0 | P10: 1 | Q10: 0 | R10: 0
A11: =RANDBETWEEN(-5,5)/10+1*B11+0.5*C11+0.05*D11+1.5*E11+2*F11-1*G11-2*H11-3*I11 -> 3.55 | B11: =RANDBETWEEN(1,10) -> 4 | C11: =RANDBETWEEN(1,10) -> 1 | D11: =RANDBETWEEN(1,10) -> 7 | E11: 0 | F11: =RANDBETWEEN(0,1) -> 0 | G11: 1 | H11: 0 | I11: 0 | J11: 5.75 | K11: 4 | L11: 1 | M11: 9 | N11: 0 | O11: 1 | P11: 1 | Q11: 0 | R11: 0
A12: =RANDBETWEEN(-5,5)/10+1*B12+0.5*C12+0.05*D12+1.5*E12+2*F12-1*G12-2*H12-3*I12 -> 5.85 | B12: =RANDBETWEEN(1,10) -> 3 | C12: =RANDBETWEEN(1,10) -> 9 | D12: =RANDBETWEEN(1,10) -> 5 | E12: 0 | F12: =RANDBETWEEN(0,1) -> 0 | G12: 0 | H12: 1 | I12: 0 | J12: 12.95 | K12: 10 | L12: 10 | M12: 9 | N12: 0 | O12: 0 | P12: 0 | Q12: 1 | R12: 0
A13: =RANDBETWEEN(-5,5)/10+1*B13+0.5*C13+0.05*D13+1.5*E13+2*F13-1*G13-2*H13-3*I13 -> 7.65 | B13: =RANDBETWEEN(1,10) -> 5 | C13: =RANDBETWEEN(1,10) -> 9 | D13: =RANDBETWEEN(1,10) -> 3 | E13: 0 | F13: =RANDBETWEEN(0,1) -> 0 | G13: 0 | H13: 1 | I13: 0 | J13: 9.4 | K13: 8 | L13: 7 | M13: 2 | N13: 0 | O13: 0 | P13: 0 | Q13: 1 | R13: 0
... A21: =RANDBETWEEN(-5,5)/10+1*B21+0.5*C21+0.05*D21+1.5*E21+2*F21-1*G21-2*H21-3*I21 -> 3.5 | B21: =RANDBETWEEN(1,10) -> 2 | C21: =RANDBETWEEN(1,10) -> 8 | D21: =RANDBETWEEN(1,10) -> 4 | E21: 0 | F21: =RANDBETWEEN(0,1) -> 0 | G21: 0 | H21: 0 | I21: 1 | J21: 6.45 | K21: 8 | L21: 2 | M21: 1 | N21: 0 | O21: 0 | P21: 0 | Q21: 0 | R21: 1

Sheet 34. Linear Results
A1: SUMMARY OUTPUT
A3: Regression Statistics
A4: Multiple R | B4: 0.99565744
A5: R Square | B5: 0.99133374
A6: Adjusted R Square | B6: 0.98627842
A7: Standard Error | B7: 0.35774803
A8: Observations | B8: 20
A10: ANOVA
B11: df | C11: SS | D11: MS | E11: F | F11: Significance F
A12: Regression | B12: 7 | C12: 175.68057 | D12: 25.097224 | E12: 196.09711 | F12: 2.0730105e-11
A13: Residual | B13: 12 | C13: 1.5358039 | D13: 0.12798366
A14: Total | B14: 19 | C14: 177.21638 | D14: =C14/B14 -> 9.3271776
B16: Coefficients | C16: Standard Error | D16: t Stat | E16: P-value | F16: Lower 95% | G16: Upper 95% | H16: Lower 95.0% | I16: Upper 95.0%
A17: Intercept | B17: 0.25617505 | C17: 0.38847573 | D17: 0.65943642 | E17: 0.52207001 | F17: -0.59024087 | G17: 1.102591 | H17: -0.59024087 | I17: 1.102591
A18: Wit | B18: 1.0185735 | C18: 0.039514816 | D18: 25.777001 | E18: 7.084327e-12 | F18: 0.93247807 | G18: 1.1046688 | H18: 0.93247807 | I18: 1.1046688
A19: Rhythm | B19: 0.50383736 | C19: 0.033635516 | D19: 14.979326 | E19: 3.9482113e-09 | F19: 0.43055187 | G19: 0.57712286 | H19: 0.43055187 | I19: 0.57712286
A20: Criority Records | B20: 1.4372813 | C20: 0.24473896 | D20: 5.8727114 | E20: 7.5661957e-05 | F20: 0.90404089 | G20: 1.9705217 | H20: 0.90404089 | I20: 1.9705217
A21: West Side | B21: 2.1945412 | C21: 0.19604399 | D21: 11.194126 | E21: 1.0450706e-07 | F21: 1.767398 | G21: 2.6216843 | H21: 1.767398 | I21: 2.6216843
A22: 2011 | B22: -1.0206044 | C22: 0.28036882 | D22: -3.6402208 | E22: 0.0033866875 | F22: -1.6314756 | G22: -0.40973322 | H22: -1.6314756 | I22: -0.40973322
A23: 2012 | B23: -2.3316766 | C23: 0.26517463 | D23: -8.7929852 | E23: 1.4106874e-06 | F23: -2.9094425 | G23: -1.7539107 | H23: -2.9094425 | I23: -1.7539107
A24: 2013 | B24: -3.2136191 | C24: 0.25341407 | D24: -12.681297 | E24: 2.6076228e-08 | F24: -3.765761 | G24: -2.6614773 | H24: -3.765761 | I24: -2.6614773
A28: RESIDUAL OUTPUT
A30: Observation | B30: Predicted Price | C30: Residuals | D30: Standard Residuals
A31: 1 | B31: 10.934848 | C31: 0.26515171 | D31: 0.93261706
A32: 2 | B32: 7.00705 | C32: 0.14295004 | D32: 0.50279762
A33: 3 | B33: 11.942523 | C33: -0.24252302 | D33: -0.85302524
A34: 4 | B34: 7.8900266 | C34: -0.09002664 | D34: -0.31665034
A35: 5 | B35: 12.625552 | C35: -0.075552097 | D35: -0.26573909
A36: 6 | B36: 2.7951284 | C36: -0.1951284 | D36: -0.68632433
A37: 7 | B37: 3.8137019 | C37: 0.036298143 | D37: 0.12767131
A38: 8 | B38: 9.9865086 | C38: 0.51349141 | D38: 1.8061013
A39: 9 | B39: 9.7964181 | C39: -0.096418135 | D39: -0.33913112
A40: 10 | B40: 6.008243 | C40: -0.25824303 | D40: -0.90831717
A41: 11 | B41: 13.148607 | C41: -0.1986067 | D41: -0.69855857
A42: 12 | B42: 9.5999477 | C42: -0.19994769 | D42: -0.70327521
... A50: 20 | B50: 6.1988183 | C50: 0.25118166 | D50: 0.88348024

Sheet 35. Log-Log Results
A1: SUMMARY OUTPUT
A3: Regression Statistics
A4: Multiple R | B4: 0.98304297
A5: R Square | B5: 0.96637349
A6: Adjusted R Square | B6: 0.94675802
A7: Standard Error | B7: 0.099228237
A8: Observations | B8: 20
A10: ANOVA
B11: df | C11: SS | D11: MS | E11: F | F11: Significance F
A12: Regression | B12: 7 | C12: 3.395588 | D12: 0.485084 | E12: 49.265898 | F12: 6.6997161e-08
A13: Residual | B13: 12 | C13: 0.11815492 | D13: 0.009846243
A14: Total | B14: 19 | C14: 3.5137429
B16: Coefficients | C16: Standard Error | D16: t Stat | E16: P-value | F16: Lower 95% | G16: Upper 95% | H16: Lower 95.0% | I16: Upper 95.0%
A17: Intercept | B17: 0.64598571 | C17: 0.13322902 | D17: 4.8486861 | E17: 0.00039912955 | F17: 0.35570461 | G17: 0.93626682 | H17: 0.35570461 | I17: 0.93626682
A18: Ln(Wit) | B18: 0.66610632 | C18: 0.057612962 | D18: 11.561744 | E18: 7.3118685e-08 | F18: 0.54057846 | G18: 0.79163418 | H18: 0.54057846 | I18: 0.79163418
A19: Ln(Rhythm) | B19: 0.26938376 | C19: 0.034279567 | D19: 7.8584352 | E19: 4.5118173e-06 | F19: 0.194695 | G19: 0.34407252 | H19: 0.194695 | I19: 0.34407252
A20: Criority Records | B20: 0.15017003 | C20: 0.070556002 | D20: 2.1283807 | E20: 0.054712469 | F20: -0.0035582879 | G20: 0.30389836 | H20: -0.0035582879 | I20: 0.30389836 | K20: Year | L20: Price Index
A21: West Side | B21: 0.34904938 | C21: 0.054568933 | D21: 6.3964853 | E21: 3.4202019e-05 | F21: 0.23015389 | G21: 0.46794487 | H21: 0.23015389 | I21: 0.46794487 | K21: 2010 (Base) | L21: =EXP(0-0) -> 1
A22: 2011 | B22: -0.22863254 | C22: 0.078186706 | D22: -2.9241869 | E22: 0.012740836 | F22: -0.39898674 | G22: -0.058278341 | H22: -0.39898674 | I22: -0.058278341 | K22: 2011 | L22: =EXP(B22-0) -> 0.79562084
A23: 2012 | B23: -0.24994915 | C23: 0.069314712 | D23: -3.6060042 | E23: 0.0036059599 | F23: -0.40097293 | G23: -0.09892536 | H23: -0.40097293 | I23: -0.09892536 | K23: 2012 | L23: =EXP(B23-0) -> 0.77884039
A24: 2013 | B24: -0.46200982 | C24: 0.069931712 | D24: -6.6065852 | E24: 2.5136083e-05 | F24: -0.61437793 | G24: -0.3096417 | H24: -0.61437793 | I24: -0.3096417 | K24: 2013 | L24: =EXP(B24-0) -> 0.63001616
A28: RESIDUAL OUTPUT
A30: Observation | B30: Predicted Ln(Price) | C30: Residuals | D30: Standard Residuals
A31: 1 | B31: 2.4055192 | C31: 0.010394583 | D31: 0.13181292
A32: 2 | B32: 1.8903012 | C32: 0.076811117 | D32: 0.97403595
A33: 3 | B33: 2.5431273 | C33: -0.083538479 | D33: -1.0593451
A34: 4 | B34: 1.9421688 | C34: 0.11195497 | D34: 1.4196925
A35: 5 | B35: 2.6453429 | C35: -0.11562219 | D35: -1.4661963
A36: 6 | B36: 1.1491458 | C36: -0.19363432 | D36: -2.4554621
A37: 7 | B37: 1.3407726 | C37: 0.0073005394 | D37: 0.092577585
A38: 8 | B38: 2.2967975 | C38: 0.054577772 | D38: 0.69209659
A39: 9 | B39: 2.1997477 | C39: 0.072378138 | D39: 0.91782168
A40: 10 | B40: 1.689822 | C40: 0.059377867 | D40: 0.75296622
A41: 11 | B41: 2.5500821 | C41: 0.011013716 | D41: 0.1396641
A42: 12 | B42: 2.3053623 | C42: -0.064652617 | D42: -0.81985492
... A50: 20 | B50: 1.7558276 | C50: 0.10825249 | D50: 1.3727416

Sheet 36. Try to Simplify
A1: SUMMARY OUTPUT
A3: Regression Statistics
A4: Multiple R | B4: 0.99565744
A5: R Square | B5: 0.99133374
A6: Adjusted R Square | B6: 0.98627842
A7: Standard Error | B7: 0.35774803
A8: Observations | B8: 20
A10: ANOVA
B11: df | C11: SS | D11: MS | E11: F | F11: Significance F
A12: Regression | B12: 7 | C12: 175.68057 | D12: 25.097224 | E12: 196.09711 | F12: 2.0730105e-11
A13: Residual | B13: 12 | C13: 1.5358039 | D13: 0.12798366
A14: Total | B14: 19 | C14: 177.21638 | D14: =C14/B14 -> 9.3271776
B16: Coefficients | C16: Standard Error | D16: t Stat | E16: P-value | F16: Lower 95% | G16: Upper 95% | H16: Lower 95.0% | I16: Upper 95.0%
A17: Intercept | B17: 0.25617505 | C17: 0.38847573 | D17: 0.65943642 | E17: 0.52207001 | F17: -0.59024087 | G17: 1.102591 | H17: -0.59024087 | I17: 1.102591
A18: Wit | B18: 1.0185735 | C18: 0.039514816 | D18: 25.777001 | E18: 7.084327e-12 | F18: 0.93247807 | G18: 1.1046688 | H18: 0.93247807 | I18: 1.1046688
A19: Rhythm | B19: 0.50383736 | C19: 0.033635516 | D19: 14.979326 | E19: 3.9482113e-09 | F19: 0.43055187 | G19: 0.57712286 | H19: 0.43055187 | I19: 0.57712286
A20: Criority Records | B20: 1.4372813 | C20: 0.24473896 | D20: 5.8727114 | E20: 7.5661957e-05 | F20: 0.90404089 | G20: 1.9705217 | H20: 0.90404089 | I20: 1.9705217
A21: West Side | B21: 2.1945412 | C21: 0.19604399 | D21: 11.194126 | E21: 1.0450706e-07 | F21: 1.767398 | G21: 2.6216843 | H21: 1.767398 | I21: 2.6216843
A22: 2011 | B22: -1.0206044 | C22: 0.28036882 | D22: -3.6402208 | E22: 0.0033866875 | F22: -1.6314756 | G22: -0.40973322 | H22: -1.6314756 | I22: -0.40973322
A23: 2012 | B23: -2.3316766 | C23: 0.26517463 | D23: -8.7929852 | E23: 1.4106874e-06 | F23: -2.9094425 | G23: -1.7539107 | H23: -2.9094425 | I23: -1.7539107
A24: 2013 | B24: -3.2136191 | C24: 0.25341407 | D24: -12.681297 | E24: 2.6076228e-08 | F24: -3.765761 | G24: -2.6614773 | H24: -3.765761 | I24: -2.6614773
A28: RESIDUAL OUTPUT
A30: Observation | B30: Predicted Price | C30: Residuals | D30: Standard Residuals
A31: 1 | B31: 10.934848 | C31: 0.26515171 | D31: 0.93261706
A32: 2 | B32: 7.00705 | C32: 0.14295004 | D32: 0.50279762
A33: 3 | B33: 11.942523 | C33: -0.24252302 | D33: -0.85302524
A34: 4 | B34: 7.8900266 | C34: -0.09002664 | D34: -0.31665034
A35: 5 | B35: 12.625552 | C35: -0.075552097 | D35: -0.26573909
A36: 6 | B36: 2.7951284 | C36: -0.1951284 | D36: -0.68632433
A37: 7 | B37: 3.8137019 | C37: 0.036298143 | D37: 0.12767131
A38: 8 | B38: 9.9865086 | C38: 0.51349141 | D38: 1.8061013
A39: 9 | B39: 9.7964181 | C39: -0.096418135 | D39: -0.33913112
A40: 10 | B40: 6.008243 | C40: -0.25824303 | D40: -0.90831717
A41: 11 | B41: 13.148607 | C41: -0.1986067 | D41: -0.69855857
A42: 12 | B42: 9.5999477 | C42: -0.19994769 | D42: -0.70327521
... A50: 20 | B50: 6.1988183 | C50: 0.25118166 | D50: 0.88348024

Sheet 37. Restricted Model
A1: Price | B1: Wit | C1: Rhythm | D1: Bass | E1: Criority Records | F1: West Side | G1: 2011 | H1: 2012 | I1: 2013 | J1: Price | K1: Wit | L1: Rhythm | M1: Criority Records | N1: West Side | O1: Year
A2: =RANDBETWEEN(-5,5)/10+1*B2+0.5*C2+0.05*D2+1.5*E2+2*F2-1*G2-2*H2-3*I2 -> 14.5 | B2: =RANDBETWEEN(1,10) -> 8 | C2: =RANDBETWEEN(1,10) -> 8 | D2: =RANDBETWEEN(1,10) -> 4 | E2: 0 | F2: =RANDBETWEEN(0,1) -> 1 | G2: 0 | H2: 0 | I2: 0 | J2: 11.2 | K2: 9 | L2: 3 | M2: 0 | N2: 0 | O2: 2010
A3: =RANDBETWEEN(-5,5)/10+1*B3+0.5*C3+0.05*D3+1.5*E3+2*F3-1*G3-2*H3-3*I3 -> 9.5 | B3: =RANDBETWEEN(1,10) -> 9 | C3: =RANDBETWEEN(1,10) -> 1 | D3: =RANDBETWEEN(1,10) -> 10 | E3: 0 | F3: =RANDBETWEEN(0,1) -> 0 | G3: 0 | H3: 0 | I3: 0 | J3: 7.15 | K3: 2 | L3: 5 | M3: 0 | N3: 1 | O3: 2010
A4: =RANDBETWEEN(-5,5)/10+1*B4+0.5*C4+0.05*D4+1.5*E4+2*F4-1*G4-2*H4-3*I4 -> 10 | B4: =RANDBETWEEN(1,10) -> 9 | C4: =RANDBETWEEN(1,10) -> 2 | D4: =RANDBETWEEN(1,10) -> 2 | E4: 0 | F4: =RANDBETWEEN(0,1) -> 0 | G4: 0 | H4: 0 | I4: 0 | J4: 11.7 | K4: 9 | L4: 5 | M4: 0 | N4: 0 | O4: 2010
A5: =RANDBETWEEN(-5,5)/10+1*B5+0.5*C5+0.05*D5+1.5*E5+2*F5-1*G5-2*H5-3*I5 -> 7.6 | B5: =RANDBETWEEN(1,10) -> 3 | C5: =RANDBETWEEN(1,10) -> 9 | D5: =RANDBETWEEN(1,10) -> 8 | E5: 0 | F5: =RANDBETWEEN(0,1) -> 0 | G5: 0 | H5: 0 | I5: 0 | J5: 7.8 | K5: 7 | L5: 1 | M5: 0 | N5: 0 | O5: 2010
A6: =RANDBETWEEN(-5,5)/10+1*B6+0.5*C6+0.05*D6+1.5*E6+2*F6-1*G6-2*H6-3*I6 -> 9.2 | B6: =RANDBETWEEN(1,10) -> 5 | C6: =RANDBETWEEN(1,10) -> 3 | D6: =RANDBETWEEN(1,10) -> 6 | E6: 0 | F6: =RANDBETWEEN(0,1) -> 1 | G6: 0 | H6: 0 | I6: 0 | J6: 12.55 | K6: 9 | L6: 2 | M6: 0 | N6: 1 | O6: 2010
A7: =RANDBETWEEN(-5,5)/10+1*B7+0.5*C7+0.05*D7+1.5*E7+2*F7-1*G7-2*H7-3*I7 -> 9.9 | B7: =RANDBETWEEN(1,10) -> 6 | C7: =RANDBETWEEN(1,10) -> 5 | D7: =RANDBETWEEN(1,10) -> 2 | E7: 0 | F7: =RANDBETWEEN(0,1) -> 1 | G7: 1 | H7: 0 | I7: 0 | J7: 2.6 | K7: 3 | L7: 1 | M7: 0 | N7: 0 | O7: 2011
A8: =RANDBETWEEN(-5,5)/10+1*B8+0.5*C8+0.05*D8+1.5*E8+2*F8-1*G8-2*H8-3*I8 -> 6.9 | B8: =RANDBETWEEN(1,10) -> 4 | C8: =RANDBETWEEN(1,10) -> 4 | D8: =RANDBETWEEN(1,10) -> 2 | E8: 0 | F8: =RANDBETWEEN(0,1) -> 1 | G8: 1 | H8: 0 | I8: 0 | J8: 3.85 | K8: 4 | L8: 1 | M8: 0 | N8: 0 | O8: 2011
A9: =RANDBETWEEN(-5,5)/10+1*B9+0.5*C9+0.05*D9+1.5*E9+2*F9-1*G9-2*H9-3*I9 -> 10.8 | B9: =RANDBETWEEN(1,10) -> 8 | C9: =RANDBETWEEN(1,10) -> 1 | D9: =RANDBETWEEN(1,10) -> 6 | E9: 1 | F9: =RANDBETWEEN(0,1) -> 1 | G9: 1 | H9: 0 | I9: 0 | J9: 10.5 | K9: 6 | L9: 2 | M9: 1 | N9: 1 | O9: 2011
A10: =RANDBETWEEN(-5,5)/10+1*B10+0.5*C10+0.05*D10+1.5*E10+2*F10-1*G10-2*H10-3*I10 -> 11.7 | B10: =RANDBETWEEN(1,10) -> 10 | C10: =RANDBETWEEN(1,10) -> 3 | D10: =RANDBETWEEN(1,10) -> 2 | E10: 1 | F10: =RANDBETWEEN(0,1) -> 0 | G10: 1 | H10: 0 | I10: 0 | J10: 9.7 | K10: 5 | L10: 8 | M10: 1 | N10: 0 | O10: 2011
A11: =RANDBETWEEN(-5,5)/10+1*B11+0.5*C11+0.05*D11+1.5*E11+2*F11-1*G11-2*H11-3*I11 -> 13.95 | B11: =RANDBETWEEN(1,10) -> 10 | C11: =RANDBETWEEN(1,10) -> 10 | D11: =RANDBETWEEN(1,10) -> 7 | E11: 0 | F11: =RANDBETWEEN(0,1) -> 0 | G11: 1 | H11: 0 | I11: 0 | J11: 5.75 | K11: 4 | L11: 1 | M11: 0 | N11: 1 | O11: 2011
A12: =RANDBETWEEN(-5,5)/10+1*B12+0.5*C12+0.05*D12+1.5*E12+2*F12-1*G12-2*H12-3*I12 -> 11.25 | B12: =RANDBETWEEN(1,10) -> 8 | C12: =RANDBETWEEN(1,10) -> 6 | D12: =RANDBETWEEN(1,10) -> 1 | E12: 0 | F12: =RANDBETWEEN(0,1) -> 1 | G12: 0 | H12: 1 | I12: 0 | J12: 12.95 | K12: 10 | L12: 10 | M12: 0 | N12: 0 | O12: 2012
A13: =RANDBETWEEN(-5,5)/10+1*B13+0.5*C13+0.05*D13+1.5*E13+2*F13-1*G13-2*H13-3*I13 -> 7.2 | B13: =RANDBETWEEN(1,10) -> 6 | C13: =RANDBETWEEN(1,10) -> 2 | D13: =RANDBETWEEN(1,10) -> 4 | E13: 0 | F13: =RANDBETWEEN(0,1) -> 1 | G13: 0 | H13: 1 | I13: 0 | J13: 9.4 | K13: 8 | L13: 7 | M13: 0 | N13: 0 | O13: 2012
... A21: =RANDBETWEEN(-5,5)/10+1*B21+0.5*C21+0.05*D21+1.5*E21+2*F21-1*G21-2*H21-3*I21 -> 7.95 | B21: =RANDBETWEEN(1,10) -> 6 | C21: =RANDBETWEEN(1,10) -> 9 | D21: =RANDBETWEEN(1,10) -> 1 | E21: 0 | F21: =RANDBETWEEN(0,1) -> 0 | G21: 0 | H21: 0 | I21: 1 | J21: 6.45 | K21: 8 | L21: 2 | M21: 0 | N21: 0 | O21: 2013

Sheet 38. Compare Models
A1: SUMMARY OUTPUT
A3: Regression Statistics | E3: SSResidual (Restricted) | F3: =C13 -> 1.6141364
A4: Multiple R | B4: 0.99543544 | E4: SSResidual (Unrestricted) | F4: ='36. Try to Simplify'!$C$13 -> 1.5358039
A5: R Square | B5: 0.99089172 | E5: NIR | F5: 2
A6: Adjusted R Square | B6: 0.98763876 | E6: N (Unrestricted) | F6: ='36. Try to Simplify'!B8 -> 20
A7: Standard Error | B7: 0.33955184 | E7: k (Unrestricted) | F7: =COUNT('36. Try to Simplify'!$B$17:$B$24) -> 8
A8: Observations | B8: 20 | E8: F statistic | F8: =((SSResidual__Restricted-SSResidual__Unrestricted)/NIR)/(SSResidual__Unrestricted/(N__Unrestricted-k__Unrestricted)) -> 0.30602542
E9: F critical | F9: =FINV(0.05,NIR,N__Unrestricted-k__Unrestricted) -> 3.8852938
A10: ANOVA
B11: df | C11: SS | D11: MS | E11: F | F11: Significance F
A12: Regression | B12: 5 | C12: 175.60224 | D12: 35.120448 | E12: 304.61259 | F12: 9.1493119e-14
A13: Residual | B13: 14 | C13: 1.6141364 | D13: 0.11529546
A14: Total | B14: 19 | C14: 177.21638
B16: Coefficients | C16: Standard Error | D16: t Stat | E16: P-value | F16: Lower 95% | G16: Upper 95% | H16: Lower 95.0% | I16: Upper 95.0%
A17: Intercept | B17: 2187.4245 | C17: 155.15965 | D17: 14.097895 | E17: 1.1529607e-09 | F17: 1854.6401 | G17: 2520.2088 | H17: 1854.6401 | I17: 2520.2088
A18: Wit | B18: 1.0075409 | C18: 0.030973388 | D18: 32.529244 | E18: 1.3637213e-14 | F18: 0.94110957 | G18: 1.0739722 | H18: 0.94110957 | I18: 1.0739722
A19: Rhythm | B19: 0.49198922 | C19: 0.027874276 | D19: 17.650296 | E19: 5.8102123e-11 | F19: 0.43220485 | G19: 0.5517736 | H19: 0.43220485 | I19: 0.5517736
A20: Criority Records | B20: 1.5085993 | C20: 0.20403058 | D20: 7.393986 | E20: 3.3837117e-06 | F20: 1.0709972 | G20: 1.9462014 | H20: 1.0709972 | I20: 1.9462014
A21: West Side | B21: 2.2009991 | C21: 0.1745938 | D21: 12.606399 | E21: 4.9551204e-09 | F21: 1.8265326 | G21: 2.5754655 | H21: 1.8265326 | I21: 2.5754655
A22: Year | B22: -1.0880939 | C22: 0.077189969 | D22: -14.096313 | E22: 1.154662e-09 | F22: -1.25365 | G22: -0.92253792 | H22: -1.25365 | I22: -0.92253792
A26: RESIDUAL OUTPUT
A28: Observation | B28: Predicted Price | C28: Residuals | D28: Standard Residuals
A29: 1 | B29: 10.899475 | C29: 0.30052457 | D29: 1.0310665
A30: 2 | B30: 7.0316668 | C30: 0.11833322 | D30: 0.40598818
A31: 3 | B31: 11.883454 | C31: -0.18345387 | D31: -0.62940991
A32: 4 | B32: 7.9004152 | C32: -0.10041522 | D32: -0.3445135
A33: 5 | B33: 12.608485 | C33: -0.058485258 | D33: -0.20065644
A34: 6 | B34: 2.7821578 | C34: -0.18215777 | D34: -0.62496311
A35: 7 | B35: 3.7896986 | C35: 0.060301355 | D35: 0.20688726
A36: 8 | B36: 10.006368 | C36: 0.49363205 | D36: 1.6935968
A37: 9 | B37: 9.7497634 | C37: -0.04976336 | D37: -0.17073257
A38: 10 | B38: 5.9906977 | C38: -0.2406977 | D38: -0.82580713
A39: 11 | B39: 13.174753 | C39: -0.22475298 | D39: -0.77110258
A40: 12 | B40: 9.6837036 | C40: -0.28370356 | D40: -0.97335546
... A48: 20 | B48: 6.1356635 | C48: 0.3143365 | D48: 1.0784537

Sheet Final Exam
A1: # | B1: Price | C1: Sugar | D1: Caffeine | E1: Kroak | F1: Popsee | G1: Other Brand | H1: NW | I1: SW | J1: NE | K1: SE | L1: 2010 | M1: 2011 | N1: 2012 | O1: 2013 | P1: ="Ln"&B1 -> LnPrice | Q1: ="Ln"&C1 -> LnSugar | R1: ="Ln"&D1 -> LnCaffeine | S1: # | T1: LnPrice | U1: LnSugar | V1: LnCaffeine | W1: LNB12 | X1: Kroak | Y1: Popsee | Z1: Other Brand | AA1: NW | AB1: SW | AC1: NE | AD1: SE | AE1: 2010 | AF1: 2011 | AG1: 2012 | AH1: 2013
A2: 1 | B2: =ROUND(RANDBETWEEN(10,100)/1000+SUMPRODUCT($C$27:$O$27,C2:O2),2) -> 1.05 | C2: =10+RANDBETWEEN(0,50) -> 29 | D2: =RANDBETWEEN(50, 1000) -> 394 | E2: 0 | F2: =IF(E2=1,0,1) -> 1 | G2: =1-SUM(E2:F2) -> 0 | H2: 1 | I2: 0 | J2: 0 | K2: 0 | L2: 1 | M2: 0 | N2: 0 | O2: 0 | P2: =LN(B2) -> 0.048790164 | Q2: =LN(C2) -> 3.3672958 | R2: =LN(D2) -> 5.9763509 | S2: 1 | T2: 0.43178242 | U2: 3.3322045 | V2: 6.8490663 | W2: -1.4126166 | X2: 0 | Y2: 1 | Z2: 0 | AA2: 1 | AB2: 0 | AC2: 0 | AD2: 0 | AE2: 1 | AF2: 0 | AG2: 0 | AH2: 0
A3: 2 | B3: =ROUND(RANDBETWEEN(10,100)/1000+SUMPRODUCT($C$27:$O$27,C3:O3),2) -> 1.57 | C3: =10+RANDBETWEEN(0,50) -> 58 | D3: =RANDBETWEEN(50, 1000) -> 491 | E3: =RANDBETWEEN(0,1) -> 1 | F3: =IF(E3=1,0,1) -> 0 | G3: =1-SUM(E3:F3) -> 0 | H3: 1 | I3: 0 | J3: 0 | K3: 0 | L3: 0 | M3: 1 | N3: 0 | O3: 0 | P3: =LN(B3) -> 0.45107562 | Q3: =LN(C3) -> 4.060443 | R3: =LN(D3) -> 6.1964441 | S3: 2 | T3: 0.32930375 | U3: 3.8066625 | V3: 6.3279368 | W3: -0.21689602 | X3: 0 | Y3: 1 | Z3: 0 | AA3: 1 | AB3: 0 | AC3: 0 | AD3: 0 | AE3: 0 | AF3: 1 | AG3: 0 | AH3: 0
A4: 3 | B4: =ROUND(RANDBETWEEN(10,100)/1000+SUMPRODUCT($C$27:$O$27,C4:O4),2) -> 0.82 | C4: =10+RANDBETWEEN(0,50) -> 21 | D4: =RANDBETWEEN(50, 1000) -> 150 | E4: =RANDBETWEEN(0,1) -> 1 | F4: =IF(E4=1,0,1) -> 0 | G4: =1-SUM(E4:F4) -> 0 | H4: 1 | I4: 0 | J4: 0 | K4: 0 | L4: 0 | M4: 0 | N4: 1 | O4: 0 | P4: =LN(B4) -> -0.19845094 | Q4: =LN(C4) -> 3.0445224 | R4: =LN(D4) -> 5.0106353 | S4: 3 | T4: 0.58778666 | U4: 3.912023 | V4: 6.6982681 | W4: -2.208285 | X4: 1 | Y4: 0 | Z4: 0 | AA4: 1 | AB4: 0 | AC4: 0 | AD4: 0 | AE4: 0 | AF4: 0 | AG4: 1 | AH4: 0
A5: 4 | B5: =ROUND(RANDBETWEEN(10,100)/1000+SUMPRODUCT($C$27:$O$27,C5:O5),2) -> 0.72 | C5: =10+RANDBETWEEN(0,50) -> 17 | D5: =RANDBETWEEN(50, 1000) -> 119 | E5: =RANDBETWEEN(0,1) -> 0 | F5: =IF(E5=1,0,1) -> 1 | G5: =1-SUM(E5:F5) -> 0 | H5: 1 | I5: 0 | J5: 0 | K5: 0 | L5: 0 | M5: 0 | N5: 0 | O5: 1 | P5: =LN(B5) -> -0.32850407 | Q5: =LN(C5) -> 2.8332133 | R5: =LN(D5) -> 4.7791235 | S5: 4 | T5: 0.3074847 | U5: 2.4849066 | V5: 6.7068623 | W5: -1.2709905 | X5: 0 | Y5: 1 | Z5: 0 | AA5: 1 | AB5: 0 | AC5: 0 | AD5: 0 | AE5: 0 | AF5: 0 | AG5: 0 | AH5: 1
A6: 5 | B6: =ROUND(RANDBETWEEN(10,100)/1000+SUMPRODUCT($C$27:$O$27,C6:O6),2) -> 1.28 | C6: =10+RANDBETWEEN(0,50) -> 54 | D6: =RANDBETWEEN(50, 1000) -> 260 | E6: =RANDBETWEEN(0,1) -> 1 | F6: 0 | G6: =1-SUM(E6:F6) -> 0 | H6: 1 | I6: 0 | J6: 0 | K6: 0 | L6: 1 | M6: 0 | N6: 0 | O6: 0 | P6: =LN(B6) -> 0.24686008 | Q6: =LN(C6) -> 3.988984 | R6: =LN(D6) -> 5.5606816 | S6: 5 | T6: -0.11653382 | U6: 2.7725887 | V6: 6.2878586 | W6: -1.6512735 | X6: 0 | Y6: 0 | Z6: 1 | AA6: 1 | AB6: 0 | AC6: 0 | AD6: 0 | AE6: 1 | AF6: 0 | AG6: 0 | AH6: 0
A7: 6 | B7: =ROUND(RANDBETWEEN(10,100)/1000+SUMPRODUCT($C$27:$O$27,C7:O7),2) -> 0.86 | C7: =10+RANDBETWEEN(0,50) -> 41 | D7: =RANDBETWEEN(50, 1000) -> 92 | E7: 0 | F7: =IF(E7=1,0,1) -> 1 | G7: =1-SUM(E7:F7) -> 0 | H7: 1 | I7: 0 | J7: 0 | K7: 0 | L7: 0 | M7: 1 | N7: 0 | O7: 0 | P7: =LN(B7) -> -0.15082289 | Q7: =LN(C7) -> 3.7135721 | R7: =LN(D7) -> 4.5217886 | S7: 6 | T7: 0.43825493 | U7: 3.7135721 | V7: 6.6541525 | W7: -1.3854248 | X7: 0 | Y7: 1 | Z7: 0 | AA7: 1 | AB7: 0 | AC7: 0 | AD7: 0 | AE7: 0 | AF7: 1 | AG7: 0 | AH7: 0
A8: 7 | B8: =ROUND(RANDBETWEEN(10,100)/1000+SUMPRODUCT($C$27:$O$27,C8:O8),2) -> 1.61 | C8: =10+RANDBETWEEN(0,50) -> 44 | D8: =RANDBETWEEN(50, 1000) -> 782 | E8: =RANDBETWEEN(0,1) -> 1 | F8: =IF(E8=1,0,1) -> 0 | G8: =1-SUM(E8:F8) -> 0 | H8: 0 | I8: 1 | J8: 0 | K8: 0 | L8: 0 | M8: 0 | N8: 1 | O8: 0 | P8: =LN(B8) -> 0.47623418 | Q8: =LN(C8) -> 3.7841896 | R8: =LN(D8) -> 6.6618547 | S8: 7 | T8: -0.051293294 | U8: 3.7376696 | V8: 5.313206 | W8: -1.4538026 | X8: 1 | Y8: 0 | Z8: 0 | AA8: 0 | AB8: 1 | AC8: 0 | AD8: 0 | AE8: 0 | AF8: 0 | AG8: 1 | AH8: 0
A9: 8 | B9: =ROUND(RANDBETWEEN(10,100)/1000+SUMPRODUCT($C$27:$O$27,C9:O9),2) -> 0.87 | C9: =10+RANDBETWEEN(0,50) -> 35 | D9: =RANDBETWEEN(50, 1000) -> 208 | E9: =RANDBETWEEN(0,1) -> 0 | F9: =IF(E9=1,0,1) -> 1 | G9: =1-SUM(E9:F9) -> 0 | H9: 0 | I9: 1 | J9: 0 | K9: 0 | L9: 0 | M9: 0 | N9: 0 | O9: 1 | P9: =LN(B9) -> -0.13926207 | Q9: =LN(C9) -> 3.5553481 | R9: =LN(D9) -> 5.3375381 | S9: 8 | T9: 0.3852624 | U9: 3.7612001 | V9: 6.645091 | W9: -0.65049266 | X9: 0 | Y9: 1 | Z9: 0 | AA9: 0 | AB9: 1 | AC9: 0 | AD9: 0 | AE9: 0 | AF9: 0 | AG9: 0 | AH9: 1
A10: 9 | B10: =ROUND(RANDBETWEEN(10,100)/1000+SUMPRODUCT($C$27:$O$27,C10:O10),2) -> 1.33 | C10: =10+RANDBETWEEN(0,50) -> 42 | D10: =RANDBETWEEN(50, 1000) -> 597 | E10: =RANDBETWEEN(0,1) -> 1 | F10: =IF(E10=1,0,1) -> 0 | G10: =1-SUM(E10:F10) -> 0 | H10: 0 | I10: 1 | J10: 0 | K10: 0 | L10: 1 | M10: 0 | N10: 0 | O10: 0 | P10: =LN(B10) -> 0.28517894 | Q10: =LN(C10) -> 3.7376696 | R10: =LN(D10) -> 6.3919171 | S10: 9 | T10: 0.15700375 | U10: 2.3025851 | V10: 6.5117453 | W10: -1.648376 | X10: 1 | Y10: 0 | Z10: 0 | AA10: 0 | AB10: 1 | AC10: 0 | AD10: 0 | AE10: 1 | AF10: 0 | AG10: 0 | AH10: 0
A11: 10 | B11: =ROUND(RANDBETWEEN(10,100)/1000+SUMPRODUCT($C$27:$O$27,C11:O11),2) -> 1.17 | C11: =10+RANDBETWEEN(0,50) -> 35 | D11: =RANDBETWEEN(50, 1000) -> 733 | E11: =RANDBETWEEN(0,1) -> 0 | F11: 0 | G11: =1-SUM(E11:F11) -> 1 | H11: 0 | I11: 1 | J11: 0 | K11: 0 | L11: 0 | M11: 1 | N11: 0 | O11: 0 | P11: =LN(B11) -> 0.15700375 | Q11: =LN(C11) -> 3.5553481 | R11: =LN(D11) -> 6.5971457 | S11: 10 | T11: -0.083381609 | U11: 3.3322045 | V11: 6.2766435 | W11: -0.39528077 | X11: 0 | Y11: 0 | Z11: 1 | AA11: 0 | AB11: 1 | AC11: 0 | AD11: 0 | AE11: 0 | AF11: 1 | AG11: 0 | AH11: 0
A12: 11 | B12: =ROUND(RANDBETWEEN(10,100)/1000+SUMPRODUCT($C$27:$O$27,C12:O12),2) -> 1.36 | C12: =10+RANDBETWEEN(0,50) -> 23 | D12: =RANDBETWEEN(50, 1000) -> 829 | E12: 0 | F12: =IF(E12=1,0,1) -> 1 | G12: =1-SUM(E12:F12) -> 0 | H12: 0 | I12: 1 | J12: 0 | K12: 0 | L12: 0 | M12: 0 | N12: 1 | O12: 0 | P12: =LN(B12) -> 0.3074847 | Q12: =LN(C12) -> 3.1354942 | R12: =LN(D12) -> 6.7202202 | S12: 11 | T12: -0.020202707 | U12: 3.7841896 | V12: 5.6767538 | W12: -2.0903394 | X12: 0 | Y12: 1 | Z12: 0 | AA12: 0 | AB12: 1 | AC12: 0 | AD12: 0 | AE12: 0 | AF12: 0 | AG12: 1 | AH12: 0
A13: 12 | B13: =ROUND(RANDBETWEEN(10,100)/1000+SUMPRODUCT($C$27:$O$27,C13:O13),2) -> 1.25 | C13: =10+RANDBETWEEN(0,50) -> 31 | D13: =RANDBETWEEN(50, 1000) -> 553 | E13: =RANDBETWEEN(0,1) -> 1 | F13: =IF(E13=1,0,1) -> 0 | G13: =1-SUM(E13:F13) -> 0 | H13: 0 | I13: 1 | J13: 0 | K13: 0 | L13: 0 | M13: 0 | N13: 0 | O13: 1 | P13: =LN(B13) -> 0.22314355 | Q13: =LN(C13) -> 3.4339872 | R13: =LN(D13) -> 6.315358 | S13: 12 | T13: 0.09531018 | U13: 3.6888795 | V13: 5.768321 | W13: -0.24087029 | X13: 1 | Y13: 0 | Z13: 0 | AA13: 0 | AB13: 1 | AC13: 0 | AD13: 0 | AE13: 0 | AF13: 0 | AG13: 0 | AH13: 1
A14: 13 | B14: =ROUND(RANDBETWEEN(10,100)/1000+SUMPRODUCT($C$27:$O$27,C14:O14),2) -> 1.44 | C14: =10+RANDBETWEEN(0,50) -> 40 | D14: =RANDBETWEEN(50, 1000) -> 706 | E14: =RANDBETWEEN(0,1) -> 0 | F14: =IF(E14=1,0,1) -> 1 | G14: =1-SUM(E14:F14) -> 0 | H14: 0 | I14: 0 | J14: 1 | K14: 0 | L14: 1 | M14: 0 | N14: 0 | O14: 0 | P14: =LN(B14) -> 0.36464311 | Q14: =LN(C14) -> 3.6888795 | R14: =LN(D14) -> 6.5596152 | S14: 13 | T14: 0.09531018 | U14: 3.4011974 | V14: 5.7170277 | W14: -0.062762135 | X14: 1 | Y14: 0 | Z14: 0 | AA14: 0 | AB14: 0 | AC14: 1 | AD14: 0 | AE14: 1 | AF14: 0 | AG14: 0 | AH14: 0
A15: 14 | B15: =ROUND(RANDBETWEEN(10,100)/1000+SUMPRODUCT($C$27:$O$27,C15:O15),2) -> 0.97 | C15: =10+RANDBETWEEN(0,50) -> 10 | D15: =RANDBETWEEN(50, 1000) -> 541 | E15: =RANDBETWEEN(0,1) -> 0 | F15: =IF(E15=1,0,1) -> 1 | G15: =1-SUM(E15:F15) -> 0 | H15: 0 | I15: 0 | J15: 1 | K15: 0 | L15: 0 | M15: 1 | N15: 0 | O15: 0 | P15: =LN(B15) -> -0.030459207 | Q15: =LN(C15) -> 2.3025851 | R15: =LN(D15) -> 6.2934193 | S15: 14 | T15: 0.51879379 | U15: 3.6888795 | V15: 6.7141705 | W15: -0.31190837 | X15: 1 | Y15: 0 | Z15: 0 | AA15: 0 | AB15: 0 | AC15: 1 | AD15: 0 | AE15: 0 | AF15: 1 | AG15: 0 | AH15: 0
A16: 15 | B16: =ROUND(RANDBETWEEN(10,100)/1000+SUMPRODUCT($C$27:$O$27,C16:O16),2) -> 0.99 | C16: =10+RANDBETWEEN(0,50) -> 22 | D16: =RANDBETWEEN(50, 1000) -> 288 | E16: =RANDBETWEEN(0,1) -> 1 | F16: 0 | G16: =1-SUM(E16:F16) -> 0 | H16: 0 | I16: 0 | J16: 1 | K16: 0 | L16: 0 | M16: 0 | N16: 1 | O16: 0 | P16: =LN(B16) -> -0.010050336 | Q16: =LN(C16) -> 3.0910425 | R16: =LN(D16) -> 5.6629605 | S16: 15 | T16: 0.3435897 | U16: 3.8286414 | V16: 6.6970342 | W16: -0.86909583 | X16: 0 | Y16: 0 | Z16: 1 | AA16: 0 | AB16: 0 | AC16: 1 | AD16: 0 | AE16: 0 | AF16: 0 | AG16: 1 | AH16: 0
A17: 16 | B17: =ROUND(RANDBETWEEN(10,100)/1000+SUMPRODUCT($C$27:$O$27,C17:O17),2) -> 1.37 | C17: =10+RANDBETWEEN(0,50) -> 52 | D17: =RANDBETWEEN(50, 1000) -> 446 | E17: 0 | F17: =IF(E17=1,0,1) -> 1 | G17: =1-SUM(E17:F17) -> 0 | H17: 0 | I17: 0 | J17: 1 | K17: 0 | L17: 0 | M17: 0 | N17: 0 | O17: 1 | P17: =LN(B17) -> 0.31481074 | Q17: =LN(C17) -> 3.9512437 | R17: =LN(D17) -> 6.100319 | S17: 16 | T17: -0.22314355 | U17: 2.7725887 | V17: 5.3798974 | W17: -0.53645825 | X17: 0 | Y17: 1 | Z17: 0 | AA17: 0 | AB17: 0 | AC17: 1 | AD17: 0 | AE17: 0 | AF17: 0 | AG17: 0 | AH17: 1
A18: 17 | B18: =ROUND(RANDBETWEEN(10,100)/1000+SUMPRODUCT($C$27:$O$27,C18:O18),2) -> 1.22 | C18: =10+RANDBETWEEN(0,50) -> 51 | D18: =RANDBETWEEN(50, 1000) -> 383 | E18: =RANDBETWEEN(0,1) -> 0 | F18: =IF(E18=1,0,1) -> 1 | G18: =1-SUM(E18:F18) -> 0 | H18: 0 | I18: 0 | J18: 1 | K18: 0 | L18: 1 | M18: 0 | N18: 0 | O18: 0 | P18: =LN(B18) -> 0.19885086 | Q18: =LN(C18) -> 3.9318256 | R18: =LN(D18) -> 5.948035 | S18: 17 | T18: -0.26136476 | U18: 3.3672958 | V18: 4.8362819 | W18: -0.15503045 | X18: 0 | Y18: 1 | Z18: 0 | AA18: 0 | AB18: 0 | AC18: 1 | AD18: 0 | AE18: 1 | AF18: 0 | AG18: 0 | AH18: 0
A19: 18 | B19: =ROUND(RANDBETWEEN(10,100)/1000+SUMPRODUCT($C$27:$O$27,C19:O19),2) -> 1.57 | C19: =10+RANDBETWEEN(0,50) -> 48 | D19: =RANDBETWEEN(50, 1000) -> 684 | E19: =RANDBETWEEN(0,1) -> 0 | F19: =IF(E19=1,0,1) -> 1 | G19: =1-SUM(E19:F19) -> 0 | H19: 0 | I19: 0 | J19: 1 | K19: 0 | L19: 0 | M19: 1 | N19: 0 | O19: 0 | P19: =LN(B19) -> 0.45107562 | Q19: =LN(C19) -> 3.871201 | R19: =LN(D19) -> 6.5279579 | S19: 18 | T19: 0.019802627 | U19: 3.2188758 | V19: 6.0844994 | W19: -0.26315631 | X19: 0 | Y19: 1 | Z19: 0 | AA19: 0 | AB19: 0 | AC19: 1 | AD19: 0 | AE19: 0 | AF19: 1 | AG19: 0 | AH19: 0
A20: 19 | B20: =ROUND(RANDBETWEEN(10,100)/1000+SUMPRODUCT($C$27:$O$27,C20:O20),2) -> 1.05 | C20: =10+RANDBETWEEN(0,50) -> 43 | D20: =RANDBETWEEN(50, 1000) -> 246 | E20: =RANDBETWEEN(0,1) -> 1 | F20: =IF(E20=1,0,1) -> 0 | G20: =1-SUM(E20:F20) -> 0 | H20: 0 | I20: 0 | J20: 0 | K20: 1 | L20: 0 | M20: 0 | N20: 1 | O20: 0 | P20: =LN(B20) -> 0.048790164 | Q20: =LN(C20) -> 3.7612001 | R20: =LN(D20) -> 5.5053315 | S20: 19 | T20: -0.11653382 | U20: 3.5553481 | V20: 5.6058021 | W20: -0.38548447 | X20: 0 | Y20: 1 | Z20: 0 | AA20: 0 | AB20: 0 | AC20: 0 | AD20: 1 | AE20: 0 | AF20: 0 | AG20: 1 | AH20: 0
A21: 20 | B21: =ROUND(RANDBETWEEN(10,100)/1000+SUMPRODUCT($C$27:$O$27,C21:O21),2) -> 1.01 | C21: =10+RANDBETWEEN(0,50) -> 36 | D21: =RANDBETWEEN(50, 1000) -> 561 | E21: =RANDBETWEEN(0,1) -> 0 | F21: 0 | G21: =1-SUM(E21:F21) -> 1 | H21: 0 | I21: 0 | J21: 0 | K21: 1 | L21: 0 | M21: 0 | N21: 0 | O21: 1 | P21: =LN(B21) -> 0.0099503309 | Q21: =LN(C21) -> 3.5835189 | R21: =LN(D21) -> 6.3297209 | S21: 20 | T21: 0.62593843 | U21: 3.8501476 | V21: 6.9057533 | W21: -2.6220426 | X21: 1 | Y21: 0 | Z21: 0 | AA21: 0 | AB21: 0 | AC21: 0 | AD21: 1 | AE21: 0 | AF21: 0 | AG21: 0 | AH21: 1
A22: 21 | B22: =ROUND(RANDBETWEEN(10,100)/1000+SUMPRODUCT($C$27:$O$27,C22:O22),2) -> 1.05 | C22: =10+RANDBETWEEN(0,50) -> 17 | D22: =RANDBETWEEN(50, 1000) -> 627 | E22: 0 | F22: =IF(E22=1,0,1) -> 1 | G22: =1-SUM(E22:F22) -> 0 | H22: 0 | I22: 0 | J22: 0 | K22: 1 | L22: 1 | M22: 0 | N22: 0 | O22: 0 | P22: =LN(B22) -> 0.048790164 | Q22: =LN(C22) -> 2.8332133 | R22: =LN(D22) -> 6.4409465 | S22: 21 | T22: 0.37156356 | U22: 3.7841896 | V22: 6.6133842 | W22: -1.9811799 | X22: 0 | Y22: 1 | Z22: 0 | AA22: 0 | AB22: 0 | AC22: 0 | AD22: 1 | AE22: 1 | AF22: 0 | AG22: 0 | AH22: 0
A23: 22 | B23: =ROUND(RANDBETWEEN(10,100)/1000+SUMPRODUCT($C$27:$O$27,C23:O23),2) -> 1.43 | C23: =10+RANDBETWEEN(0,50) -> 42 | D23: =RANDBETWEEN(50, 1000) -> 667 | E23: =RANDBETWEEN(0,1) -> 1 | F23: =IF(E23=1,0,1) -> 0 | G23: =1-SUM(E23:F23) -> 0 | H23: 0 | I23: 0 | J23: 0 | K23: 1 | L23: 0 | M23: 1 | N23: 0 | O23: 0 | P23: =LN(B23) -> 0.35767444 | Q23: =LN(C23) -> 3.7376696 | R23: =LN(D23) -> 6.50279 | S23: 22 | T23: -0.40047757 | U23: 3.6109179 | V23: 4.4188406 | W23: -0.21389017 | X23: 0 | Y23: 1 | Z23: 0 | AA23: 0 | AB23: 0 | AC23: 0 | AD23: 1 | AE23: 0 | AF23: 1 | AG23: 0 | AH23: 0
A24: 23 | B24: =ROUND(RANDBETWEEN(10,100)/1000+SUMPRODUCT($C$27:$O$27,C24:O24),2) -> 1.52 | C24: =10+RANDBETWEEN(0,50) -> 29 | D24: =RANDBETWEEN(50, 1000) -> 894 | E24: =RANDBETWEEN(0,1) -> 1 | F24: =IF(E24=1,0,1) -> 0 | G24: =1-SUM(E24:F24) -> 0 | H24: 0 | I24: 0 | J24: 0 | K24: 1 | L24: 0 | M24: 0 | N24: 1 | O24: 0 | P24: =LN(B24) -> 0.41871033 | Q24: =LN(C24) -> 3.3672958 | R24: =LN(D24) -> 6.7957058 | S24: 23 | T24: -0.26136476 | U24: 2.8332133 | V24: 5.7838252 | W24: -0.4229885 | X24: 0 | Y24: 1 | Z24: 0 | AA24: 0 | AB24: 0 | AC24: 0 | AD24: 1 | AE24: 0 | AF24: 0 | AG24: 1 | AH24: 0
A25: 24 | B25: =ROUND(RANDBETWEEN(10,100)/1000+SUMPRODUCT($C$27:$O$27,C25:O25),2) -> 1.62 | C25: =10+RANDBETWEEN(0,50) -> 54 | D25: =RANDBETWEEN(50, 1000) -> 832 | E25: =RANDBETWEEN(0,1) -> 0 | F25: =IF(E25=1,0,1) -> 1 | G25: =1-SUM(E25:F25) -> 0 | H25: 0 | I25: 0 | J25: 0 | K25: 1 | L25: 0 | M25: 0 | N25: 0 | O25: 1 | P25: =LN(B25) -> 0.48242615 | Q25: =LN(C25) -> 3.988984 | R25: =LN(D25) -> 6.7238324 | S25: 24 | T25: 0.47000363 | U25: 3.7135721 | V25: 6.6320018 | W25: -1.2955401 | X25: 1 | Y25: 0 | Z25: 0 | AA25: 0 | AB25: 0 | AC25: 0 | AD25: 1 | AE25: 0 | AF25: 0 | AG25: 0 | AH25: 1
C27: 0.01 | D27: 0.001 | E27: 0.3 | F27: 0.2 | G27: 0 | H27: 0.1 | I27: 0 | J27: 0.1 | K27: 0 | L27: 0 | M27: 0.01 | N27: 0.02 | O27: 0.03
