Workbook
Name F_statistic: '38. Compare Models'!$F$8
Name k__Unrestricted: '38. Compare Models'!$F$7
Name N__Unrestricted: '38. Compare Models'!$F$6
Name NIR: '38. Compare Models'!$F$5
Name SSResidual__Restricted: '38. Compare Models'!$F$3
Name SSResidual__Unrestricted: '38. Compare Models'!$F$4

Sheet Intro

Sheet A. Linear Equation Definitions

Sheet B. Graphing Lines
I1: Hours Studied | J1: Test Score
I2: 0 | J2: =50+10*I2 -> 50 | K2: =50+10*Hours Studied
I3: 1 | J3: =50+10*I3 -> 60
I4: 2 | J4: =50+10*I4 -> 70
I5: 3 | J5: =50+10*I5 -> 80
I6: 4 | J6: =50+10*I6 -> 90
I7: 5 | J7: =50+10*I7 -> 100

Sheet Quiz 1

Sheet 1. Linear Demand Concept
A1: Date | B1: Quantity | C1: Price
A2: 40179 | B2: 17 | C2: 11
A3: 40210 | B3: 18 | C3: 9
A4: 40238 | B4: 20 | C4: 6
A5: 40269 | B5: 16 | C5: 13
A6: 40299 | B6: 12 | C6: 17
A7: 40330 | B7: 20 | C7: 9
A8: 40360 | B8: 18 | C8: 9
A9: 40391 | B9: 18 | C9: 7
A10: 40422 | B10: 17 | C10: 11
A11: 40452 | B11: 12 | C11: 16
A12: 40483 | B12: 11 | C12: 15
A13: 40513 | B13: 13 | C13: 14
... A32: 41091 | B32: 18 | C32: 9

Sheet 2. Linear Demand Regression
A1: Date | B1: Quantity | C1: Price
A2: 40179 | B2: 17 | C2: 11
A3: 40210 | B3: 18 | C3: 9
A4: 40238 | B4: 20 | C4: 6
A5: 40269 | B5: 16 | C5: 13
A6: 40299 | B6: 12 | C6: 17
A7: 40330 | B7: 20 | C7: 9
A8: 40360 | B8: 18 | C8: 9
A9: 40391 | B9: 18 | C9: 7
A10: 40422 | B10: 17 | C10: 11
A11: 40452 | B11: 12 | C11: 16
A12: 40483 | B12: 11 | C12: 15
A13: 40513 | B13: 13 | C13: 14
... A32: 41091 | B32: 18 | C32: 9

Sheet 3. Regression Report
A1: SUMMARY OUTPUT
A3: Regression Statistics
A4: Multiple R | B4: 0.95330213
A5: R Square | B5: 0.90878494
A6: Adjusted R Square | B6: 0.9056396
A7: Standard Error | B7: 1.0460281
A8: Observations | B8: 31
A10: ANOVA
B11: df | C11: SS | D11: MS | E11: F | F11: Significance F
A12: Regression | B12: 1 | C12: 316.1399 | D12: 316.1399 | E12: 288.92997 | F12: 1.2803722e-16
A13: Residual | B13: 29 | C13: 31.73107 | D13: 1.0941748
A14: Total | B14: 30 | C14: 347.87097
B16: Coefficients | C16: Standard Error | D16: t Stat | E16: P-value | F16: Lower 95% | G16: Upper 95% | H16: Lower 95.0% | I16: Upper 95.0%
A17: Intercept | B17: 25.554537 | C17: 0.64509796 | D17: 39.613421 | E17: 8.370359e-27 | F17: 24.235164 | G17: 26.873911 | H17: 24.235164 | I17: 26.873911
A18: Price | B18: -0.85802284 | C18: 0.050478048 | D18: -16.99794 | E18: 1.2803722e-16 | F18: -0.96126204 | G18: -0.75478364 | H18: -0.96126204 | I18: -0.75478364
A22: RESIDUAL OUTPUT
A24: Observation | B24: Predicted Quantity | C24: Residuals | D24: Standard Residuals
A25: 1 | B25: 16.116286 | C25: 0.88371394 | D25: 0.85927065
A26: 2 | B26: 17.832332 | C26: 0.16766827 | D26: 0.16303061
A27: 3 | B27: 20.4064 | C27: -0.40640024 | D27: -0.39515932
A28: 4 | B28: 14.40024 | C28: 1.5997596 | D28: 1.5555107
A29: 5 | B29: 10.968149 | C29: 1.031851 | D29: 1.0033102
A30: 6 | B30: 17.832332 | C30: 2.1676683 | D30: 2.1077111
A31: 7 | B31: 17.832332 | C31: 0.16766827 | D31: 0.16303061
A32: 8 | B32: 19.548377 | C32: -1.5483774 | D32: -1.5055497
A33: 9 | B33: 16.116286 | C33: 0.88371394 | D33: 0.85927065
A34: 10 | B34: 11.826172 | C34: 0.17382812 | D34: 0.16902009
A35: 11 | B35: 12.684195 | C35: -1.6841947 | D35: -1.6376103
A36: 12 | B36: 13.542218 | C36: -0.54221755 | D36: -0.52721995
... A55: 31 | B55: 17.832332 | C55: 0.16766827 | D55: 0.16303061

Sheet 4. Visual
A1: Date | B1: Quantity | C1: Price | D1: Predicted Quantity
A2: 40179 | B2: 17 | C2: 11 | D2: 16.116286
A3: 40210 | B3: 18 | C3: 9 | D3: 17.832332
A4: 40238 | B4: 20 | C4: 6 | D4: 20.4064
A5: 40269 | B5: 16 | C5: 13 | D5: 14.40024
A6: 40299 | B6: 12 | C6: 17 | D6: 10.968149
A7: 40330 | B7: 20 | C7: 9 | D7: 17.832332
A8: 40360 | B8: 18 | C8: 9 | D8: 17.832332
A9: 40391 | B9: 18 | C9: 7 | D9: 19.548377
A10: 40422 | B10: 17 | C10: 11 | D10: 16.116286
A11: 40452 | B11: 12 | C11: 16 | D11: 11.826172
A12: 40483 | B12: 11 | C12: 15 | D12: 12.684195
A13: 40513 | B13: 13 | C13: 14 | D13: 13.542218
... A32: 41091 | B32: 18 | C32: 9 | D32: 17.832332

Sheet Quiz 2
A1: Date | B1: P_Yours | C1: P_Competitor | D1: Quantity
A2: 40179 | B2: 22 | C2: 14 | D2: 79
A3: 40210 | B3: 17 | C3: 17 | D3: 95
A4: 40238 | B4: 13 | C4: 13 | D4: 94
A5: 40269 | B5: 13 | C5: 13 | D5: 94
A6: 40299 | B6: 21 | C6: 14 | D6: 79
A7: 40330 | B7: 17 | C7: 20 | D7: 96
A8: 40360 | B8: 14 | C8: 14 | D8: 96
A9: 40391 | B9: 15 | C9: 17 | D9: 97
A10: 40422 | B10: 18 | C10: 16 | D10: 91
A11: 40452 | B11: 13 | C11: 12 | D11: 97
A12: 40483 | B12: 17 | C12: 18 | D12: 92
A13: 40513 | B13: 15 | C13: 12 | D13: 92
... A37: 41244 | B37: 12 | C37: 10 | D37: 95

Sheet 5. Nonlinear Demand
A1: Date | B1: Quantity | C1: Price
A2: 40179 | B2: 49 | C2: 15
A3: 40210 | B3: 55 | C3: 14
A4: 40238 | B4: 17 | C4: 25
A5: 40269 | B5: 14 | C5: 27
A6: 40299 | B6: 13 | C6: 28
A7: 40330 | B7: 15 | C7: 26
A8: 40360 | B8: 21 | C8: 22
A9: 40391 | B9: 71 | C9: 12
A10: 40422 | B10: 30 | C10: 19
A11: 40452 | B11: 32 | C11: 18
A12: 40483 | B12: 12 | C12: 29
A13: 40513 | B13: 85 | C13: 11
... A37: 41244 | B37: 108 | C37: 10

Sheet 6. Straight Up Regression
A1: SUMMARY OUTPUT
A3: Regression Statistics
A4: Multiple R | B4: 0.9079643
A5: R Square | B5: 0.82439918
A6: Adjusted R Square | B6: 0.81923445
A7: Standard Error | B7: 13.527813
A8: Observations | B8: 36
A10: ANOVA
B11: df | C11: SS | D11: MS | E11: F | F11: Significance F
A12: Regression | B12: 1 | C12: 29210.913 | D12: 29210.913 | E12: 159.62096 | F12: 2.1347909e-14
A13: Residual | B13: 34 | C13: 6222.0591 | D13: 183.00174
A14: Total | B14: 35 | C14: 35432.972
B16: Coefficients | C16: Standard Error | D16: t Stat | E16: P-value | F16: Lower 95% | G16: Upper 95% | H16: Lower 95.0% | I16: Upper 95.0%
A17: Intercept | B17: 128.6801 | C17: 7.2196761 | D17: 17.823528 | E17: 8.0255481e-19 | F17: 114.00795 | G17: 143.35224 | H17: 114.00795 | I17: 143.35224
A18: Price | B18: -4.5407329 | C18: 0.35940242 | D18: -12.634119 | E18: 2.1347909e-14 | F18: -5.2711265 | G18: -3.8103393 | H18: -5.2711265 | I18: -3.8103393
A22: RESIDUAL OUTPUT
A24: Observation | B24: Predicted Quantity | C24: Residuals | D24: Standard Residuals
A25: 1 | B25: 60.569104 | C25: -11.569104 | D25: -0.86769416
A26: 2 | B26: 65.109837 | C26: -10.109837 | D26: -0.75824769
A27: 3 | B27: 15.161775 | C27: 1.8382252 | D27: 0.1378687
A28: 4 | B28: 6.080309 | C28: 7.919691 | D28: 0.59398461
A29: 5 | B29: 1.5395761 | C29: 11.460424 | D29: 0.85954306
A30: 6 | B30: 10.621042 | C30: 4.3789581 | D30: 0.32842616
A31: 7 | B31: 28.783973 | C31: -7.7839735 | D31: -0.58380566
A32: 8 | B32: 74.191302 | C32: -3.1913025 | D32: -0.23935082
A33: 9 | B33: 42.406172 | C33: -12.406172 | D33: -0.93047511
A34: 10 | B34: 46.946905 | C34: -14.946905 | D34: -1.1210326
A35: 11 | B35: -3.0011568 | C35: 15.001157 | D35: 1.1251015
A36: 12 | B36: 78.732035 | C36: 6.2679646 | D36: 0.47010351
... A60: 36 | B60: 83.272768 | C60: 24.727232 | D60: 1.8545667

Sheet 7. SUR Results
A1: Date | B1: Quantity | C1: Price | D1: Predicted Quantity
A2: 40179 | B2: 49 | C2: 15 | D2: 60.569104
A3: 40210 | B3: 55 | C3: 14 | D3: 65.109837
A4: 40238 | B4: 17 | C4: 25 | D4: 15.161775
A5: 40269 | B5: 14 | C5: 27 | D5: 6.080309
A6: 40299 | B6: 13 | C6: 28 | D6: 1.5395761
A7: 40330 | B7: 15 | C7: 26 | D7: 10.621042
A8: 40360 | B8: 21 | C8: 22 | D8: 28.783973
A9: 40391 | B9: 71 | C9: 12 | D9: 74.191302
A10: 40422 | B10: 30 | C10: 19 | D10: 42.406172
A11: 40452 | B11: 32 | C11: 18 | D11: 46.946905
A12: 40483 | B12: 12 | C12: 29 | D12: -3.0011568
A13: 40513 | B13: 85 | C13: 11 | D13: 78.732035
... A37: 41244 | B37: 108 | C37: 10 | D37: 83.272768

Sheet 8. Transform the Variables
A1: Date | B1: Quantity | C1: Price | E1: Ln(Quantity) | F1: Ln(Price)
A2: 40179 | B2: 49 | C2: 15 | E2: =LN(B2) -> 3.8918203 | F2: =LN(C2) -> 2.7080502
A3: 40210 | B3: 55 | C3: 14 | E3: =LN(B3) -> 4.0073332 | F3: =LN(C3) -> 2.6390573
A4: 40238 | B4: 17 | C4: 25 | E4: =LN(B4) -> 2.8332133 | F4: =LN(C4) -> 3.2188758
A5: 40269 | B5: 14 | C5: 27 | E5: =LN(B5) -> 2.6390573 | F5: =LN(C5) -> 3.2958369
A6: 40299 | B6: 13 | C6: 28 | E6: =LN(B6) -> 2.5649494 | F6: =LN(C6) -> 3.3322045
A7: 40330 | B7: 15 | C7: 26 | E7: =LN(B7) -> 2.7080502 | F7: =LN(C7) -> 3.2580965
A8: 40360 | B8: 21 | C8: 22 | E8: =LN(B8) -> 3.0445224 | F8: =LN(C8) -> 3.0910425
A9: 40391 | B9: 71 | C9: 12 | E9: =LN(B9) -> 4.2626799 | F9: =LN(C9) -> 2.4849066
A10: 40422 | B10: 30 | C10: 19 | E10: =LN(B10) -> 3.4011974 | F10: =LN(C10) -> 2.944439
A11: 40452 | B11: 32 | C11: 18 | E11: =LN(B11) -> 3.4657359 | F11: =LN(C11) -> 2.8903718
A12: 40483 | B12: 12 | C12: 29 | E12: =LN(B12) -> 2.4849066 | F12: =LN(C12) -> 3.3672958
A13: 40513 | B13: 85 | C13: 11 | E13: =LN(B13) -> 4.4426513 | F13: =LN(C13) -> 2.3978953
... A37: 41244 | B37: 108 | C37: 10 | E37: =LN(B37) -> 4.6821312 | F37: =LN(C37) -> 2.3025851

Sheet 9. Ln Regression Report
A1: SUMMARY OUTPUT
A3: Regression Statistics
A4: Multiple R | B4: 0.99911973
A5: R Square | B5: 0.99824023
A6: Adjusted R Square | B6: 0.99818847
A7: Standard Error | B7: 0.030660992
A8: Observations | B8: 36
A10: ANOVA
B11: df | C11: SS | D11: MS | E11: F | F11: Significance F
A12: Regression | B12: 1 | C12: 18.131337 | D12: 18.131337 | E12: 19286.678 | F12: 2.023627e-48
A13: Residual | B13: 34 | C13: 0.031963279 | D13: 0.00094009645 | P13: =LN(20) -> 2.9957323 | Q13: Ln (Price)
A14: Total | B14: 35 | C14: 18.1633
P15: =B17+B18*P13 -> 3.2667631 | Q15: Ln (Q)
B16: Coefficients | C16: Standard Error | D16: t Stat | E16: P-value | F16: Lower 95% | G16: Upper 95% | H16: Lower 95.0% | I16: Upper 95.0%
A17: Intercept | B17: 9.2813572 | C17: 0.042084476 | D17: 220.54112 | E17: 3.0513225e-55 | F17: 9.1958313 | G17: 9.3668832 | H17: 9.1958313 | I17: 9.3668832 | P17: =EXP(P15) -> 26.226309 | Q17: Q
A18: Ln(Price) | B18: -2.0077209 | C18: 0.014456881 | D18: -138.87648 | E18: 2.023627e-48 | F18: -2.0371008 | G18: -1.9783409 | H18: -2.0371008 | I18: -1.9783409
A22: RESIDUAL OUTPUT
A24: Observation | B24: Predicted Ln(Quantity) | C24: Residuals | D24: Standard Residuals
A25: 1 | B25: 3.8443484 | C25: 0.047471938 | D25: 1.5708884
A26: 2 | B26: 3.9828668 | C26: 0.024466398 | D26: 0.80961473
A27: 3 | B27: 2.8187531 | C27: 0.014460241 | D27: 0.47850214
A28: 4 | B28: 2.6642368 | C28: -0.025179486 | D28: -0.83321144
A29: 5 | B29: 2.5912207 | C29: -0.026271381 | D29: -0.8693432
A30: 6 | B30: 2.7400089 | C30: -0.031958658 | D30: -1.0575402
A31: 7 | B31: 3.0754068 | C31: -0.030884391 | D31: -1.0219918
A32: 8 | B32: 4.2923583 | C32: -0.029678444 | D32: -0.98208593
A33: 9 | B33: 3.3697457 | C33: 0.031451701 | D33: 1.0407645
A34: 10 | B34: 3.4782976 | C34: -0.012561666 | D34: -0.41567662
A35: 11 | B35: 2.5207672 | C35: -0.035860514 | D35: -1.1866561
A36: 12 | B36: 4.4670529 | C36: -0.024401621 | D36: -0.80747118
... A60: 36 | B60: 4.6584091 | C60: 0.023722114 | D60: 0.78498572

Sheet 10. Comparison
A1: Date | B1: Quantity | C1: Price | D1: Predicted Quantity (Linear) | E1: Predicted Quantity (Log)
A2: 40179 | B2: 49 | C2: 15 | D2: 60.569104 | E2: =EXP('9. Ln Regression Report'!B25) -> 46.728224
A3: 40210 | B3: 55 | C3: 14 | D3: 65.109837 | E3: =EXP('9. Ln Regression Report'!B26) -> 53.670676
A4: 40238 | B4: 17 | C4: 25 | D4: 15.161775 | E4: =EXP('9. Ln Regression Report'!B27) -> 16.755945
A5: 40269 | B5: 14 | C5: 27 | D5: 6.080309 | E5: =EXP('9. Ln Regression Report'!B28) -> 14.356988
A6: 40299 | B6: 13 | C6: 28 | D6: 1.5395761 | E6: =EXP('9. Ln Regression Report'!B29) -> 13.346054
A7: 40330 | B7: 15 | C7: 26 | D7: 10.621042 | E7: =EXP('9. Ln Regression Report'!B30) -> 15.487122
A8: 40360 | B8: 21 | C8: 22 | D8: 28.783973 | E8: =EXP('9. Ln Regression Report'!B31) -> 21.658692
A9: 40391 | B9: 71 | C9: 12 | D9: 74.191302 | E9: =EXP('9. Ln Regression Report'!B32) -> 73.13875
A10: 40422 | B10: 30 | C10: 19 | D10: 42.406172 | E10: =EXP('9. Ln Regression Report'!B33) -> 29.071133
A11: 40452 | B11: 32 | C11: 18 | D11: 46.946905 | E11: =EXP('9. Ln Regression Report'!B34) -> 32.404509
A12: 40483 | B12: 12 | C12: 29 | D12: -3.0011568 | E12: =EXP('9. Ln Regression Report'!B35) -> 12.438135
A13: 40513 | B13: 85 | C13: 11 | D13: 78.732035 | E13: =EXP('9. Ln Regression Report'!B36) -> 87.099651
... A37: 41244 | B37: 108 | C37: 10 | D37: 83.272768 | E37: =EXP('9. Ln Regression Report'!B60) -> 105.46816

Sheet Quiz 3
A1: Date | B1: Quantity | C1: Price | D1: Instructor's Console--> | E1: Quantity | F1: Price
A2: 40179 | B2: 71 | C2: 45 | E2: =100000*(1+RAND())*F2^-2 -> 61.49116 | F2: =40+RANDBETWEEN(0,10) -> 50
A3: 40210 | B3: 111 | C3: 40 | E3: =100000*(1+RAND())*F3^-2 -> 80.694014 | F3: =40+RANDBETWEEN(0,10) -> 45
A4: 40238 | B4: 67 | C4: 44 | E4: =100000*(1+RAND())*F4^-2 -> 77.577841 | F4: =40+RANDBETWEEN(0,10) -> 50
A5: 40269 | B5: 86 | C5: 43 | E5: =100000*(1+RAND())*F5^-2 -> 61.596929 | F5: =40+RANDBETWEEN(0,10) -> 50
A6: 40299 | B6: 70 | C6: 44 | E6: =100000*(1+RAND())*F6^-2 -> 81.85165 | F6: =40+RANDBETWEEN(0,10) -> 41
A7: 40330 | B7: 59 | C7: 47 | E7: =100000*(1+RAND())*F7^-2 -> 67.076587 | F7: =40+RANDBETWEEN(0,10) -> 41
A8: 40360 | B8: 49 | C8: 49 | E8: =100000*(1+RAND())*F8^-2 -> 74.120406 | F8: =40+RANDBETWEEN(0,10) -> 45
A9: 40391 | B9: 84 | C9: 43 | E9: =100000*(1+RAND())*F9^-2 -> 58.202154 | F9: =40+RANDBETWEEN(0,10) -> 47
A10: 40422 | B10: 62 | C10: 47 | E10: =100000*(1+RAND())*F10^-2 -> 88.890404 | F10: =40+RANDBETWEEN(0,10) -> 46
A11: 40452 | B11: 106 | C11: 43 | E11: =100000*(1+RAND())*F11^-2 -> 66.036116 | F11: =40+RANDBETWEEN(0,10) -> 47
A12: 40483 | B12: 113 | C12: 41 | E12: =100000*(1+RAND())*F12^-2 -> 46.27528 | F12: =40+RANDBETWEEN(0,10) -> 48
A13: 40513 | B13: 57 | C13: 47 | E13: =100000*(1+RAND())*F13^-2 -> 57.81834 | F13: =40+RANDBETWEEN(0,10) -> 44
... A37: 41244 | B37: 63 | C37: 48 | E37: =100000*(1+RAND())*F37^-2 -> 66.816782 | F37: =40+RANDBETWEEN(0,10) -> 43

Sheet 11. Dummy Variables
A1: Date | B1: Quantity | C1: Price | D1: End of Quarter | E1: Quantity | F1: Price | G1: End of Trimester
A2: 40179 | B2: =100-C2+10*D2-RANDBETWEEN(-5,5) -> 52 | C2: =50+RANDBETWEEN(0,10) -> 52 | D2: 0 | E2: 45 | F2: 59 | G2: 0
A3: 40210 | B3: =100-C3+10*D3-RANDBETWEEN(-5,5) -> 44 | C3: =50+RANDBETWEEN(0,10) -> 52 | D3: 0 | E3: 41 | F3: 57 | G3: 0
A4: 40238 | B4: =100-C4+10*D4-RANDBETWEEN(-5,5) -> 38 | C4: =50+RANDBETWEEN(0,10) -> 58 | D4: 0 | E4: 45 | F4: 53 | G4: 0
A5: 40269 | B5: =100-C5+10*D5-RANDBETWEEN(-5,5) -> 49 | C5: =50+RANDBETWEEN(0,10) -> 60 | D5: 1 | E5: 56 | F5: 55 | G5: 1
A6: 40299 | B6: =100-C6+10*D6-RANDBETWEEN(-5,5) -> 43 | C6: =50+RANDBETWEEN(0,10) -> 57 | D6: 0 | E6: 40 | F6: 56 | G6: 0
A7: 40330 | B7: =100-C7+10*D7-RANDBETWEEN(-5,5) -> 47 | C7: =50+RANDBETWEEN(0,10) -> 54 | D7: 0 | E7: 47 | F7: 55 | G7: 0
A8: 40360 | B8: =100-C8+10*D8-RANDBETWEEN(-5,5) -> 50 | C8: =50+RANDBETWEEN(0,10) -> 50 | D8: 0 | E8: 45 | F8: 51 | G8: 0
A9: 40391 | B9: =100-C9+10*D9-RANDBETWEEN(-5,5) -> 60 | C9: =50+RANDBETWEEN(0,10) -> 52 | D9: 1 | E9: 62 | F9: 53 | G9: 1
A10: 40422 | B10: =100-C10+10*D10-RANDBETWEEN(-5,5) -> 46 | C10: =50+RANDBETWEEN(0,10) -> 52 | D10: 0 | E10: 43 | F10: 59 | G10: 0
A11: 40452 | B11: =100-C11+10*D11-RANDBETWEEN(-5,5) -> 42 | C11: =50+RANDBETWEEN(0,10) -> 53 | D11: 0 | E11: 40 | F11: 58 | G11: 0
A12: 40483 | B12: =100-C12+10*D12-RANDBETWEEN(-5,5) -> 46 | C12: =50+RANDBETWEEN(0,10) -> 58 | D12: 0 | E12: 47 | F12: 57 | G12: 0
A13: 40513 | B13: =100-C13+10*D13-RANDBETWEEN(-5,5) -> 50 | C13: =50+RANDBETWEEN(0,10) -> 59 | D13: 1 | E13: 48 | F13: 60 | G13: 1
... A37: 41244 | B37: =100-C37+10*D37-RANDBETWEEN(-5,5) -> 50 | C37: =50+RANDBETWEEN(0,10) -> 60 | D37: 1 | E37: 47 | F37: 59 | G37: 1

Sheet 12. Without Dummy
A1: SUMMARY OUTPUT | J1: Date | K1: Quantity | L1: Predicted Quantity
J2: 40179 | K2: 45 | L2: 42.946196
A3: Regression Statistics | J3: 40210 | K3: 41 | L3: 45.565798
A4: Multiple R | B4: 0.57454868 | J4: 40238 | K4: 45 | L4: 50.805003
A5: R Square | B5: 0.33010619 | C5: <--We'll discuss this later, but academics don't like low R^2 scores. | J5: 40269 | K5: 56 | L5: 48.185401
A6: Adjusted R Square | B6: 0.31040343 | J6: 40299 | K6: 40 | L6: 46.8756
A7: Standard Error | B7: 5.7618703 | J7: 40330 | K7: 47 | L7: 48.185401
A8: Observations | B8: 36 | J8: 40360 | K8: 45 | L8: 53.424606
J9: 40391 | K9: 62 | L9: 50.805003
A10: ANOVA | J10: 40422 | K10: 43 | L10: 42.946196
B11: df | C11: SS | D11: MS | E11: F | F11: Significance F | J11: 40452 | K11: 40 | L11: 44.255997
A12: Regression | B12: 1 | C12: 556.22892 | D12: 556.22892 | E12: 16.754313 | F12: 0.00024770154 | J12: 40483 | K12: 47 | L12: 45.565798
A13: Residual | B13: 34 | C13: 1128.7711 | D13: 33.199149 | J13: 40513 | K13: 48 | L13: 41.636395
A14: Total | B14: 35 | C14: 1685 | J14: 40544 | K14: 42 | L14: 49.495202
J15: 40575 | K15: 36 | L15: 42.946196
B16: Coefficients | C16: Standard Error | D16: t Stat | E16: P-value | F16: Lower 95% | G16: Upper 95% | H16: Lower 95.0% | I16: Upper 95.0% | J16: 40603 | K16: 48 | L16: 52.114805
A17: Intercept | B17: 120.22447 | C17: 17.87438 | D17: 6.7260777 | E17: 9.9800664e-08 | F17: 83.899358 | G17: 156.54958 | H17: 83.899358 | I17: 156.54958 | J17: 40634 | K17: 61 | L17: 50.805003
A18: Price | B18: -1.3098012 | C18: 0.31999419 | D18: -4.0932032 | E18: 0.00024770154 | F18: -1.9601077 | G18: -0.6594948 | H18: -1.9601077 | I18: -0.6594948 | J18: 40664 | K18: 51 | L18: 54.734407
J19: 40695 | K19: 50 | L19: 49.495202
J20: 40725 | K20: 47 | L20: 45.565798
J21: 40756 | K21: 58 | L21: 48.185401
A22: RESIDUAL OUTPUT | J22: 40787 | K22: 41 | L22: 44.255997
J23: 40817 | K23: 45 | L23: 48.185401
A24: Observation | B24: Predicted Quantity | C24: Residuals | D24: Standard Residuals | J24: 40848 | K24: 53 | L24: 54.734407
A25: 1 | B25: 42.946196 | C25: 2.053804 | D25: 0.36165134 | J25: 40878 | K25: 62 | L25: 52.114805
A26: 2 | B26: 45.565798 | C26: -4.5657985 | D26: -0.80398478 | J26: 40909 | K26: 39 | L26: 41.636395
A27: 3 | B27: 50.805003 | C27: -5.8050034 | D27: -1.0221946 | J27: 40940 | K27: 45 | L27: 41.636395
A28: 4 | B28: 48.185401 | C28: 7.814599 | D28: 1.3760613 | J28: 40969 | K28: 40 | L28: 44.255997
A29: 5 | B29: 46.8756 | C29: -6.8755997 | D29: -1.2107143 | J29: 41000 | K29: 53 | L29: 46.8756
A30: 6 | B30: 48.185401 | C30: -1.185401 | D30: -0.20873552 | J30: 41030 | K30: 41 | L30: 42.946196
A31: 7 | B31: 53.424606 | C31: -8.4246059 | D31: -1.4834765 | J31: 41061 | K31: 42 | L31: 44.255997
A32: 8 | B32: 50.805003 | C32: 11.194997 | D32: 1.9713106 | J32: 41091 | K32: 40 | L32: 46.8756
A33: 9 | B33: 42.946196 | C33: 0.053803975 | D33: 0.0094742633 | J33: 41122 | K33: 58 | L33: 49.495202
A34: 10 | B34: 44.255997 | C34: -4.2559973 | D34: -0.74943233 | J34: 41153 | K34: 44 | L34: 48.185401
A35: 11 | B35: 45.565798 | C35: 1.4342015 | D35: 0.25254645 | J35: 41183 | K35: 44 | L35: 41.636395
A36: 12 | B36: 41.636395 | C36: 6.3636052 | D36: 1.1205579 | J36: 41214 | K36: 52 | L36: 53.424606
A37: 13 | B37: 49.495202 | C37: -7.4952022 | D37: -1.3198192 | J37: 41244 | K37: 47 | L37: 42.946196
A38: 14 | B38: 42.946196 | C38: -6.946196 | D38: -1.2231455
A39: 15 | B39: 52.114805 | C39: -4.1148047 | D39: -0.72456993
A40: 16 | B40: 50.805003 | C40: 10.194997 | D40: 1.795222
...

Sheet 13. With Dummy
A1: SUMMARY OUTPUT | J1: Date | K1: Quantity | L1: Predicted Quantity
J2: 40179 | K2: 45 | L2: 40.726318
A3: Regression Statistics | J3: 40210 | K3: 41 | L3: 43.004109
A4: Multiple R | B4: 0.9035952 | J4: 40238 | K4: 45 | L4: 47.55969
A5: R Square | B5: 0.81648428 | J5: 40269 | K5: 56 | L5: 56.364199
A6: Adjusted R Square | B6: 0.80536211 | J6: 40299 | K6: 40 | L6: 44.143004
A7: Standard Error | B7: 3.0611148 | J7: 40330 | K7: 47 | L7: 45.281899
A8: Observations | B8: 36 | J8: 40360 | K8: 45 | L8: 49.83748
J9: 40391 | K9: 62 | L9: 58.64199
A10: ANOVA | J10: 40422 | K10: 43 | L10: 40.726318
B11: df | C11: SS | D11: MS | E11: F | F11: Significance F | J11: 40452 | K11: 40 | L11: 41.865213
A12: Regression | B12: 2 | C12: 1375.776 | D12: 687.888 | E12: 73.410552 | F12: 7.0893942e-13 | J12: 40483 | K12: 47 | L12: 43.004109
A13: Residual | B13: 33 | C13: 309.22399 | D13: 9.3704241 | J13: 40513 | K13: 48 | L13: 50.669722
A14: Total | B14: 35 | C14: 1685 | J14: 40544 | K14: 42 | L14: 46.420794
J15: 40575 | K15: 36 | L15: 40.726318
B16: Coefficients | C16: Standard Error | D16: t Stat | E16: P-value | F16: Lower 95% | G16: Upper 95% | H16: Lower 95.0% | I16: Upper 95.0% | J16: 40603 | K16: 48 | L16: 48.698585
A17: Intercept | B17: 107.92114 | C17: 9.5868357 | D17: 11.257222 | E17: 7.6965609e-13 | F17: 88.416577 | G17: 127.42571 | H17: 88.416577 | I17: 127.42571 | J17: 40634 | K17: 61 | L17: 58.64199
A18: Price | B18: -1.1388953 | C18: 0.17098305 | D18: -6.6608667 | E18: 1.3983919e-07 | F18: -1.4867629 | G18: -0.79102768 | H18: -1.4867629 | I18: -0.79102768 | J18: 40664 | K18: 51 | L18: 50.976376
A19: End of Trimester | B19: 11.0823 | C19: 1.1850115 | D19: 9.352061 | E19: 8.430456e-11 | F19: 8.6713758 | G19: 13.493224 | H19: 8.6713758 | I19: 13.493224 | J19: 40695 | K19: 50 | L19: 46.420794
J20: 40725 | K20: 47 | L20: 43.004109
J21: 40756 | K21: 58 | L21: 56.364199
J22: 40787 | K22: 41 | L22: 41.865213
A23: RESIDUAL OUTPUT | J23: 40817 | K23: 45 | L23: 45.281899
J24: 40848 | K24: 53 | L24: 50.976376
A25: Observation | B25: Predicted Quantity | C25: Residuals | D25: Standard Residuals | J25: 40878 | K25: 62 | L25: 59.780885
A26: 1 | B26: 40.726318 | C26: 4.273682 | D26: 1.4378038 | J26: 40909 | K26: 39 | L26: 39.587423
A27: 2 | B27: 43.004109 | C27: -2.0041086 | D27: -0.67424646 | J27: 40940 | K27: 45 | L27: 39.587423
A28: 3 | B28: 47.55969 | C28: -2.5596898 | D28: -0.86116182 | J28: 40969 | K28: 40 | L28: 41.865213
A29: 4 | B29: 56.364199 | C29: -0.36419896 | D29: -0.12252822 | J29: 41000 | K29: 53 | L29: 55.225304
A30: 5 | B30: 44.143004 | C30: -4.1430039 | D30: -1.3938395 | J30: 41030 | K30: 41 | L30: 40.726318
A31: 6 | B31: 45.281899 | C31: 1.7181008 | D31: 0.57802427 | J31: 41061 | K31: 42 | L31: 41.865213
A32: 7 | B32: 49.83748 | C32: -4.8374804 | D32: -1.6274837 | J32: 41091 | K32: 40 | L32: 44.143004
A33: 8 | B33: 58.64199 | C33: 3.3580104 | D33: 1.1297425 | J33: 41122 | K33: 58 | L33: 57.503094
A34: 9 | B34: 40.726318 | C34: 2.273682 | D34: 0.76493963 | J34: 41153 | K34: 44 | L34: 45.281899
A35: 10 | B35: 41.865213 | C35: -1.8652133 | D35: -0.62751762 | J35: 41183 | K35: 44 | L35: 39.587423
A36: 11 | B36: 43.004109 | C36: 3.9958914 | D36: 1.3443462 | J36: 41214 | K36: 52 | L36: 49.83748
A37: 12 | B37: 50.669722 | C37: -2.6697224 | D37: -0.89818032 | J37: 41244 | K37: 47 | L37: 51.808618
A38: 13 | B38: 46.420794 | C38: -4.4207945 | D38: -1.4872972
A39: 14 | B39: 40.726318 | C39: -4.726318 | D39: -1.5900851
A40: 15 | B40: 48.698585 | C40: -0.69858511 | D40: -0.23502646
...

Sheet Quiz 4
A1: Annual Salary ($1000s) | B1: Hours/week | C1: Female | D1: Annual Salary ($1000s) | E1: Hours/week | F1: Gender
A2: =ROUND((B2-RAND()*4*C2)*1000+RANDBETWEEN(-500,500),0) -> 33758 | B2: 34 | C2: =RANDBETWEEN(0,1) -> 0 | D2: 31325 | E2: 34 | F2: Female
A3: =ROUND((B3-RAND()*4*C3)*1000+RANDBETWEEN(-500,500),0) -> 50170 | B3: 50 | C3: =RANDBETWEEN(0,1) -> 0 | D3: 49577 | E3: 50 | F3: Male
A4: =ROUND((B4-RAND()*4*C4)*1000+RANDBETWEEN(-500,500),0) -> 49155 | B4: 49 | C4: =RANDBETWEEN(0,1) -> 0 | D4: 47766 | E4: 49 | F4: Female
A5: =ROUND((B5-RAND()*4*C5)*1000+RANDBETWEEN(-500,500),0) -> 35182 | B5: 39 | C5: =RANDBETWEEN(0,1) -> 1 | D5: 38579 | E5: 39 | F5: Female
A6: =ROUND((B6-RAND()*4*C6)*1000+RANDBETWEEN(-500,500),0) -> 39200 | B6: 39 | C6: =RANDBETWEEN(0,1) -> 0 | D6: 39275 | E6: 39 | F6: Male
A7: =ROUND((B7-RAND()*4*C7)*1000+RANDBETWEEN(-500,500),0) -> 50800 | B7: 53 | C7: =RANDBETWEEN(0,1) -> 1 | D7: 53011 | E7: 53 | F7: Male
A8: =ROUND((B8-RAND()*4*C8)*1000+RANDBETWEEN(-500,500),0) -> 52430 | B8: 52 | C8: =RANDBETWEEN(0,1) -> 0 | D8: 49560 | E8: 52 | F8: Female
A9: =ROUND((B9-RAND()*4*C9)*1000+RANDBETWEEN(-500,500),0) -> 20635 | B9: 21 | C9: =RANDBETWEEN(0,1) -> 0 | D9: 20648 | E9: 21 | F9: Male
A10: =ROUND((B10-RAND()*4*C10)*1000+RANDBETWEEN(-500,500),0) -> 54074 | B10: 57 | C10: =RANDBETWEEN(0,1) -> 1 | D10: 53595 | E10: 57 | F10: Female
A11: =ROUND((B11-RAND()*4*C11)*1000+RANDBETWEEN(-500,500),0) -> 53847 | B11: 54 | C11: =RANDBETWEEN(0,1) -> 0 | D11: 53349 | E11: 54 | F11: Female
A12: =ROUND((B12-RAND()*4*C12)*1000+RANDBETWEEN(-500,500),0) -> 38241 | B12: 41 | C12: =RANDBETWEEN(0,1) -> 1 | D12: 41021 | E12: 41 | F12: Male
A13: =ROUND((B13-RAND()*4*C13)*1000+RANDBETWEEN(-500,500),0) -> 34042 | B13: 36 | C13: =RANDBETWEEN(0,1) -> 1 | D13: 34340 | E13: 36 | F13: Female
... A31: =ROUND((B31-RAND()*4*C31)*1000+RANDBETWEEN(-500,500),0) -> 42107 | B31: 42 | C31: =RANDBETWEEN(0,1) -> 1 | D31: 41946 | E31: 42 | F31: Male

Sheet 14. Dummy with Log-Log
A1: Date | B1: Quantity | C1: Price | D1: End of Trimester | E1: Instructor's Console--> | F1: Quantity | G1: Price | H1: End of Trimester | J1: LnQ | K1: LnP | L1: End of Trimester
A2: 40179 | B2: 104 | C2: 43 | D2: 0 | F2: =ROUND(EXP(1.1*H2)*100000*(1+RAND())*G2^-2,0) -> 85 | G2: =40+RANDBETWEEN(0,10) -> 45 | H2: 0 | J2: =LN(B2) -> 4.6443909 | K2: =LN(C2) -> 3.7612001 | L2: 0
A3: 40210 | B3: 56 | C3: 43 | D3: 0 | F3: =ROUND(EXP(1.1*H3)*100000*(1+RAND())*G3^-2,0) -> 59 | G3: =40+RANDBETWEEN(0,10) -> 42 | H3: 0 | J3: =LN(B3) -> 4.0253517 | K3: =LN(C3) -> 3.7612001 | L3: 0
A4: 40238 | B4: 65 | C4: 46 | D4: 0 | F4: =ROUND(EXP(1.1*H4)*100000*(1+RAND())*G4^-2,0) -> 117 | G4: =40+RANDBETWEEN(0,10) -> 41 | H4: 0 | J4: =LN(B4) -> 4.1743873 | K4: =LN(C4) -> 3.8286414 | L4: 0
A5: 40269 | B5: 251 | C5: 40 | D5: 1 | F5: =ROUND(EXP(1.1*H5)*100000*(1+RAND())*G5^-2,0) -> 196 | G5: =40+RANDBETWEEN(0,10) -> 50 | H5: 1 | J5: =LN(B5) -> 5.5254529 | K5: =LN(C5) -> 3.6888795 | L5: 1
A6: 40299 | B6: 56 | C6: 50 | D6: 0 | F6: =ROUND(EXP(1.1*H6)*100000*(1+RAND())*G6^-2,0) -> 67 | G6: =40+RANDBETWEEN(0,10) -> 42 | H6: 0 | J6: =LN(B6) -> 4.0253517 | K6: =LN(C6) -> 3.912023 | L6: 0
A7: 40330 | B7: 68 | C7: 44 | D7: 0 | F7: =ROUND(EXP(1.1*H7)*100000*(1+RAND())*G7^-2,0) -> 89 | G7: =40+RANDBETWEEN(0,10) -> 44 | H7: 0 | J7: =LN(B7) -> 4.2195077 | K7: =LN(C7) -> 3.7841896 | L7: 0
A8: 40360 | B8: 73 | C8: 49 | D8: 0 | F8: =ROUND(EXP(1.1*H8)*100000*(1+RAND())*G8^-2,0) -> 49 | G8: =40+RANDBETWEEN(0,10) -> 48 | H8: 0 | J8: =LN(B8) -> 4.2904594 | K8: =LN(C8) -> 3.8918203 | L8: 0
A9: 40391 | B9: 196 | C9: 49 | D9: 1 | F9: =ROUND(EXP(1.1*H9)*100000*(1+RAND())*G9^-2,0) -> 310 | G9: =40+RANDBETWEEN(0,10) -> 44 | H9: 1 | J9: =LN(B9) -> 5.2781147 | K9: =LN(C9) -> 3.8918203 | L9: 1
A10: 40422 | B10: 89 | C10: 45 | D10: 0 | F10: =ROUND(EXP(1.1*H10)*100000*(1+RAND())*G10^-2,0) -> 88 | G10: =40+RANDBETWEEN(0,10) -> 45 | H10: 0 | J10: =LN(B10) -> 4.4886364 | K10: =LN(C10) -> 3.8066625 | L10: 0
A11: 40452 | B11: 111 | C11: 42 | D11: 0 | F11: =ROUND(EXP(1.1*H11)*100000*(1+RAND())*G11^-2,0) -> 71 | G11: =40+RANDBETWEEN(0,10) -> 50 | H11: 0 | J11: =LN(B11) -> 4.7095302 | K11: =LN(C11) -> 3.7376696 | L11: 0
A12: 40483 | B12: 84 | C12: 42 | D12: 0 | F12: =ROUND(EXP(1.1*H12)*100000*(1+RAND())*G12^-2,0) -> 62 | G12: =40+RANDBETWEEN(0,10) -> 49 | H12: 0 | J12: =LN(B12) -> 4.4308168 | K12: =LN(C12) -> 3.7376696 | L12: 0
A13: 40513 | B13: 214 | C13: 42 | D13: 1 | F13: =ROUND(EXP(1.1*H13)*100000*(1+RAND())*G13^-2,0) -> 279 | G13: =40+RANDBETWEEN(0,10) -> 44 | H13: 1 | J13: =LN(B13) -> 5.365976 | K13: =LN(C13) -> 3.7376696 | L13: 1
... A37: 41244 | B37: 216 | C37: 43 | D37: 1 | F37: =ROUND(EXP(1.1*H37)*100000*(1+RAND())*G37^-2,0) -> 245 | G37: =40+RANDBETWEEN(0,10) -> 44 | H37: 1 | J37: =LN(B37) -> 5.3752784 | K37: =LN(C37) -> 3.7612001 | L37: 1

Sheet 15. Dummy with Log-Log Results
A1: SUMMARY OUTPUT | J1: Date | K1: Quantity | L1: Predicted
J2: 40179 | K2: 104 | L2: =EXP(B26) -> 81.924529
A3: Regression Statistics | J3: 40210 | K3: 56 | L3: =EXP(B27) -> 81.924529
A4: Multiple R | B4: 0.93985546 | J4: 40238 | K4: 65 | L4: =EXP(B28) -> 71.897862
A5: R Square | B5: 0.88332829 | J5: 40269 | K5: 251 | L5: =EXP(B29) -> 270.50289
A6: Adjusted R Square | B6: 0.87625727 | J6: 40299 | K6: 56 | L6: =EXP(B30) -> 61.181052
A7: Standard Error | B7: 0.18834937 | J7: 40330 | K7: 68 | L7: =EXP(B31) -> 78.358594
A8: Observations | B8: 36 | J8: 40360 | K8: 73 | L8: =EXP(B32) -> 63.621131
J9: 40391 | K9: 196 | L9: =EXP(B33) -> 182.62459
A10: ANOVA | J10: 40422 | K10: 89 | L10: =EXP(B34) -> 75.02287
B11: df | C11: SS | D11: MS | E11: F | F11: Significance F | J11: 40452 | K11: 111 | L11: =EXP(B35) -> 85.742487
A12: Regression | B12: 2 | C12: 8.8633696 | D12: 4.4316848 | E12: 124.92245 | F12: 4.0265395e-16 | J12: 40483 | K12: 84 | L12: =EXP(B36) -> 85.742487
A13: Residual | B13: 33 | C13: 1.170691 | D13: 0.035475486 | J13: 40513 | K13: 214 | L13: =EXP(B37) -> 246.12399
A14: Total | B14: 35 | C14: 10.034061 | J14: 40544 | K14: 72 | L14: =EXP(B38) -> 68.966102
J15: 40575 | K15: 100 | L15: =EXP(B39) -> 81.924529
B16: Coefficients | C16: Standard Error | D16: t Stat | E16: P-value | F16: Lower 95% | G16: Upper 95% | H16: Lower 95.0% | I16: Upper 95.0% | J16: 40603 | K16: 44 | L16: =EXP(B40) -> 66.2119
A17: Intercept | B17: 11.686679 | C17: 1.6913739 | D17: 6.9095774 | E17: 6.8170443e-08 | F17: 8.2455528 | G17: 15.127805 | H17: 8.2455528 | I17: 15.127805 | J17: 40634 | K17: 268 | L17: =EXP(B41) -> 206.38297
A18: lnp | B18: -1.9357865 | C18: 0.44288176 | D18: -4.3708878 | E18: 0.0001161187 | F18: -2.8368362 | G18: -1.0347368 | H18: -2.8368362 | I18: -1.0347368 | J18: 40664 | K18: 85 | L18: =EXP(B42) -> 66.2119
A19: End of Trimester | B19: 1.054487 | C19: 0.073279891 | D19: 14.389855 | E19: 8.9025451e-16 | F19: 0.90539793 | G19: 1.203576 | H19: 0.90539793 | I19: 1.203576 | J19: 40695 | K19: 68 | L19: =EXP(B43) -> 66.2119
J20: 40725 | K20: 67 | L20: =EXP(B44) -> 66.2119
J21: 40756 | K21: 138 | L21: =EXP(B45) -> 182.62459
J22: 40787 | K22: 61 | L22: =EXP(B46) -> 63.621131
A23: RESIDUAL OUTPUT | J23: 40817 | K23: 86 | L23: =EXP(B47) -> 68.966102
J24: 40848 | K24: 62 | L24: =EXP(B48) -> 66.2119
A25: Observation | B25: Predicted lnq | C25: Residuals | D25: Standard Residuals | J25: 40878 | K25: 296 | L25: =EXP(B49) -> 257.87711
A26: 1 | B26: 4.4057984 | C26: 0.23859245 | D26: 1.3045766 | J26: 40909 | K26: 43 | L26: =EXP(B50) -> 61.181052
A27: 2 | B27: 4.4057984 | C27: -0.38044675 | D27: -2.080208 | J27: 40940 | K27: 73 | L27: =EXP(B51) -> 94.23539
A28: 3 | B28: 4.2752465 | C28: -0.10085925 | D28: -0.55147855 | J28: 40969 | K28: 77 | L28: =EXP(B52) -> 66.2119
A29: 4 | B29: 5.6002828 | C29: -0.074829852 | D29: -0.4091549 | J29: 41000 | K29: 216 | L29: =EXP(B53) -> 190.0614
A30: 5 | B30: 4.1138375 | C30: -0.088485842 | D30: -0.48382317 | J30: 41030 | K30: 81 | L30: =EXP(B54) -> 66.2119
A31: 6 | B31: 4.3612956 | C31: -0.14178794 | D31: -0.77526855 | J31: 41061 | K31: 83 | L31: =EXP(B55) -> 89.836934
A32: 7 | B32: 4.1529457 | C32: 0.13751378 | D32: 0.75189829 | J32: 41091 | K32: 85 | L32: =EXP(B56) -> 85.742487
A33: 8 | B33: 5.2074326 | C33: 0.070682012 | D33: 0.38647533 | J33: 41122 | K33: 231 | L33: =EXP(B57) -> 235.16454
A34: 9 | B34: 4.317793 | C34: 0.17084337 | D34: 0.93413795 | J34: 41153 | K34: 103 | L34: =EXP(B58) -> 94.23539
A35: 10 | B35: 4.4513485 | C35: 0.25818174 | D35: 1.4116869 | J35: 41183 | K35: 75 | L35: =EXP(B59) -> 78.358594
A36: 11 | B36: 4.4513485 | C36: -0.020531665 | D36: -0.1122631 | J36: 41214 | K36: 63 | L36: =EXP(B60) -> 63.621131
A37: 12 | B37: 5.5058355 | C37: -0.13985944 | D37: -0.76472387 | J37: 41244 | K37: 216 | L37: =EXP(B61) -> 235.16454
A38: 13 | B38: 4.2336151 | C38: 0.043051016 | D38: 0.23539448
A39: 14 | B39: 4.4057984 | C39: 0.19937174 | D39: 1.0901254
A40: 15 | B40: 4.1928602 | C40: -0.40867056 | D40: -2.2345302
...

Sheet Quiz 5
A1: LnP | B1: Lnalpha | C1: LnSpeed | D1: LnCapacity | E1: LnDurability | F1: 2010 | G1: 2011 | H1: 2012 | I1: Speed | J1: Capacity | K1: Durability | L1: 2011 | M1: 2012 | N1: LnP | O1: LnSpeed | P1: LnCapacity | Q1: LnDurability | R1: Year
A2: =B2+0.5*C2+0.1*D2+0.2*E2-0.1*F2-0.5*G2-1*H2 -> 5.4724958 | B2: =RANDBETWEEN(-1,1)/10 -> 0 | C2: =LN(I2) -> 7.6857031 | D2: =LN(J2) -> 8.1886891 | E2: =LN(K2) -> 4.5538769 | F2: 1 | G2: 0 | H2: 0 | I2: =RANDBETWEEN(1800,2200) -> 2177 | J2: =RANDBETWEEN(3000,6000) -> 3600 | K2: =RANDBETWEEN(80,100) -> 95 | L2: 0 | M2: 0 | N2: 5.3657345 | O2: 7.5326236 | P2: 8.1089242 | Q2: 4.4426513 | R2: 2010
A3: =B3+0.5*C3+0.1*D3+0.2*E3-0.1*F3-0.5*G3-1*H3 -> 5.0505243 | B3: =RANDBETWEEN(-1,1)/10 -> 0 | C3: =LN(I3) -> 7.6033993 | D3: =LN(J3) -> 8.6993481 | E3: =LN(K3) -> 4.3944492 | F3: 0 | G3: 1 | H3: 0 | I3: =RANDBETWEEN(1800,2200) -> 2005 | J3: =RANDBETWEEN(3000,6000) -> 5999 | K3: =RANDBETWEEN(80,100) -> 81 | L3: 1 | M3: 0 | N3: 5.0779551 | O3: 7.678789 | P3: 8.6215532 | Q3: 4.3820266 | R3: 2011
A4: =B4+0.5*C4+0.1*D4+0.2*E4-0.1*F4-0.5*G4-1*H4 -> 4.4539058 | B4: =RANDBETWEEN(-1,1)/10 -> -0.1 | C4: =LN(I4) -> 7.6406038 | D4: =LN(J4) -> 8.5471403 | E4: =LN(K4) -> 4.3944492 | F4: 0 | G4: 0 | H4: 1 | I4: =RANDBETWEEN(1800,2200) -> 2081 | J4: =RANDBETWEEN(3000,6000) -> 5152 | K4: =RANDBETWEEN(80,100) -> 81 | L4: 0 | M4: 1 | N4: 4.6983692 | O4: 7.6764736 | P4: 8.5796045 | Q4: 4.5108595 | R4: 2012
A5: =B5+0.5*C5+0.1*D5+0.2*E5-0.1*F5-0.5*G5-1*H5 -> 5.3757957 | B5: =RANDBETWEEN(-1,1)/10 -> 0 | C5: =LN(I5) -> 7.5109778 | D5: =LN(J5) -> 8.3177662 | E5: =LN(K5) -> 4.4426513 | F5: 1 | G5: 0 | H5: 0 | I5: =RANDBETWEEN(1800,2200) -> 1828 | J5: =RANDBETWEEN(3000,6000) -> 4096 | K5: =RANDBETWEEN(80,100) -> 85 | L5: 0 | M5: 0 | N5: 5.2656874 | O5: 7.52564 | P5: 8.2646208 | Q5: 4.3820266 | R5: 2010
A6: =B6+0.5*C6+0.1*D6+0.2*E6-0.1*F6-0.5*G6-1*H6 -> 5.0037483 | B6: =RANDBETWEEN(-1,1)/10 -> 0 | C6: =LN(I6) -> 7.613325 | D6: =LN(J6) -> 8.109225 | E6: =LN(K6) -> 4.4308168 | F6: 0 | G6: 1 | H6: 0 | I6: =RANDBETWEEN(1800,2200) -> 2025 | J6: =RANDBETWEEN(3000,6000) -> 3325 | K6: =RANDBETWEEN(80,100) -> 84 | L6: 1 | M6: 0 | N6: 5.1664523 | O6: 7.6893711 | P6: 8.4536142 | Q6: 4.3820266 | R6: 2011
A7: =B7+0.5*C7+0.1*D7+0.2*E7-0.1*F7-0.5*G7-1*H7 -> 4.4712835 | B7: =RANDBETWEEN(-1,1)/10 -> -0.1 | C7: =LN(I7) -> 7.6372344 | D7: =LN(J7) -> 8.3772412 | E7: =LN(K7) -> 4.574711 | F7: 0 | G7: 0 | H7: 1 | I7: =RANDBETWEEN(1800,2200) -> 2074 | J7: =RANDBETWEEN(3000,6000) -> 4347 | K7: =RANDBETWEEN(80,100) -> 97 | L7: 0 | M7: 1 | N7: 4.6543227 | O7: 7.6511202 | P7: 8.5235728 | Q7: 4.3820266 | R7: 2012
A8: =B8+0.5*C8+0.1*D8+0.2*E8-0.1*F8-0.5*G8-1*H8 -> 5.4442987 | B8: =RANDBETWEEN(-1,1)/10 -> 0 | C8: =LN(I8) -> 7.6925696 | D8: =LN(J8) -> 8.1185051 | E8: =LN(K8) -> 4.4308168 | F8: 1 | G8: 0 | H8: 0 | I8: =RANDBETWEEN(1800,2200) -> 2192 | J8: =RANDBETWEEN(3000,6000) -> 3356 | K8: =RANDBETWEEN(80,100) -> 84 | L8: 0 | M8: 0 | N8: 5.3507593 | O8: 7.556428 | P8: 8.660254 | Q8: 4.5325995 | R8: 2010
A9: =B9+0.5*C9+0.1*D9+0.2*E9-0.1*F9-0.5*G9-1*H9 -> 4.9173805 | B9: =RANDBETWEEN(-1,1)/10 -> -0.1 | C9: =LN(I9) -> 7.5395588 | D9: =LN(J9) -> 8.5673158 | E9: =LN(K9) -> 4.4543473 | F9: 0 | G9: 1 | H9: 0 | I9: =RANDBETWEEN(1800,2200) -> 1881 | J9: =RANDBETWEEN(3000,6000) -> 5257 | K9: =RANDBETWEEN(80,100) -> 86 | L9: 1 | M9: 0 | N9: 4.9718849 | O9: 7.5267176 | P9: 8.2236272 | Q9: 4.4308168 | R9: 2011
A10: =B10+0.5*C10+0.1*D10+0.2*E10-0.1*F10-0.5*G10-1*H10 -> 4.3780096 | B10: =RANDBETWEEN(-1,1)/10 -> -0.1 | C10: =LN(I10) -> 7.5595595 | D10: =LN(J10) -> 8.1934002 | E10: =LN(K10) -> 4.3944492 | F10: 0 | G10: 0 | H10: 1 | I10: =RANDBETWEEN(1800,2200) -> 1919 | J10: =RANDBETWEEN(3000,6000) -> 3617 | K10: =RANDBETWEEN(80,100) -> 81 | L10: 0 | M10: 1 | N10: 4.5197524 | O10: 7.5299434 | P10: 8.6625049 | Q10: 4.4426513 | R10: 2012
A11: =B11+0.5*C11+0.1*D11+0.2*E11-0.1*F11-0.5*G11-1*H11 -> 4.4499923 | B11: =RANDBETWEEN(-1,1)/10 -> -0.1 | C11: =LN(I11) -> 7.6386798 | D11: =LN(J11) -> 8.542471 | E11: =LN(K11) -> 4.3820266 | F11: 0 | G11: 0 | H11: 1 | I11: =RANDBETWEEN(1800,2200) -> 2077 | J11: =RANDBETWEEN(3000,6000) -> 5128 | K11: =RANDBETWEEN(80,100) -> 80 | L11: 0 | M11: 1 | N11: 4.4690146 | O11: 7.5766098 | P11: 8.6168575 | Q11: 4.5951199 | R11: 2012
A12: =B12+0.5*C12+0.1*D12+0.2*E12-0.1*F12-0.5*G12-1*H12 -> 5.1236533 | B12: =RANDBETWEEN(-1,1)/10 -> 0 | C12: =LN(I12) -> 7.6943928 | D12: =LN(J12) -> 8.5743294 | E12: =LN(K12) -> 4.5951199 | F12: 0 | G12: 1 | H12: 0 | I12: =RANDBETWEEN(1800,2200) -> 2196 | J12: =RANDBETWEEN(3000,6000) -> 5294 | K12: =RANDBETWEEN(80,100) -> 99 | L12: 1 | M12: 0 | N12: 4.916256 | O12: 7.6143121 | P12: 8.1137261 | Q12: 4.4886364 | R12: 2011
A13: =B13+0.5*C13+0.1*D13+0.2*E13-0.1*F13-0.5*G13-1*H13 -> 5.3069504 | B13: =RANDBETWEEN(-1,1)/10 -> -0.1 | C13: =LN(I13) -> 7.5548585 | D13: =LN(J13) -> 8.4817732 | E13: =LN(K13) -> 4.4067192 | F13: 1 | G13: 0 | H13: 0 | I13: =RANDBETWEEN(1800,2200) -> 1910 | J13: =RANDBETWEEN(3000,6000) -> 4826 | K13: =RANDBETWEEN(80,100) -> 82 | L13: 0 | M13: 0 | N13: 5.421455 | O13: 7.5082388 | P13: 8.5656023 | Q13: 4.5538769 | R13: 2010
... A25: =B25+0.5*C25+0.1*D25+0.2*E25-0.1*F25-0.5*G25-1*H25 -> 5.5928843 | B25: =RANDBETWEEN(-1,1)/10 -> 0.1 | C25: =LN(I25) -> 7.6792514 | D25: =LN(J25) -> 8.5779119 | E25: =LN(K25) -> 4.4773368 | F25: 1 | G25: 0 | H25: 0 | I25: =RANDBETWEEN(1800,2200) -> 2163 | J25: =RANDBETWEEN(3000,6000) -> 5313 | K25: =RANDBETWEEN(80,100) -> 88 | L25: 0 | M25: 0 | N25: 5.4510036 | O25: 7.5688957 | P25: 8.6882853 | Q25: 4.4886364 | R25: 2010

Sheet 16.  Statistics Testing
A1: Quantity (units) | B1: Price ($) | C1: Income (1000s) | D1: Internet Advertising ($) | F1: Quantity (units) | G1: Price ($) | H1: Income (1000s) | I1: Internet Advertising ($)
A2: =ROUND(RANDBETWEEN(-10,10)+1000-2*B2+1.5*C2,0) -> 1003 | B2: =10+RANDBETWEEN(0,10) -> 18 | C2: =10+RANDBETWEEN(0,60) -> 21 | D2: =100+10*RANDBETWEEN(0,30) -> 200 | F2: 1065 | G2: 20 | H2: 68 | I2: 290
A3: =ROUND(RANDBETWEEN(-10,10)+1000-2*B3+1.5*C3,0) -> 1062 | B3: =10+RANDBETWEEN(0,10) -> 11 | C3: =10+RANDBETWEEN(0,60) -> 60 | D3: =100+10*RANDBETWEEN(0,30) -> 320 | F3: 991 | G3: 18 | H3: 15 | I3: 190
A4: =ROUND(RANDBETWEEN(-10,10)+1000-2*B4+1.5*C4,0) -> 1017 | B4: =10+RANDBETWEEN(0,10) -> 11 | C4: =10+RANDBETWEEN(0,60) -> 26 | D4: =100+10*RANDBETWEEN(0,30) -> 380 | F4: 997 | G4: 16 | H4: 19 | I4: 310
A5: =ROUND(RANDBETWEEN(-10,10)+1000-2*B5+1.5*C5,0) -> 1054 | B5: =10+RANDBETWEEN(0,10) -> 12 | C5: =10+RANDBETWEEN(0,60) -> 53 | D5: =100+10*RANDBETWEEN(0,30) -> 370 | F5: 1003 | G5: 16 | H5: 22 | I5: 130
A6: =ROUND(RANDBETWEEN(-10,10)+1000-2*B6+1.5*C6,0) -> 1056 | B6: =10+RANDBETWEEN(0,10) -> 19 | C6: =10+RANDBETWEEN(0,60) -> 64 | D6: =100+10*RANDBETWEEN(0,30) -> 320 | F6: 1036 | G6: 16 | H6: 44 | I6: 190
A7: =ROUND(RANDBETWEEN(-10,10)+1000-2*B7+1.5*C7,0) -> 1036 | B7: =10+RANDBETWEEN(0,10) -> 13 | C7: =10+RANDBETWEEN(0,60) -> 41 | D7: =100+10*RANDBETWEEN(0,30) -> 390 | F7: 1048 | G7: 19 | H7: 58 | I7: 330
A8: =ROUND(RANDBETWEEN(-10,10)+1000-2*B8+1.5*C8,0) -> 1049 | B8: =10+RANDBETWEEN(0,10) -> 10 | C8: =10+RANDBETWEEN(0,60) -> 42 | D8: =100+10*RANDBETWEEN(0,30) -> 210 | F8: 1012 | G8: 10 | H8: 18 | I8: 120
A9: =ROUND(RANDBETWEEN(-10,10)+1000-2*B9+1.5*C9,0) -> 1044 | B9: =10+RANDBETWEEN(0,10) -> 15 | C9: =10+RANDBETWEEN(0,60) -> 56 | D9: =100+10*RANDBETWEEN(0,30) -> 400 | F9: 990 | G9: 15 | H9: 15 | I9: 370
A10: =ROUND(RANDBETWEEN(-10,10)+1000-2*B10+1.5*C10,0) -> 1026 | B10: =10+RANDBETWEEN(0,10) -> 13 | C10: =10+RANDBETWEEN(0,60) -> 33 | D10: =100+10*RANDBETWEEN(0,30) -> 140 | F10: 1032 | G10: 11 | H10: 37 | I10: 250
A11: =ROUND(RANDBETWEEN(-10,10)+1000-2*B11+1.5*C11,0) -> 1023 | B11: =10+RANDBETWEEN(0,10) -> 16 | C11: =10+RANDBETWEEN(0,60) -> 41 | D11: =100+10*RANDBETWEEN(0,30) -> 300 | F11: 1015 | G11: 13 | H11: 33 | I11: 340
A12: =ROUND(RANDBETWEEN(-10,10)+1000-2*B12+1.5*C12,0) -> 981 | B12: =10+RANDBETWEEN(0,10) -> 19 | C12: =10+RANDBETWEEN(0,60) -> 11 | D12: =100+10*RANDBETWEEN(0,30) -> 200 | F12: 1061 | G12: 12 | H12: 57 | I12: 340
A13: =ROUND(RANDBETWEEN(-10,10)+1000-2*B13+1.5*C13,0) -> 979 | B13: =10+RANDBETWEEN(0,10) -> 18 | C13: =10+RANDBETWEEN(0,60) -> 14 | D13: =100+10*RANDBETWEEN(0,30) -> 120 | F13: 1083 | G13: 14 | H13: 67 | I13: 340
... A31: =ROUND(RANDBETWEEN(-10,10)+1000-2*B31+1.5*C31,0) -> 1020 | B31: =10+RANDBETWEEN(0,10) -> 19 | C31: =10+RANDBETWEEN(0,60) -> 40 | D31: =100+10*RANDBETWEEN(0,30) -> 310 | F31: 1050 | G31: 17 | H31: 50 | I31: 310

Sheet 17. Regression Results
A1: SUMMARY OUTPUT
A3: Regression Statistics
A4: Multiple R | B4: 0.98513237
A5: R Square | B5: 0.97048578
A6: Adjusted R Square | B6: 0.96708029
A7: Standard Error | B7: 5.590278
A8: Observations | B8: 30
A10: ANOVA
B11: df | C11: SS | D11: MS | E11: F | F11: Significance F
A12: Regression | B12: 3 | C12: 26717.635 | D12: 8905.8784 | E12: 284.9771 | F12: 5.3212649e-20
A13: Residual | B13: 26 | C13: 812.5314 | D13: 31.251208
A14: Total | B14: 29 | C14: 27530.167
B16: Coefficients | C16: Standard Error | D16: t Stat | E16: P-value | F16: Lower 95% | G16: Upper 95% | H16: Lower 95.0% | I16: Upper 95.0%
A17: Intercept | B17: 1004.1966 | C17: 5.5670506 | D17: 180.38215 | E17: 8.3090431e-42 | F17: 992.75332 | G17: 1015.6398 | H17: 992.75332 | I17: 1015.6398
A18: Price ($) | B18: -2.3451386 | C18: 0.33891777 | D18: -6.9194913 | E18: 2.4001804e-07 | F18: -3.041794 | G18: -1.6484831 | H18: -3.041794 | I18: -1.6484831
A19: Income (1000s) | B19: 1.5739578 | C19: 0.056646748 | D19: 27.785493 | E19: 7.3337851e-21 | F19: 1.4575188 | G19: 1.6903969 | H19: 1.4575188 | I19: 1.6903969
A20: Internet Advertising ($) | B20: -0.0057233959 | C20: 0.012034641 | D20: -0.4755768 | E20: 0.63834735 | F20: -0.030460954 | G20: 0.019014162 | H20: -0.030460954 | I20: 0.019014162
A24: RESIDUAL OUTPUT
A26: Observation | B26: Predicted Quantity (units) | C26: Residuals | D26: Standard Residuals
A27: 1 | B27: 1062.6631 | C27: 2.3368699 | D27: 0.44148246
A28: 2 | B28: 984.50598 | C28: 6.4940171 | D28: 1.2268525
A29: 3 | B29: 994.80528 | C29: 2.1947163 | D29: 0.41462674
A30: 4 | B30: 1000.5574 | C30: 2.4426316 | D30: 0.461463
A31: 5 | B31: 1034.841 | C31: 1.1589635 | D31: 0.21895188
A32: 6 | B32: 1049.0398 | C32: -1.0397547 | D32: -0.19643091
A33: 7 | B33: 1008.3896 | C33: 3.6103974 | D33: 0.68207783
A34: 8 | B34: 990.51119 | C34: -0.51118732 | D34: -0.096573728
A35: 9 | B35: 1035.2056 | C35: -3.205621 | D35: -0.60560729
A36: 10 | B36: 1023.7044 | C36: -8.7044069 | D36: -1.6444403
A37: 11 | B37: 1063.8245 | C37: -2.824533 | D37: -0.53361198
A38: 12 | B38: 1074.8738 | C38: 8.1261661 | D38: 1.5351988
... A56: 30 | B56: 1041.2528 | C56: 8.7471627 | D56: 1.6525177

Sheet 18. R^2
A1: SUMMARY OUTPUT
A3: Regression Statistics
A4: Multiple R | B4: 0.98513237
A5: R Square | B5: 0.97048578
A6: Adjusted R Square | B6: 0.96708029
A7: Standard Error | B7: 5.590278
A8: Observations | B8: 30
A10: ANOVA
B11: df | C11: SS | D11: MS | E11: F | F11: Significance F
A12: Regression | B12: 3 | C12: 26717.635 | D12: 8905.8784 | E12: 284.9771 | F12: 5.3212649e-20
A13: Residual | B13: 26 | C13: 812.5314 | D13: 31.251208
A14: Total | B14: 29 | C14: 27530.167
B16: Coefficients | C16: Standard Error | D16: t Stat | E16: P-value | F16: Lower 95% | G16: Upper 95% | H16: Lower 95.0% | I16: Upper 95.0%
A17: Intercept | B17: 1004.1966 | C17: 5.5670506 | D17: 180.38215 | E17: 8.3090431e-42 | F17: 992.75332 | G17: 1015.6398 | H17: 992.75332 | I17: 1015.6398
A18: Price ($) | B18: -2.3451386 | C18: 0.33891777 | D18: -6.9194913 | E18: 2.4001804e-07 | F18: -3.041794 | G18: -1.6484831 | H18: -3.041794 | I18: -1.6484831
A19: Income (1000s) | B19: 1.5739578 | C19: 0.056646748 | D19: 27.785493 | E19: 7.3337851e-21 | F19: 1.4575188 | G19: 1.6903969 | H19: 1.4575188 | I19: 1.6903969
A20: Internet Advertising ($) | B20: -0.0057233959 | C20: 0.012034641 | D20: -0.4755768 | E20: 0.63834735 | F20: -0.030460954 | G20: 0.019014162 | H20: -0.030460954 | I20: 0.019014162
A24: RESIDUAL OUTPUT
A26: Observation | B26: Predicted Quantity (units) | C26: Residuals | D26: Standard Residuals
A27: 1 | B27: 1062.6631 | C27: 2.3368699 | D27: 0.44148246
A28: 2 | B28: 984.50598 | C28: 6.4940171 | D28: 1.2268525
A29: 3 | B29: 994.80528 | C29: 2.1947163 | D29: 0.41462674
A30: 4 | B30: 1000.5574 | C30: 2.4426316 | D30: 0.461463
A31: 5 | B31: 1034.841 | C31: 1.1589635 | D31: 0.21895188
A32: 6 | B32: 1049.0398 | C32: -1.0397547 | D32: -0.19643091
A33: 7 | B33: 1008.3896 | C33: 3.6103974 | D33: 0.68207783
A34: 8 | B34: 990.51119 | C34: -0.51118732 | D34: -0.096573728
A35: 9 | B35: 1035.2056 | C35: -3.205621 | D35: -0.60560729
A36: 10 | B36: 1023.7044 | C36: -8.7044069 | D36: -1.6444403
A37: 11 | B37: 1063.8245 | C37: -2.824533 | D37: -0.53361198
A38: 12 | B38: 1074.8738 | C38: 8.1261661 | D38: 1.5351988
... A56: 30 | B56: 1041.2528 | C56: 8.7471627 | D56: 1.6525177

Sheet 19. Standard Error
A1: SUMMARY OUTPUT
A3: Regression Statistics
A4: Multiple R | B4: 0.98513237
A5: R Square | B5: 0.97048578
A6: Adjusted R Square | B6: 0.96708029
A7: Standard Error | B7: 5.590278
A8: Observations | B8: 30
A10: ANOVA
B11: df | C11: SS | D11: MS | E11: F | F11: Significance F
A12: Regression | B12: 3 | C12: 26717.635 | D12: 8905.8784 | E12: 284.9771 | F12: 5.3212649e-20
A13: Residual | B13: 26 | C13: 812.5314 | D13: 31.251208
A14: Total | B14: 29 | C14: 27530.167
B16: Coefficients | C16: Standard Error | D16: t Stat | E16: P-value | F16: Lower 95% | G16: Upper 95% | H16: Lower 95.0% | I16: Upper 95.0%
A17: Intercept | B17: 1004.1966 | C17: 5.5670506 | D17: 180.38215 | E17: 8.3090431e-42 | F17: 992.75332 | G17: 1015.6398 | H17: 992.75332 | I17: 1015.6398
A18: Price ($) | B18: -2.3451386 | C18: 0.33891777 | D18: -6.9194913 | E18: 2.4001804e-07 | F18: -3.041794 | G18: -1.6484831 | H18: -3.041794 | I18: -1.6484831
A19: Income (1000s) | B19: 1.5739578 | C19: 0.056646748 | D19: 27.785493 | E19: 7.3337851e-21 | F19: 1.4575188 | G19: 1.6903969 | H19: 1.4575188 | I19: 1.6903969
A20: Internet Advertising ($) | B20: -0.0057233959 | C20: 0.012034641 | D20: -0.4755768 | E20: 0.63834735 | F20: -0.030460954 | G20: 0.019014162 | H20: -0.030460954 | I20: 0.019014162
A24: RESIDUAL OUTPUT
A26: Observation | B26: Predicted Quantity (units) | C26: Residuals | D26: Standard Residuals
A27: 1 | B27: 1062.6631 | C27: 2.3368699 | D27: 0.44148246
A28: 2 | B28: 984.50598 | C28: 6.4940171 | D28: 1.2268525
A29: 3 | B29: 994.80528 | C29: 2.1947163 | D29: 0.41462674
A30: 4 | B30: 1000.5574 | C30: 2.4426316 | D30: 0.461463
A31: 5 | B31: 1034.841 | C31: 1.1589635 | D31: 0.21895188
A32: 6 | B32: 1049.0398 | C32: -1.0397547 | D32: -0.19643091
A33: 7 | B33: 1008.3896 | C33: 3.6103974 | D33: 0.68207783
A34: 8 | B34: 990.51119 | C34: -0.51118732 | D34: -0.096573728
A35: 9 | B35: 1035.2056 | C35: -3.205621 | D35: -0.60560729
A36: 10 | B36: 1023.7044 | C36: -8.7044069 | D36: -1.6444403
A37: 11 | B37: 1063.8245 | C37: -2.824533 | D37: -0.53361198
A38: 12 | B38: 1074.8738 | C38: 8.1261661 | D38: 1.5351988
... A56: 30 | B56: 1041.2528 | C56: 8.7471627 | D56: 1.6525177

Sheet 20.  F-Test
A1: SUMMARY OUTPUT
A3: Regression Statistics
A4: Multiple R | B4: 0.98513237
A5: R Square | B5: 0.97048578
A6: Adjusted R Square | B6: 0.96708029
A7: Standard Error | B7: 5.590278
A8: Observations | B8: 30
A10: ANOVA
B11: df | C11: SS | D11: MS | E11: F | F11: Significance F
A12: Regression | B12: 3 | C12: 26717.635 | D12: 8905.8784 | E12: 284.9771 | F12: 5.3212649e-20
A13: Residual | B13: 26 | C13: 812.5314 | D13: 31.251208
A14: Total | B14: 29 | C14: 27530.167
B16: Coefficients | C16: Standard Error | D16: t Stat | E16: P-value | F16: Lower 95% | G16: Upper 95% | H16: Lower 95.0% | I16: Upper 95.0%
A17: Intercept | B17: 1004.1966 | C17: 5.5670506 | D17: 180.38215 | E17: 8.3090431e-42 | F17: 992.75332 | G17: 1015.6398 | H17: 992.75332 | I17: 1015.6398
A18: Price ($) | B18: -2.3451386 | C18: 0.33891777 | D18: -6.9194913 | E18: 2.4001804e-07 | F18: -3.041794 | G18: -1.6484831 | H18: -3.041794 | I18: -1.6484831
A19: Income (1000s) | B19: 1.5739578 | C19: 0.056646748 | D19: 27.785493 | E19: 7.3337851e-21 | F19: 1.4575188 | G19: 1.6903969 | H19: 1.4575188 | I19: 1.6903969
A20: Internet Advertising ($) | B20: -0.0057233959 | C20: 0.012034641 | D20: -0.4755768 | E20: 0.63834735 | F20: -0.030460954 | G20: 0.019014162 | H20: -0.030460954 | I20: 0.019014162
F22: F-Crit
F23: =FINV(0.05,B12,B13) -> 2.975154
A24: RESIDUAL OUTPUT | F24: Significance F
F25: =_xlfn.F.DIST.RT(E12,B12,B13) -> 5.3212649e-20
A26: Observation | B26: Predicted Quantity (units) | C26: Residuals | D26: Standard Residuals
A27: 1 | B27: 1062.6631 | C27: 2.3368699 | D27: 0.44148246
A28: 2 | B28: 984.50598 | C28: 6.4940171 | D28: 1.2268525
A29: 3 | B29: 994.80528 | C29: 2.1947163 | D29: 0.41462674
A30: 4 | B30: 1000.5574 | C30: 2.4426316 | D30: 0.461463
A31: 5 | B31: 1034.841 | C31: 1.1589635 | D31: 0.21895188
A32: 6 | B32: 1049.0398 | C32: -1.0397547 | D32: -0.19643091
A33: 7 | B33: 1008.3896 | C33: 3.6103974 | D33: 0.68207783
A34: 8 | B34: 990.51119 | C34: -0.51118732 | D34: -0.096573728
A35: 9 | B35: 1035.2056 | C35: -3.205621 | D35: -0.60560729
A36: 10 | B36: 1023.7044 | C36: -8.7044069 | D36: -1.6444403
A37: 11 | B37: 1063.8245 | C37: -2.824533 | D37: -0.53361198
A38: 12 | B38: 1074.8738 | C38: 8.1261661 | D38: 1.5351988
... A56: 30 | B56: 1041.2528 | C56: 8.7471627 | D56: 1.6525177

Sheet 21.  T-Test
A1: SUMMARY OUTPUT
A3: Regression Statistics
A4: Multiple R | B4: 0.98513237
A5: R Square | B5: 0.97048578
A6: Adjusted R Square | B6: 0.96708029
A7: Standard Error | B7: 5.590278
A8: Observations | B8: 30
A10: ANOVA
B11: df | C11: SS | D11: MS | E11: F | F11: Significance F
A12: Regression | B12: 3 | C12: 26717.635 | D12: 8905.8784 | E12: 284.9771 | F12: 5.3212649e-20
A13: Residual | B13: 26 | C13: 812.5314 | D13: 31.251208
A14: Total | B14: 29 | C14: 27530.167
B16: Coefficients | C16: Standard Error | D16: t Stat | E16: P-value | F16: Lower 95% | G16: Upper 95% | H16: Lower 95.0% | I16: Upper 95.0%
A17: Intercept | B17: 1004.1966 | C17: 5.5670506 | D17: 180.38215 | E17: 8.3090431e-42 | F17: 992.75332 | G17: 1015.6398 | H17: 992.75332 | I17: 1015.6398
A18: Price ($) | B18: -2.3451386 | C18: 0.33891777 | D18: -6.9194913 | E18: 2.4001804e-07 | F18: -3.041794 | G18: -1.6484831 | H18: -3.041794 | I18: -1.6484831
A19: Income (1000s) | B19: 1.5739578 | C19: 0.056646748 | D19: 27.785493 | E19: 7.3337851e-21 | F19: 1.4575188 | G19: 1.6903969 | H19: 1.4575188 | I19: 1.6903969
A20: Internet Advertising ($) | B20: -0.0057233959 | C20: 0.012034641 | D20: -0.4755768 | E20: 0.63834735 | F20: -0.030460954 | G20: 0.019014162 | H20: -0.030460954 | I20: 0.019014162
F22: T_Critical
F23: 2-Tailed | G23: 1-Tailed (Left)
A24: RESIDUAL OUTPUT | F24: =_xlfn.T.INV.2T(0.05,B13) -> 2.0555294 | G24: =_xlfn.T.INV(0.025,B13) -> -2.0555294
A26: Observation | B26: Predicted Quantity (units) | C26: Residuals | D26: Standard Residuals
A27: 1 | B27: 1062.6631 | C27: 2.3368699 | D27: 0.44148246 | F27: =_xlfn.T.DIST(D18,B13,TRUE) -> 1.2000902e-07
A28: 2 | B28: 984.50598 | C28: 6.4940171 | D28: 1.2268525
A29: 3 | B29: 994.80528 | C29: 2.1947163 | D29: 0.41462674
A30: 4 | B30: 1000.5574 | C30: 2.4426316 | D30: 0.461463
A31: 5 | B31: 1034.841 | C31: 1.1589635 | D31: 0.21895188
A32: 6 | B32: 1049.0398 | C32: -1.0397547 | D32: -0.19643091
A33: 7 | B33: 1008.3896 | C33: 3.6103974 | D33: 0.68207783
A34: 8 | B34: 990.51119 | C34: -0.51118732 | D34: -0.096573728
A35: 9 | B35: 1035.2056 | C35: -3.205621 | D35: -0.60560729
A36: 10 | B36: 1023.7044 | C36: -8.7044069 | D36: -1.6444403
A37: 11 | B37: 1063.8245 | C37: -2.824533 | D37: -0.53361198
A38: 12 | B38: 1074.8738 | C38: 8.1261661 | D38: 1.5351988
A39: 13 | B39: 1030.7261 | C39: -2.7261022 | D39: -0.5150164
... A56: 30 | B56: 1041.2528 | C56: 8.7471627 | D56: 1.6525177

Sheet 22.  DW-Test
A1: SUMMARY OUTPUT
A3: Regression Statistics
A4: Multiple R | B4: 0.98513237
A5: R Square | B5: 0.97048578
A6: Adjusted R Square | B6: 0.96708029
A7: Standard Error | B7: 5.590278
A8: Observations | B8: 30
A10: ANOVA
B11: df | C11: SS | D11: MS | E11: F | F11: Significance F
A12: Regression | B12: 3 | C12: 26717.635 | D12: 8905.8784 | E12: 284.9771 | F12: 5.3212649e-20
A13: Residual | B13: 26 | C13: 812.5314 | D13: 31.251208
A14: Total | B14: 29 | C14: 27530.167
B16: Coefficients | C16: Standard Error | D16: t Stat | E16: P-value | F16: Lower 95% | G16: Upper 95% | H16: Lower 95.0% | I16: Upper 95.0%
A17: Intercept | B17: 1004.1966 | C17: 5.5670506 | D17: 180.38215 | E17: 8.3090431e-42 | F17: 992.75332 | G17: 1015.6398 | H17: 992.75332 | I17: 1015.6398
A18: Price ($) | B18: -2.3451386 | C18: 0.33891777 | D18: -6.9194913 | E18: 2.4001804e-07 | F18: -3.041794 | G18: -1.6484831 | H18: -3.041794 | I18: -1.6484831
A19: Income (1000s) | B19: 1.5739578 | C19: 0.056646748 | D19: 27.785493 | E19: 7.3337851e-21 | F19: 1.4575188 | G19: 1.6903969 | H19: 1.4575188 | I19: 1.6903969
A20: Internet Advertising ($) | B20: -0.0057233959 | C20: 0.012034641 | D20: -0.4755768 | E20: 0.63834735 | F20: -0.030460954 | G20: 0.019014162 | H20: -0.030460954 | I20: 0.019014162
A24: RESIDUAL OUTPUT
A26: Observation | B26: Predicted Quantity (units) | C26: Residuals | D26: Standard Residuals | E26: DW
A27: 1 | B27: 1062.6631 | C27: 2.3368699 | D27: 0.44148246 | E27: =SUMXMY2(D27:D55,D28:D56)/SUMSQ(D27:D56) -> 2.2487557
A28: 2 | B28: 984.50598 | C28: 6.4940171 | D28: 1.2268525
A29: 3 | B29: 994.80528 | C29: 2.1947163 | D29: 0.41462674
A30: 4 | B30: 1000.5574 | C30: 2.4426316 | D30: 0.461463
A31: 5 | B31: 1034.841 | C31: 1.1589635 | D31: 0.21895188
A32: 6 | B32: 1049.0398 | C32: -1.0397547 | D32: -0.19643091
A33: 7 | B33: 1008.3896 | C33: 3.6103974 | D33: 0.68207783
A34: 8 | B34: 990.51119 | C34: -0.51118732 | D34: -0.096573728
A35: 9 | B35: 1035.2056 | C35: -3.205621 | D35: -0.60560729
A36: 10 | B36: 1023.7044 | C36: -8.7044069 | D36: -1.6444403
A37: 11 | B37: 1063.8245 | C37: -2.824533 | D37: -0.53361198
A38: 12 | B38: 1074.8738 | C38: 8.1261661 | D38: 1.5351988
A39: 13 | B39: 1030.7261 | C39: -2.7261022 | D39: -0.5150164
... A56: 30 | B56: 1041.2528 | C56: 8.7471627 | D56: 1.6525177

Sheet 23. Tests Summary (Future Ref.)
A1: SUMMARY OUTPUT
A3: Regression Statistics
A4: Multiple R | B4: 0.98513237
A5: R Square | B5: 0.97048578
A6: Adjusted R Square | B6: 0.96708029
A7: Standard Error | B7: 5.590278
A8: Observations | B8: 30
A10: ANOVA
B11: df | C11: SS | D11: MS | E11: F | F11: Significance F
A12: Regression | B12: 3 | C12: 26717.635 | D12: 8905.8784 | E12: 284.9771 | F12: 5.3212649e-20
A13: Residual | B13: 26 | C13: 812.5314 | D13: 31.251208
A14: Total | B14: 29 | C14: 27530.167
B16: Coefficients | C16: Standard Error | D16: t Stat | E16: P-value | F16: Lower 95% | G16: Upper 95% | H16: Lower 95.0% | I16: Upper 95.0%
A17: Intercept | B17: 1004.1966 | C17: 5.5670506 | D17: 180.38215 | E17: 8.3090431e-42 | F17: 992.75332 | G17: 1015.6398 | H17: 992.75332 | I17: 1015.6398 | J17: alpha | K17: Reject H0?
A18: Price ($) | B18: -2.3451386 | C18: 0.33891777 | D18: -6.9194913 | E18: 2.4001804e-07 | F18: -3.041794 | G18: -1.6484831 | H18: -3.041794 | I18: -1.6484831 | J18: 0.05 | K18: =IF(E18<$J$18,"Yes","No") -> Yes
A19: Income (1000s) | B19: 1.5739578 | C19: 0.056646748 | D19: 27.785493 | E19: 7.3337851e-21 | F19: 1.4575188 | G19: 1.6903969 | H19: 1.4575188 | I19: 1.6903969 | K19: =IF(E19<$J$18,"Yes","No") -> Yes
A20: Internet Advertising ($) | B20: -0.0057233959 | C20: 0.012034641 | D20: -0.4755768 | E20: 0.63834735 | F20: -0.030460954 | G20: 0.019014162 | H20: -0.030460954 | I20: 0.019014162 | K20: =IF(E20<$J$18,"Yes","No") -> No
A24: RESIDUAL OUTPUT
A26: Observation | B26: Predicted Quantity (units) | C26: Residuals | D26: Standard Residuals | F26: DW
A27: 1 | B27: 1062.6631 | C27: 2.3368699 | D27: 0.44148246 | F27: =SUMXMY2(D27:D55,D28:D56)/SUMSQ(D27:D56) -> 2.2487557
A28: 2 | B28: 984.50598 | C28: 6.4940171 | D28: 1.2268525
A29: 3 | B29: 994.80528 | C29: 2.1947163 | D29: 0.41462674
A30: 4 | B30: 1000.5574 | C30: 2.4426316 | D30: 0.461463
A31: 5 | B31: 1034.841 | C31: 1.1589635 | D31: 0.21895188
A32: 6 | B32: 1049.0398 | C32: -1.0397547 | D32: -0.19643091
A33: 7 | B33: 1008.3896 | C33: 3.6103974 | D33: 0.68207783
A34: 8 | B34: 990.51119 | C34: -0.51118732 | D34: -0.096573728
A35: 9 | B35: 1035.2056 | C35: -3.205621 | D35: -0.60560729
A36: 10 | B36: 1023.7044 | C36: -8.7044069 | D36: -1.6444403
A37: 11 | B37: 1063.8245 | C37: -2.824533 | D37: -0.53361198
A38: 12 | B38: 1074.8738 | C38: 8.1261661 | D38: 1.5351988
A39: 13 | B39: 1030.7261 | C39: -2.7261022 | D39: -0.5150164
... A56: 30 | B56: 1041.2528 | C56: 8.7471627 | D56: 1.6525177

Sheet Quiz 6
A1: Year | B1: LnP | C1: LnSpeed | D1: LnCapacity | E1: LnDurability | F1: Year 2011 | G1: Year 2012
A2: 2010 | B2: 5.3657345 | C2: 7.5326236 | D2: 8.1089242 | E2: 4.4426513 | F2: =IF(A2=2011,1,0) -> 0 | G2: =IF(A2=2012,1,0) -> 0
A3: 2011 | B3: 5.0779551 | C3: 7.678789 | D3: 8.6215532 | E3: 4.3820266 | F3: =IF(A3=2011,1,0) -> 1 | G3: =IF(A3=2012,1,0) -> 0
A4: 2012 | B4: 4.6983692 | C4: 7.6764736 | D4: 8.5796045 | E4: 4.5108595 | F4: =IF(A4=2011,1,0) -> 0 | G4: =IF(A4=2012,1,0) -> 1
A5: 2010 | B5: 5.2656874 | C5: 7.52564 | D5: 8.2646208 | E5: 4.3820266 | F5: =IF(A5=2011,1,0) -> 0 | G5: =IF(A5=2012,1,0) -> 0
A6: 2011 | B6: 5.1664523 | C6: 7.6893711 | D6: 8.4536142 | E6: 4.3820266 | F6: =IF(A6=2011,1,0) -> 1 | G6: =IF(A6=2012,1,0) -> 0
A7: 2012 | B7: 4.6543227 | C7: 7.6511202 | D7: 8.5235728 | E7: 4.3820266 | F7: =IF(A7=2011,1,0) -> 0 | G7: =IF(A7=2012,1,0) -> 1
A8: 2010 | B8: 5.3507593 | C8: 7.556428 | D8: 8.660254 | E8: 4.5325995 | F8: =IF(A8=2011,1,0) -> 0 | G8: =IF(A8=2012,1,0) -> 0
A9: 2011 | B9: 4.9718849 | C9: 7.5267176 | D9: 8.2236272 | E9: 4.4308168 | F9: =IF(A9=2011,1,0) -> 1 | G9: =IF(A9=2012,1,0) -> 0
A10: 2012 | B10: 4.5197524 | C10: 7.5299434 | D10: 8.6625049 | E10: 4.4426513 | F10: =IF(A10=2011,1,0) -> 0 | G10: =IF(A10=2012,1,0) -> 1
A11: 2012 | B11: 4.4690146 | C11: 7.5766098 | D11: 8.6168575 | E11: 4.5951199 | F11: =IF(A11=2011,1,0) -> 0 | G11: =IF(A11=2012,1,0) -> 1
A12: 2011 | B12: 4.916256 | C12: 7.6143121 | D12: 8.1137261 | E12: 4.4886364 | F12: =IF(A12=2011,1,0) -> 1 | G12: =IF(A12=2012,1,0) -> 0
A13: 2010 | B13: 5.421455 | C13: 7.5082388 | D13: 8.5656023 | E13: 4.5538769 | F13: =IF(A13=2011,1,0) -> 0 | G13: =IF(A13=2012,1,0) -> 0
... A25: 2010 | B25: 5.4510036 | C25: 7.5688957 | D25: 8.6882853 | E25: 4.4886364 | F25: =IF(A25=2011,1,0) -> 0 | G25: =IF(A25=2012,1,0) -> 0

Sheet 24. Normal Residuals
A1: SUMMARY OUTPUT
A3: Regression Statistics
A4: Multiple R | B4: 0.98513237
A5: R Square | B5: 0.97048578
A6: Adjusted R Square | B6: 0.96708029
A7: Standard Error | B7: 5.590278
A8: Observations | B8: 30
A10: ANOVA
B11: df | C11: SS | D11: MS | E11: F | F11: Significance F
A12: Regression | B12: 3 | C12: 26717.635 | D12: 8905.8784 | E12: 284.9771 | F12: 5.3212649e-20
A13: Residual | B13: 26 | C13: 812.5314 | D13: 31.251208
A14: Total | B14: 29 | C14: 27530.167
B16: Coefficients | C16: Standard Error | D16: t Stat | E16: P-value | F16: Lower 95% | G16: Upper 95% | H16: Lower 95.0%
A17: Intercept | B17: 1004.1966 | C17: 5.5670506 | D17: 180.38215 | E17: 8.3090431e-42 | F17: 992.75332 | G17: 1015.6398 | H17: 992.75332 | I17: 1015.6398
A18: Price ($) | B18: -2.3451386 | C18: 0.33891777 | D18: -6.9194913 | E18: 2.4001804e-07 | F18: -3.041794 | G18: -1.6484831 | H18: -3.041794 | I18: -1.6484831
A19: Income (1000s) | B19: 1.5739578 | C19: 0.056646748 | D19: 27.785493 | E19: 7.3337851e-21 | F19: 1.4575188 | G19: 1.6903969 | H19: 1.4575188 | I19: 1.6903969
A20: Internet Advertising ($) | B20: -0.0057233959 | C20: 0.012034641 | D20: -0.4755768 | E20: 0.63834735 | F20: -0.030460954 | G20: 0.019014162 | H20: -0.030460954 | I20: 0.019014162
A24: RESIDUAL OUTPUT
A26: Observation | B26: Predicted Quantity (units) | C26: Residuals | D26: Standard Residuals
A27: 1 | B27: 1062.6631 | C27: 2.3368699 | D27: 0.44148246
A28: 2 | B28: 984.50598 | C28: 6.4940171 | D28: 1.2268525
A29: 3 | B29: 994.80528 | C29: 2.1947163 | D29: 0.41462674
A30: 4 | B30: 1000.5574 | C30: 2.4426316 | D30: 0.461463
A31: 5 | B31: 1034.841 | C31: 1.1589635 | D31: 0.21895188
A32: 6 | B32: 1049.0398 | C32: -1.0397547 | D32: -0.19643091
A33: 7 | B33: 1008.3896 | C33: 3.6103974 | D33: 0.68207783
A34: 8 | B34: 990.51119 | C34: -0.51118732 | D34: -0.096573728
A35: 9 | B35: 1035.2056 | C35: -3.205621 | D35: -0.60560729
A36: 10 | B36: 1023.7044 | C36: -8.7044069 | D36: -1.6444403 | F36: Bins | H36: Bin | I36: Frequency
