Workbook

Sheet Data
A1: Employee | B1: Salary | C1: Merit | D1: Hours/Week | E1: Years in This Position at the Company | F1: Years in That Profession | G1: Raises | H1: Gender
A2: 1 | B2: 54950 | C2: ='Merit Scoresheet'!F4 -> 6.2 | D2: 47 | E2: 2 | F2: 7 | G2: 0 | H2: Male
A3: 2 | B3: 56850 | C3: ='Merit Scoresheet'!F5 -> 4.6 | D3: 48 | E3: 4 | F3: 9 | G3: 2 | H3: Male
A4: 3 | B4: 44250 | C4: ='Merit Scoresheet'!F6 -> 6.4 | D4: 36 | E4: 1 | F4: 3 | G4: 1 | H4: Male
A5: 4 | B5: 49500 | C5: ='Merit Scoresheet'!F7 -> 5.1 | D5: 41 | E5: 9 | F5: 12 | G5: 2 | H5: Female
A6: 5 | B6: 47100 | C6: ='Merit Scoresheet'!F8 -> 5.2 | D6: 41 | E6: 7 | F6: 10 | G6: 0 | H6: Female
A7: 6 | B7: 51250 | C7: ='Merit Scoresheet'!F9 -> 5.9 | D7: 48 | E7: 1 | F7: 3 | G7: 1 | H7: Female
A8: 7 | B8: 52450 | C8: ='Merit Scoresheet'!F10 -> 6.6 | D8: 49 | E8: 3 | F8: 5 | G8: 0 | H8: Female
A9: 8 | B9: 34800 | C9: ='Merit Scoresheet'!F11 -> 8.2 | D9: 30 | E9: 2 | F9: 4 | G9: 1 | H9: Female
A10: 9 | B10: 54350 | C10: ='Merit Scoresheet'!F12 -> 7.1 | D10: 37 | E10: 9 | F10: 9 | G10: 6 | H10: Male
A11: 10 | B11: 56850 | C11: ='Merit Scoresheet'!F13 -> 6.4 | D11: 47 | E11: 9 | F11: 13 | G11: 2 | H11: Female
A12: 11 | B12: 44450 | C12: ='Merit Scoresheet'!F14 -> 5.5 | D12: 34 | E12: 5 | F12: 9 | G12: 5 | H12: Male
A13: 12 | B13: 54450 | C13: ='Merit Scoresheet'!F15 -> 9.1 | D13: 42 | E13: 7 | F13: 9 | G13: 3 | H13: Male
... A31: 30 | B31: 60100 | C31: ='Merit Scoresheet'!F33 -> 6.4 | D31: 49 | E31: 8 | F31: 12 | G31: 1 | H31: Male

Sheet Merit Scoresheet
A1: Categories (Scale 1-10 Score): | B1: Efficiency | C1: Innovation | D1: Interpersonal | E1: Interdepartmental | F1: Total
A2: Weights | B2: 0.4 | C2: 0.1 | D2: 0.3 | E2: 0.2 | F2: =SUM(B2:E2) -> 1
A3: Employee
A4: 1 | B4: 9 | C4: 7 | D4: 3 | E4: 5 | F4: =SUMPRODUCT($B$2:$E$2,B4:E4) -> 6.2
A5: 2 | B5: 5 | C5: 8 | D5: 2 | E5: 6 | F5: =SUMPRODUCT($B$2:$E$2,B5:E5) -> 4.6
A6: 3 | B6: 5 | C6: 7 | D6: 9 | E6: 5 | F6: =SUMPRODUCT($B$2:$E$2,B6:E6) -> 6.4
A7: 4 | B7: 6 | C7: 8 | D7: 1 | E7: 8 | F7: =SUMPRODUCT($B$2:$E$2,B7:E7) -> 5.1
A8: 5 | B8: 6 | C8: 7 | D8: 3 | E8: 6 | F8: =SUMPRODUCT($B$2:$E$2,B8:E8) -> 5.2
A9: 6 | B9: 3 | C9: 8 | D9: 7 | E9: 9 | F9: =SUMPRODUCT($B$2:$E$2,B9:E9) -> 5.9
A10: 7 | B10: 5 | C10: 10 | D10: 8 | E10: 6 | F10: =SUMPRODUCT($B$2:$E$2,B10:E10) -> 6.6
A11: 8 | B11: 10 | C11: 10 | D11: 4 | E11: 10 | F11: =SUMPRODUCT($B$2:$E$2,B11:E11) -> 8.2
A12: 9 | B12: 4 | C12: 5 | D12: 10 | E12: 10 | F12: =SUMPRODUCT($B$2:$E$2,B12:E12) -> 7.1
A13: 10 | B13: 3 | C13: 2 | D13: 10 | E13: 10 | F13: =SUMPRODUCT($B$2:$E$2,B13:E13) -> 6.4
A14: 11 | B14: 4 | C14: 10 | D14: 7 | E14: 4 | F14: =SUMPRODUCT($B$2:$E$2,B14:E14) -> 5.5
A15: 12 | B15: 10 | C15: 6 | D15: 9 | E15: 9 | F15: =SUMPRODUCT($B$2:$E$2,B15:E15) -> 9.1
... A33: 30 | B33: 7 | C33: 9 | D33: 5 | E33: 6 | F33: =SUMPRODUCT($B$2:$E$2,B33:E33) -> 6.4

Sheet Descriptive Statistics
A3: Row Labels | B3: Average of Salary | C3: Average of Merit | D3: Average of Hours/Week | E3: Average of Years in That Profession | F3: Average of Raises | G3: Average of Years in This Position at the Company
A4: Female | B4: 46512.5 | C4: 5.15625 | D4: 40.3125 | E4: 8.375 | F4: 2.0625 | G4: 5.3125
A5: Male | B5: 53528.571 | C5: 5.5214286 | D5: 42.357143 | E5: 8.4285714 | F5: 2.7142857 | G5: 5.4285714
A6: Grand Total | B6: 49786.667 | C6: 5.3266667 | D6: 41.266667 | E6: 8.4 | F6: 2.3666667 | G6: 5.3666667

Sheet Gregory's Data
A1: Employee | B1: Salary | C1: Merit | D1: Hours/Week | E1: Years in This Position at the Company | F1: Years in That Profession | G1: Male Raises | H1: Female Raises | I1: Female (Yes = 1) | J1: Gender | K1: Raises
A2: 1 | B2: 54950 | C2: ='Merit Scoresheet'!F4 -> 6.2 | D2: 47 | E2: 2 | F2: 7 | G2: =IF(I2=0,K2,0) -> 0 | H2: =IF(I2=1,K2,0) -> 0 | I2: =IF(J2="female",1,0) -> 0 | J2: Male | K2: 0
A3: 2 | B3: 56850 | C3: ='Merit Scoresheet'!F5 -> 4.6 | D3: 48 | E3: 4 | F3: 9 | G3: =IF(I3=0,K3,0) -> 2 | H3: =IF(I3=1,K3,0) -> 0 | I3: =IF(J3="female",1,0) -> 0 | J3: Male | K3: 2
A4: 3 | B4: 44250 | C4: ='Merit Scoresheet'!F6 -> 6.4 | D4: 36 | E4: 1 | F4: 3 | G4: =IF(I4=0,K4,0) -> 1 | H4: =IF(I4=1,K4,0) -> 0 | I4: =IF(J4="female",1,0) -> 0 | J4: Male | K4: 1
A5: 4 | B5: 49500 | C5: ='Merit Scoresheet'!F7 -> 5.1 | D5: 41 | E5: 9 | F5: 12 | G5: =IF(I5=0,K5,0) -> 0 | H5: =IF(I5=1,K5,0) -> 2 | I5: =IF(J5="female",1,0) -> 1 | J5: Female | K5: 2
A6: 5 | B6: 47100 | C6: ='Merit Scoresheet'!F8 -> 5.2 | D6: 41 | E6: 7 | F6: 10 | G6: =IF(I6=0,K6,0) -> 0 | H6: =IF(I6=1,K6,0) -> 0 | I6: =IF(J6="female",1,0) -> 1 | J6: Female | K6: 0
A7: 6 | B7: 51250 | C7: ='Merit Scoresheet'!F9 -> 5.9 | D7: 48 | E7: 1 | F7: 3 | G7: =IF(I7=0,K7,0) -> 0 | H7: =IF(I7=1,K7,0) -> 1 | I7: =IF(J7="female",1,0) -> 1 | J7: Female | K7: 1
A8: 7 | B8: 52450 | C8: ='Merit Scoresheet'!F10 -> 6.6 | D8: 49 | E8: 3 | F8: 5 | G8: =IF(I8=0,K8,0) -> 0 | H8: =IF(I8=1,K8,0) -> 0 | I8: =IF(J8="female",1,0) -> 1 | J8: Female | K8: 0
A9: 8 | B9: 34800 | C9: ='Merit Scoresheet'!F11 -> 8.2 | D9: 30 | E9: 2 | F9: 4 | G9: =IF(I9=0,K9,0) -> 0 | H9: =IF(I9=1,K9,0) -> 1 | I9: =IF(J9="female",1,0) -> 1 | J9: Female | K9: 1
A10: 9 | B10: 54350 | C10: ='Merit Scoresheet'!F12 -> 7.1 | D10: 37 | E10: 9 | F10: 9 | G10: =IF(I10=0,K10,0) -> 6 | H10: =IF(I10=1,K10,0) -> 0 | I10: =IF(J10="female",1,0) -> 0 | J10: Male | K10: 6
A11: 10 | B11: 56850 | C11: ='Merit Scoresheet'!F13 -> 6.4 | D11: 47 | E11: 9 | F11: 13 | G11: =IF(I11=0,K11,0) -> 0 | H11: =IF(I11=1,K11,0) -> 2 | I11: =IF(J11="female",1,0) -> 1 | J11: Female | K11: 2
A12: 11 | B12: 44450 | C12: ='Merit Scoresheet'!F14 -> 5.5 | D12: 34 | E12: 5 | F12: 9 | G12: =IF(I12=0,K12,0) -> 5 | H12: =IF(I12=1,K12,0) -> 0 | I12: =IF(J12="female",1,0) -> 0 | J12: Male | K12: 5
A13: 12 | B13: 54450 | C13: ='Merit Scoresheet'!F15 -> 9.1 | D13: 42 | E13: 7 | F13: 9 | G13: =IF(I13=0,K13,0) -> 3 | H13: =IF(I13=1,K13,0) -> 0 | I13: =IF(J13="female",1,0) -> 0 | J13: Male | K13: 3
... A31: 30 | B31: 60100 | C31: ='Merit Scoresheet'!F33 -> 6.4 | D31: 49 | E31: 8 | F31: 12 | G31: =IF(I31=0,K31,0) -> 1 | H31: =IF(I31=1,K31,0) -> 0 | I31: =IF(J31="female",1,0) -> 0 | J31: Male | K31: 1

Sheet Correlation Matrix
B1: Salary | C1: Merit | D1: Hours/Week | E1: Years in This Position at the Company | F1: Years in That Profession | G1: Male Raises | H1: Female Raises | I1: Female (Yes = 1)
A2: Salary | B2: 1
A3: Merit | B3: 0.077490799 | C3: 1
A4: Hours/Week | B4: 0.87977514 | C4: -0.073909352 | D4: 1
A5: Years in This Position at the Company | B5: 0.18655937 | C5: -0.081579407 | D5: -0.046093331 | E5: 1
A6: Years in That Profession | B6: 0.256007 | C6: -0.17761324 | D6: 0.098990848 | E6: 0.8988923 | F6: 1
A7: Male Raises | B7: 0.51238897 | C7: 0.066009553 | D7: 0.21144943 | E7: 0.21063558 | F7: 0.22027532 | G7: 1
A8: Female Raises | B8: -0.20844073 | C8: -0.36087639 | D8: -0.06370394 | E8: 0.19215499 | F8: 0.2189088 | G8: -0.42966537 | H8: 1
A9: Female (Yes = 1) | B9: -0.46275725 | C9: -0.12318419 | D9: -0.15918384 | E9: -0.01978565 | F9: -0.0079717345 | G9: -0.64103644 | H9: 0.67026668 | I9: 1

Sheet Run 1
A1: SUMMARY OUTPUT
A3: Regression Statistics
A4: Multiple R | B4: 0.9821425
A5: R Square | B5: 0.96460388
A6: Adjusted R Square | B6: 0.95334148
A7: Standard Error | B7: 1661.7689
A8: Observations | B8: 30
A10: ANOVA
B11: df | C11: SS | D11: MS | E11: F | F11: Significance F
A12: Regression | B12: 7 | C12: 1.6556072e+09 | D12: 2.3651531e+08 | E12: 85.648155 | F12: 1.7516266e-14
A13: Residual | B13: 22 | C13: 60752469 | D13: 2761475.9
A14: Total | B14: 29 | C14: 1.7163597e+09
B16: Coefficients | C16: Standard Error | D16: t Stat | E16: P-value | F16: Lower 95% | G16: Upper 95% | H16: Lower 98.0% | I16: Upper 98.0%
A17: Intercept | B17: 4140.8196 | C17: 2614.0342 | D17: 1.5840724 | E17: 0.12744784 | F17: -1280.3556 | G17: 9561.9947 | H17: -2416.0266 | I17: 10697.666
A18: Merit | B18: 732.7059 | C18: 228.30649 | D18: 3.2093082 | E18: 0.0040424217 | F18: 259.22721 | G18: 1206.1846 | H18: 160.03912 | I18: 1305.3727
A19: Hours/Week | B19: 995.06807 | C19: 51.369737 | D19: 19.370706 | E19: 2.5963827e-15 | F19: 888.53375 | G19: 1101.6024 | H19: 866.2161 | I19: 1123.92
A20: Years in This Position at the Company | B20: 726.75734 | C20: 254.41523 | D20: 2.8565796 | E20: 0.0091736976 | F20: 199.13246 | G20: 1254.3822 | H20: 88.601387 | I20: 1364.9133
A21: Years in That Profession | B21: -277.36868 | C21: 224.88097 | D21: -1.2334022 | E21: 0.23044192 | F21: -743.74327 | G21: 189.00591 | H21: -841.44314 | I21: 286.70578
A22: Male Raises | B22: 584.4985 | C22: 197.69684 | D22: 2.9565394 | E22: 0.0072919434 | F22: 174.50035 | G22: 994.49665 | H22: 88.610664 | I22: 1080.3863
A23: Female Raises | B23: 672.45526 | C23: 300.00059 | D23: 2.2415131 | E23: 0.035406987 | F23: 50.292113 | G23: 1294.6184 | H23: -80.04359 | I23: 1424.9541
A24: Female (Yes = 1) | B24: -4444.8904 | C24: 976.61198 | D24: -4.5513372 | E24: 0.00015691761 | F24: -6470.2597 | G24: -2419.5212 | H24: -6894.5503 | I24: -1995.2306
A28: RESIDUAL OUTPUT
A30: Observation | B30: Predicted Salary | C30: Residuals | D30: Standard Residuals
A31: 1 | B31: 54963.729 | C31: -13.729182 | D31: -0.0094855319
A32: 2 | B32: 56854.242 | C32: -4.242132 | D32: -0.0029309014
A33: 3 | B33: 45131.738 | C33: -881.73751 | D33: -0.60919503
A34: 4 | B34: 48787.822 | C34: 712.17764 | D34: 0.49204561
A35: 5 | B35: 46617.405 | C35: 482.59489 | D35: 0.33342622
A36: 6 | B36: 52349.268 | C36: -1099.2677 | D36: -0.75948726
A37: 7 | B37: 54083.552 | C37: -1633.5519 | D37: -1.1286258
A38: 8 | B38: 36572.655 | C38: -1772.6547 | D38: -1.2247323
A39: 9 | B39: 53712.039 | C39: 637.96114 | D39: 0.44076921
A40: 10 | B40: 55433.38 | C40: 1416.6202 | D40: 0.97874707
A41: 11 | B41: 46062.977 | C41: -1612.9774 | D41: -1.1144108
A42: 12 | B42: 56945.781 | C42: -2495.7808 | D42: -1.7243423
... A60: 30 | B60: 60658.606 | C60: -558.60564 | D60: -0.38594227

Sheet Run 2
A1: SUMMARY OUTPUT
A3: Regression Statistics
A4: Multiple R | B4: 0.98089565
A5: R Square | B5: 0.96215627
A6: Adjusted R Square | B6: 0.95228399
A7: Standard Error | B7: 1680.4949
A8: Observations | B8: 30
A10: ANOVA
B11: df | C11: SS | D11: MS | E11: F | F11: Significance F
A12: Regression | B12: 6 | C12: 1.6514062e+09 | D12: 2.7523437e+08 | E12: 97.460419 | F12: 3.4863226e-15
A13: Residual | B13: 23 | C13: 64953450 | D13: 2824063.1
A14: Total | B14: 29 | C14: 1.7163597e+09
B16: Coefficients | C16: Standard Error | D16: t Stat | E16: P-value | F16: Lower 95% | G16: Upper 95% | H16: Lower 98.0% | I16: Upper 98.0%
A17: Intercept | B17: 3885.4613 | C17: 2635.1868 | D17: 1.4744538 | E17: 0.15391682 | F17: -1565.8379 | G17: 9336.7604 | H17: -2702.1545 | I17: 10473.077
A18: Merit | B18: 786.96276 | C18: 226.55301 | D18: 3.4736362 | E18: 0.0020559268 | F18: 318.30214 | G18: 1255.6234 | H18: 220.61041 | I18: 1353.3151
A19: Hours/Week | B19: 976.05347 | C19: 49.554077 | D19: 19.696734 | E19: 6.7452492e-16 | F19: 873.54305 | G19: 1078.5639 | H19: 852.17488 | I19: 1099.9321
A20: Years in This Position at the Company | B20: 445.46513 | C20: 114.03065 | D20: 3.9065387 | E20: 0.00070931585 | F20: 209.57477 | G20: 681.35549 | H20: 160.40371 | I20: 730.52655
A21: Male Raises | B21: 566.21742 | C21: 199.36197 | D21: 2.8401476 | E21: 0.0092719084 | F21: 153.80576 | G21: 978.62908 | H21: 67.839059 | I21: 1064.5958
A22: Female Raises | B22: 658.43643 | C22: 303.1634 | D22: 2.1718863 | E22: 0.040424693 | F22: 31.295163 | G22: 1285.5777 | H22: -99.431661 | I22: 1416.3045
A23: Female (Yes = 1) | B23: -4502.4522 | C23: 986.48884 | D23: -4.5641188 | E23: 0.00013794856 | F23: -6543.1599 | G23: -2461.7446 | H23: -6968.5429 | I23: -2036.3616
A27: RESIDUAL OUTPUT
A29: Observation | B29: Predicted Salary | C29: Residuals | D29: Standard Residuals | F29: Standard Residuals | G29: Frequency
A30: 1 | B30: 55530.074 | C30: -580.07384 | D30: -0.38759768 | F30: -3 | G30: 0
A31: 2 | B31: 57270.352 | C31: -420.352 | D31: -0.28087365 | F31: -2 | G31: 0
A32: 3 | B32: 45071.63 | C32: -821.63048 | D32: -0.54900264 | F32: -1 | G32: 6
A33: 4 | B33: 48740.77 | C33: 759.2295 | D33: 0.50730713 | F33: 0 | G33: 9
A34: 5 | B34: 46611.664 | C34: 488.33635 | D34: 0.3262999 | F34: 1 | G34: 9
A35: 6 | B35: 51980.558 | C35: -730.55754 | D35: -0.4881489 | F35: 2 | G35: 6
A36: 7 | B36: 53739.979 | C36: -1289.9788 | D36: -0.86194678 | F36: 3 | G36: 0
A37: 8 | B37: 36667.075 | C37: -1867.0745 | D37: -1.2475545 | F37: More | G37: 0
A38: 9 | B38: 52993.366 | C38: 1356.634 | D38: 0.90648491
A39: 10 | B39: 55620.143 | C39: 1229.8571 | D39: 0.82177426
A40: 11 | B40: 46457.987 | C40: -2007.9872 | D40: -1.3417106
A41: 12 | B41: 56857.976 | C41: -2407.9764 | D41: -1.608978
A42: 13 | B42: 51671.085 | C42: -1271.0846 | D42: -0.84932195
A43: 14 | B43: 49149.585 | C43: 1950.4148 | D43: 1.3032414
A44: 15 | B44: 41580.515 | C44: 269.48451 | D44: 0.18006599
A45: 16 | B45: 55245.976 | C45: 1754.0243 | D45: 1.1720159
A46: 17 | B46: 43839.539 | C46: -2039.5393 | D46: -1.3627932
A47: 18 | B47: 42164.444 | C47: 685.55594 | D47: 0.45807942
A48: 19 | B48: 44038.221 | C48: 2461.779 | D48: 1.6449282
A49: 20 | B49: 63425.571 | C49: 1374.4295 | D49: 0.91837564
... A59: 30 | B59: 60878.582 | C59: -778.58154 | D59: -0.5202379
